BEGIN:VCALENDAR
VERSION:2.0
PRODID:-//Indian Link - ECPv6.15.20//NONSGML v1.0//EN
CALSCALE:GREGORIAN
METHOD:PUBLISH
X-ORIGINAL-URL:https://www.indianlink.com.au
X-WR-CALDESC:Events for Indian Link
REFRESH-INTERVAL;VALUE=DURATION:PT1H
X-Robots-Tag:noindex
X-PUBLISHED-TTL:PT1H
BEGIN:VTIMEZONE
TZID:Australia/Sydney
BEGIN:STANDARD
TZOFFSETFROM:+1100
TZOFFSETTO:+1000
TZNAME:AEST
DTSTART:20250405T160000
END:STANDARD
BEGIN:DAYLIGHT
TZOFFSETFROM:+1000
TZOFFSETTO:+1100
TZNAME:AEDT
DTSTART:20251004T160000
END:DAYLIGHT
BEGIN:STANDARD
TZOFFSETFROM:+1100
TZOFFSETTO:+1000
TZNAME:AEST
DTSTART:20260404T160000
END:STANDARD
BEGIN:DAYLIGHT
TZOFFSETFROM:+1000
TZOFFSETTO:+1100
TZNAME:AEDT
DTSTART:20261003T160000
END:DAYLIGHT
BEGIN:STANDARD
TZOFFSETFROM:+1100
TZOFFSETTO:+1000
TZNAME:AEST
DTSTART:20270403T160000
END:STANDARD
BEGIN:DAYLIGHT
TZOFFSETFROM:+1000
TZOFFSETTO:+1100
TZNAME:AEDT
DTSTART:20271002T160000
END:DAYLIGHT
END:VTIMEZONE
BEGIN:VEVENT
DTSTART;TZID=Australia/Sydney:20260302T070000
DTEND;TZID=Australia/Sydney:20260306T190000
DTSTAMP:20260423T082018
CREATED:20260225T015243Z
LAST-MODIFIED:20260225T015243Z
UID:10008847-1772434800-1772823600@www.indianlink.com.au
SUMMARY:Holi Hai by South Eveleigh
DESCRIPTION:This March\, South Eveleigh invites Sydney to step into a vibrant celebration of Holi as part of its Colour. Culture. Connection. cultural activation — uniting Lunar New Year\, Mardi Gras and Holi Hai across one dynamic precinct. \nFrom Monday 2 March to Friday 6 March 2026\, Holi Hai will transform the space into a joyful hub of rhythm\, artistry and colour\, welcoming everyone to participate in the festivities. \nHighlights include: \n🥁 Dhol Drum Game Studio (2–6 March\, 7am–10pm)A digital drumming experience across Innovation Plaza\, Village Green and Interchange Pavilion\, where visitors can test their rhythm solo or challenge friends in a playful nod to Holi traditions. \n🎨 Henna Artistry\, Turban Tying & Live Performances (Tuesday 3 March\, 11am–2pm & 4pm–7pm)Skilled cultural artisans will offer intricate henna designs and traditional turban tying\, alongside vibrant performances that bring the spirit of Holi to life. \n🌈 Colour Throwing Festival (Tuesday 3 March\, 4pm–7pm)A free\, high-energy celebration at Innovation Plaza near BrewDog\, featuring joyful colour play\, music and festive performances. \nDesigned as a sensory-rich\, immersive experience\, Holi Hai at South Eveleigh encourages Sydneysiders to explore culture through participation — whether that’s drumming to a new beat\, wearing tradition with pride\, or joining in the iconic colour toss. \nThe event is free and open to all\, celebrating diversity\, shared experience and community connection in the heart of Sydney.
URL:https://www.indianlink.com.au/whats-on/holi-hai-by-south-eveleigh/
LOCATION:South Eveleigh\, Locomotive St\, Eveleigh\, Sydney\, NSW\, 2015\, Australia
CATEGORIES:Community,Festival,Happening in Sydney
ATTACH;FMTTYPE=image/jpeg:https://p9dzm74w.tinifycdn.com/wp-content/uploads/2026/02/holi-hai.jpg
GEO:-33.8955159;151.1947341
X-APPLE-STRUCTURED-LOCATION;VALUE=URI;X-ADDRESS=South Eveleigh Locomotive St Eveleigh Sydney NSW 2015 Australia;X-APPLE-RADIUS=500;X-TITLE=Locomotive St\, Eveleigh:geo:151.1947341,-33.8955159
END:VEVENT
END:VCALENDAR