BEGIN:VCALENDAR
VERSION:2.0
PRODID:-//Indian Link - ECPv6.15.20//NONSGML v1.0//EN
CALSCALE:GREGORIAN
METHOD:PUBLISH
X-ORIGINAL-URL:https://www.indianlink.com.au
X-WR-CALDESC:Events for Indian Link
REFRESH-INTERVAL;VALUE=DURATION:PT1H
X-Robots-Tag:noindex
X-PUBLISHED-TTL:PT1H
BEGIN:VTIMEZONE
TZID:Australia/Sydney
BEGIN:STANDARD
TZOFFSETFROM:+1100
TZOFFSETTO:+1000
TZNAME:AEST
DTSTART:20240406T160000
END:STANDARD
BEGIN:DAYLIGHT
TZOFFSETFROM:+1000
TZOFFSETTO:+1100
TZNAME:AEDT
DTSTART:20241005T160000
END:DAYLIGHT
BEGIN:STANDARD
TZOFFSETFROM:+1100
TZOFFSETTO:+1000
TZNAME:AEST
DTSTART:20250405T160000
END:STANDARD
BEGIN:DAYLIGHT
TZOFFSETFROM:+1000
TZOFFSETTO:+1100
TZNAME:AEDT
DTSTART:20251004T160000
END:DAYLIGHT
BEGIN:STANDARD
TZOFFSETFROM:+1100
TZOFFSETTO:+1000
TZNAME:AEST
DTSTART:20260404T160000
END:STANDARD
BEGIN:DAYLIGHT
TZOFFSETFROM:+1000
TZOFFSETTO:+1100
TZNAME:AEDT
DTSTART:20261003T160000
END:DAYLIGHT
END:VTIMEZONE
BEGIN:VEVENT
DTSTART;TZID=Australia/Sydney:20250917T080000
DTEND;TZID=Australia/Sydney:20250920T170000
DTSTAMP:20260424T052242
CREATED:20250917T031309Z
LAST-MODIFIED:20250917T031309Z
UID:10008617-1758096000-1758387600@www.indianlink.com.au
SUMMARY:Sid Pattni: A Knot in the Thread
DESCRIPTION:Flinders Lane Gallery is delighted to be exhibiting the first Melbourne solo exhibition for award winning emerging artist\, Sid Pattni\, who was the recipient of the 2024 FLG Emerging Artist Award. \nA Knot in the Thread continues Pattni’s interrogation of how colonial aesthetics continue to shape diasporic self-perception. His intricately layered canvases borrow visual languages from Mughal miniatures\, Company paintings\, and botanical illustrations\, not in homage\, but as a form of critical reclaiming. They attempt to reassemble fractured histories\, to acknowledge how images once used to categorise and control can be repurposed to tell stories of resilience\, hybridity and becoming.
URL:https://www.indianlink.com.au/whats-on/sid-pattni-a-knot-in-the-thread/
LOCATION:Flinders Lane Gallery\, Level 1/37 Swanston St\, Melbourne\, Vic\, 3000\, Australia
CATEGORIES:Arts,Happening in Melbourne
ATTACH;FMTTYPE=image/jpeg:https://p9dzm74w.tinifycdn.com/wp-content/uploads/2025/09/Sid-Pattni-1.jpg
GEO:-37.8167587;144.9668459
X-APPLE-STRUCTURED-LOCATION;VALUE=URI;X-ADDRESS=Flinders Lane Gallery Level 1/37 Swanston St Melbourne Vic 3000 Australia;X-APPLE-RADIUS=500;X-TITLE=Level 1/37 Swanston St:geo:144.9668459,-37.8167587
END:VEVENT
END:VCALENDAR