BEGIN:VCALENDAR
VERSION:2.0
PRODID:-//Indian Link - ECPv6.15.20//NONSGML v1.0//EN
CALSCALE:GREGORIAN
METHOD:PUBLISH
X-WR-CALNAME:Indian Link
X-ORIGINAL-URL:https://www.indianlink.com.au
X-WR-CALDESC:Events for Indian Link
REFRESH-INTERVAL;VALUE=DURATION:PT1H
X-Robots-Tag:noindex
X-PUBLISHED-TTL:PT1H
BEGIN:VTIMEZONE
TZID:Australia/Sydney
BEGIN:STANDARD
TZOFFSETFROM:+1100
TZOFFSETTO:+1000
TZNAME:AEST
DTSTART:20250405T160000
END:STANDARD
BEGIN:DAYLIGHT
TZOFFSETFROM:+1000
TZOFFSETTO:+1100
TZNAME:AEDT
DTSTART:20251004T160000
END:DAYLIGHT
BEGIN:STANDARD
TZOFFSETFROM:+1100
TZOFFSETTO:+1000
TZNAME:AEST
DTSTART:20260404T160000
END:STANDARD
BEGIN:DAYLIGHT
TZOFFSETFROM:+1000
TZOFFSETTO:+1100
TZNAME:AEDT
DTSTART:20261003T160000
END:DAYLIGHT
BEGIN:STANDARD
TZOFFSETFROM:+1100
TZOFFSETTO:+1000
TZNAME:AEST
DTSTART:20270403T160000
END:STANDARD
BEGIN:DAYLIGHT
TZOFFSETFROM:+1000
TZOFFSETTO:+1100
TZNAME:AEDT
DTSTART:20271002T160000
END:DAYLIGHT
END:VTIMEZONE
BEGIN:VEVENT
DTSTART;TZID=Australia/Sydney:20260126T090000
DTEND;TZID=Australia/Sydney:20260126T110000
DTSTAMP:20260423T160347
CREATED:20260122T205438Z
LAST-MODIFIED:20260122T205438Z
UID:10008754-1769418000-1769425200@www.indianlink.com.au
SUMMARY:77th Republic Day Celebration - Melbourne
DESCRIPTION:The 77th Republic Day Celebration in Melbourne is a special opportunity for the Indian community and friends of India to come together and honour the values of democracy\, unity and constitutional pride. Hosted by the Consulate General of India\, Melbourne\, the event will take place on Monday\, 26 January 2026\, at 344 St Kilda Road\, bringing people together for a meaningful morning of reflection\, tradition and community spirit. It’s a moment to celebrate India’s journey as a republic\, reconnect with shared heritage\, and mark the day with pride alongside fellow community members in a warm and inclusive setting.
URL:https://www.indianlink.com.au/whats-on/77th-republic-day-celebration-melbourne/
LOCATION:344 St Kilda Road Melbourne\, Melbourne\, VIC\, 3004\, Australia
CATEGORIES:Community,Happening in Sydney
ATTACH;FMTTYPE=image/jpeg:https://p9dzm74w.tinifycdn.com/wp-content/uploads/2026/01/WhatsApp-Image-2026-01-22-at-4.32.27-PM.jpeg
GEO:-37.8301583;144.9804594
END:VEVENT
END:VCALENDAR