BEGIN:VCALENDAR
VERSION:2.0
PRODID:-//Indian Link - ECPv6.15.20//NONSGML v1.0//EN
CALSCALE:GREGORIAN
METHOD:PUBLISH
X-ORIGINAL-URL:https://www.indianlink.com.au
X-WR-CALDESC:Events for Indian Link
REFRESH-INTERVAL;VALUE=DURATION:PT1H
X-Robots-Tag:noindex
X-PUBLISHED-TTL:PT1H
BEGIN:VTIMEZONE
TZID:Australia/Sydney
BEGIN:STANDARD
TZOFFSETFROM:+1100
TZOFFSETTO:+1000
TZNAME:AEST
DTSTART:20250405T160000
END:STANDARD
BEGIN:DAYLIGHT
TZOFFSETFROM:+1000
TZOFFSETTO:+1100
TZNAME:AEDT
DTSTART:20251004T160000
END:DAYLIGHT
BEGIN:STANDARD
TZOFFSETFROM:+1100
TZOFFSETTO:+1000
TZNAME:AEST
DTSTART:20260404T160000
END:STANDARD
BEGIN:DAYLIGHT
TZOFFSETFROM:+1000
TZOFFSETTO:+1100
TZNAME:AEDT
DTSTART:20261003T160000
END:DAYLIGHT
BEGIN:STANDARD
TZOFFSETFROM:+1100
TZOFFSETTO:+1000
TZNAME:AEST
DTSTART:20270403T160000
END:STANDARD
BEGIN:DAYLIGHT
TZOFFSETFROM:+1000
TZOFFSETTO:+1100
TZNAME:AEDT
DTSTART:20271002T160000
END:DAYLIGHT
END:VTIMEZONE
BEGIN:VEVENT
DTSTART;TZID=Australia/Sydney:20260206T193000
DTEND;TZID=Australia/Sydney:20260206T203000
DTSTAMP:20260423T170959
CREATED:20260204T045731Z
LAST-MODIFIED:20260204T045731Z
UID:10008767-1770406200-1770409800@www.indianlink.com.au
SUMMARY:Mixed Race Tape
DESCRIPTION:A raw and powerful autobiographical performance from South-Australian hip-hop artist Kultar Ahluwalia. \n\n\nMixing hip-hop\, archival audio\, family interviews and spoken word\, Kultar explores identity\, masculinity\, mixed-culture family life and fatherhood. With Punjabi and Irish roots\, he shares the moments that shaped him and the connections that tie us together. \nA true DIY creator\, Kultar writes\, produces\, and records from his home studio. Rapper\, singer\, poet and producer\, he brings an honest and dynamic voice to the stage. \nKultar will be joined by special guest\, John Bartlett\, on keys.
URL:https://www.indianlink.com.au/whats-on/mixed-race-tape/
LOCATION:Riverside Theatre\, Corner Church and Market Streets\, Parramatta New South Wales 2150
CATEGORIES:Arts,Happening in Sydney
ATTACH;FMTTYPE=image/jpeg:https://p9dzm74w.tinifycdn.com/wp-content/uploads/2026/02/MixedRaceTape_webbanner_760x560.jpg
GEO:-33.814785;151.0017218
X-APPLE-STRUCTURED-LOCATION;VALUE=URI;X-ADDRESS=Riverside Theatre Corner Church and Market Streets Parramatta New South Wales 2150;X-APPLE-RADIUS=500;X-TITLE=Corner Church and Market Streets\, Parramatta New South Wales 2150:geo:151.0017218,-33.814785
END:VEVENT
END:VCALENDAR