BEGIN:VCALENDAR
VERSION:2.0
PRODID:-//Indian Link - ECPv6.15.20//NONSGML v1.0//EN
CALSCALE:GREGORIAN
METHOD:PUBLISH
X-WR-CALNAME:Indian Link
X-ORIGINAL-URL:https://www.indianlink.com.au
X-WR-CALDESC:Events for Indian Link
REFRESH-INTERVAL;VALUE=DURATION:PT1H
X-Robots-Tag:noindex
X-PUBLISHED-TTL:PT1H
BEGIN:VTIMEZONE
TZID:Australia/Sydney
BEGIN:STANDARD
TZOFFSETFROM:+1100
TZOFFSETTO:+1000
TZNAME:AEST
DTSTART:20240406T160000
END:STANDARD
BEGIN:DAYLIGHT
TZOFFSETFROM:+1000
TZOFFSETTO:+1100
TZNAME:AEDT
DTSTART:20241005T160000
END:DAYLIGHT
BEGIN:STANDARD
TZOFFSETFROM:+1100
TZOFFSETTO:+1000
TZNAME:AEST
DTSTART:20250405T160000
END:STANDARD
BEGIN:DAYLIGHT
TZOFFSETFROM:+1000
TZOFFSETTO:+1100
TZNAME:AEDT
DTSTART:20251004T160000
END:DAYLIGHT
BEGIN:STANDARD
TZOFFSETFROM:+1100
TZOFFSETTO:+1000
TZNAME:AEST
DTSTART:20260404T160000
END:STANDARD
BEGIN:DAYLIGHT
TZOFFSETFROM:+1000
TZOFFSETTO:+1100
TZNAME:AEDT
DTSTART:20261003T160000
END:DAYLIGHT
END:VTIMEZONE
BEGIN:VEVENT
DTSTART;TZID=Australia/Sydney:20250927T183000
DTEND;TZID=Australia/Sydney:20250927T200000
DTSTAMP:20260423T232139
CREATED:20250820T031131Z
LAST-MODIFIED:20250820T031131Z
UID:10008455-1758997800-1759003200@www.indianlink.com.au
SUMMARY:Annie Louey & Maitreyi Karanth: Daughter from Another Otter - Sydney Fringe
DESCRIPTION:Get ready for double the laughs as comedy powerhouses Annie Louey and Maitreyi Karanth team up for their high-energy stand-up show\, Daughter from Another Otter. With 30 minutes each to deliver their freshest material\, this dynamic duo promises a night packed with wit\, warmth\, and punchlines that land. \nThe two first bonded while performing in Hong Kong’s buzzing comedy scene\, and their friendship has blossomed into a unique stage chemistry. Annie\, a familiar face on Australian TV and radio\, brings sharp storytelling and cheeky observations\, while Maitreyi\, making her Australian debut\, delivers fearless\, globally-informed comedy with heart. Together\, they’re “otterly” hilarious.
URL:https://www.indianlink.com.au/whats-on/annie-louey-maitreyi-karanth-daughter-from-another-otter-sydney-fringe/2025-09-27/
LOCATION:Factory Theatre\, 105 Victoria Road\, Marrickville\, NSW\, 2204\, Australia
CATEGORIES:Arts,Happening in Sydney
ATTACH;FMTTYPE=image/jpeg:https://p9dzm74w.tinifycdn.com/wp-content/uploads/2025/08/06-20-2025-131548-9715.jpg
GEO:-33.9086291;151.1548847
X-APPLE-STRUCTURED-LOCATION;VALUE=URI;X-ADDRESS=Factory Theatre 105 Victoria Road Marrickville NSW 2204 Australia;X-APPLE-RADIUS=500;X-TITLE=105 Victoria Road:geo:151.1548847,-33.9086291
END:VEVENT
BEGIN:VEVENT
DTSTART;TZID=Australia/Sydney:20250928T173000
DTEND;TZID=Australia/Sydney:20250928T190000
DTSTAMP:20260423T232139
CREATED:20250820T031131Z
LAST-MODIFIED:20250820T031131Z
UID:10008456-1759080600-1759086000@www.indianlink.com.au
SUMMARY:Annie Louey & Maitreyi Karanth: Daughter from Another Otter - Sydney Fringe
DESCRIPTION:Get ready for double the laughs as comedy powerhouses Annie Louey and Maitreyi Karanth team up for their high-energy stand-up show\, Daughter from Another Otter. With 30 minutes each to deliver their freshest material\, this dynamic duo promises a night packed with wit\, warmth\, and punchlines that land. \nThe two first bonded while performing in Hong Kong’s buzzing comedy scene\, and their friendship has blossomed into a unique stage chemistry. Annie\, a familiar face on Australian TV and radio\, brings sharp storytelling and cheeky observations\, while Maitreyi\, making her Australian debut\, delivers fearless\, globally-informed comedy with heart. Together\, they’re “otterly” hilarious.
URL:https://www.indianlink.com.au/whats-on/annie-louey-maitreyi-karanth-daughter-from-another-otter-sydney-fringe/2025-09-28/
LOCATION:Factory Theatre\, 105 Victoria Road\, Marrickville\, NSW\, 2204\, Australia
CATEGORIES:Arts,Happening in Sydney
ATTACH;FMTTYPE=image/jpeg:https://p9dzm74w.tinifycdn.com/wp-content/uploads/2025/08/06-20-2025-131548-9715.jpg
GEO:-33.9086291;151.1548847
X-APPLE-STRUCTURED-LOCATION;VALUE=URI;X-ADDRESS=Factory Theatre 105 Victoria Road Marrickville NSW 2204 Australia;X-APPLE-RADIUS=500;X-TITLE=105 Victoria Road:geo:151.1548847,-33.9086291
END:VEVENT
END:VCALENDAR