BEGIN:VCALENDAR
VERSION:2.0
PRODID:-//Indian Link - ECPv6.15.20//NONSGML v1.0//EN
CALSCALE:GREGORIAN
METHOD:PUBLISH
X-WR-CALNAME:Indian Link
X-ORIGINAL-URL:https://www.indianlink.com.au
X-WR-CALDESC:Events for Indian Link
REFRESH-INTERVAL;VALUE=DURATION:PT1H
X-Robots-Tag:noindex
X-PUBLISHED-TTL:PT1H
BEGIN:VTIMEZONE
TZID:Australia/Sydney
BEGIN:STANDARD
TZOFFSETFROM:+1100
TZOFFSETTO:+1000
TZNAME:AEST
DTSTART:20240406T160000
END:STANDARD
BEGIN:DAYLIGHT
TZOFFSETFROM:+1000
TZOFFSETTO:+1100
TZNAME:AEDT
DTSTART:20241005T160000
END:DAYLIGHT
BEGIN:STANDARD
TZOFFSETFROM:+1100
TZOFFSETTO:+1000
TZNAME:AEST
DTSTART:20250405T160000
END:STANDARD
BEGIN:DAYLIGHT
TZOFFSETFROM:+1000
TZOFFSETTO:+1100
TZNAME:AEDT
DTSTART:20251004T160000
END:DAYLIGHT
BEGIN:STANDARD
TZOFFSETFROM:+1100
TZOFFSETTO:+1000
TZNAME:AEST
DTSTART:20260404T160000
END:STANDARD
BEGIN:DAYLIGHT
TZOFFSETFROM:+1000
TZOFFSETTO:+1100
TZNAME:AEDT
DTSTART:20261003T160000
END:DAYLIGHT
END:VTIMEZONE
BEGIN:VEVENT
DTSTART;TZID=Australia/Sydney:20250912T190000
DTEND;TZID=Australia/Sydney:20250913T213000
DTSTAMP:20260424T073355
CREATED:20250911T061645Z
LAST-MODIFIED:20250911T061645Z
UID:10008598-1757703600-1757799000@www.indianlink.com.au
SUMMARY:Kundalini – The Awakening
DESCRIPTION:Get ready to awaken your senses with Kundalini – The Awakening\, an extraordinary journey where dance\, music\, and spirituality collide! Presented by Dr Sam Goraya\, this immersive performance takes inspiration from Tantra and uses the classical Odissi dance form to bring the mystical energy of Kundalini to life. \nThink of it as a journey from your body to the cosmos with every movement\, twist\, and rhythm symbolising the rise of energy\, the union of body\, mind\, and spirit\, and the magic that happens when you connect with something bigger than yourself. It’s not just a show; it’s an experience that’s as visually stunning as it is spiritually enriching. \nExpect to be mesmerised by the fluidity of Odissi\, the soulful music that wraps around every movement\, and a stage presence that draws you into a world where ancient wisdom meets modern performance. Over 2 hours and 10 minutes\, including an interval\, Kundalini – The Awakening promises to leave you feeling inspired\, energised\, and maybe even a little awakened yourself! \nWhether you’re a dance aficionado\, a music lover\, or simply someone looking for an unforgettable night out\, this is one event that will make your heart\, mind\, and soul dance in unison.
URL:https://www.indianlink.com.au/whats-on/kundalini-the-awakening/
LOCATION:Southbank Theatre\, 140 Southbank Blvd\, Southbank\, Melbourne\, Victoria\, 3006\, Australia
CATEGORIES:Arts,Happening in Melbourne,Stage and Performing
ATTACH;FMTTYPE=image/jpeg:https://p9dzm74w.tinifycdn.com/wp-content/uploads/2025/09/Featured-August-sept-4.jpg
GEO:-37.8240098;144.9681533
X-APPLE-STRUCTURED-LOCATION;VALUE=URI;X-ADDRESS=Southbank Theatre 140 Southbank Blvd Southbank Melbourne Victoria 3006 Australia;X-APPLE-RADIUS=500;X-TITLE=140 Southbank Blvd\, Southbank:geo:144.9681533,-37.8240098
END:VEVENT
END:VCALENDAR