BEGIN:VCALENDAR
VERSION:2.0
PRODID:-//Indian Link - ECPv6.15.20//NONSGML v1.0//EN
CALSCALE:GREGORIAN
METHOD:PUBLISH
X-WR-CALNAME:Indian Link
X-ORIGINAL-URL:https://www.indianlink.com.au
X-WR-CALDESC:Events for Indian Link
REFRESH-INTERVAL;VALUE=DURATION:PT1H
X-Robots-Tag:noindex
X-PUBLISHED-TTL:PT1H
BEGIN:VTIMEZONE
TZID:Australia/Sydney
BEGIN:STANDARD
TZOFFSETFROM:+1100
TZOFFSETTO:+1000
TZNAME:AEST
DTSTART:20240406T160000
END:STANDARD
BEGIN:DAYLIGHT
TZOFFSETFROM:+1000
TZOFFSETTO:+1100
TZNAME:AEDT
DTSTART:20241005T160000
END:DAYLIGHT
BEGIN:STANDARD
TZOFFSETFROM:+1100
TZOFFSETTO:+1000
TZNAME:AEST
DTSTART:20250405T160000
END:STANDARD
BEGIN:DAYLIGHT
TZOFFSETFROM:+1000
TZOFFSETTO:+1100
TZNAME:AEDT
DTSTART:20251004T160000
END:DAYLIGHT
BEGIN:STANDARD
TZOFFSETFROM:+1100
TZOFFSETTO:+1000
TZNAME:AEST
DTSTART:20260404T160000
END:STANDARD
BEGIN:DAYLIGHT
TZOFFSETFROM:+1000
TZOFFSETTO:+1100
TZNAME:AEDT
DTSTART:20261003T160000
END:DAYLIGHT
END:VTIMEZONE
BEGIN:VEVENT
DTSTART;TZID=Australia/Sydney:20250913T200000
DTEND;TZID=Australia/Sydney:20251014T210000
DTSTAMP:20260424T033857
CREATED:20250820T030335Z
LAST-MODIFIED:20250820T031158Z
UID:10008452-1757793600-1760475600@www.indianlink.com.au
SUMMARY:Kiyanosh Sahebi & Shash Kapur: Brown Syndrome  - Sydney Fringe
DESCRIPTION:Two of Sydney’s rising comedy stars are teaming up for a laugh-out-loud night you won’t want to miss. Brown Syndrome dives headfirst into culture clashes\, immigrant quirks\, and the chaos of balancing “ethnic” with “Aussie”—delivered with sharp wit and unfiltered honesty. \nThe show brings together Kiyanosh Sahebi\, 2024 RAW Comedy National Finalist who has lit up stages from Melbourne Town Hall to Perth Comedy Lounge\, and Shash Kapur\, an Indian-born comic with a Four Star streak of reviews and a knack for storytelling that’s equal parts hilarious and heartwarming. \nCatch this knee-slapping hour of stand-up at the Factory Theatre\, Marrickville on 13–14 September as part of its Sydney Premiere.
URL:https://www.indianlink.com.au/whats-on/kiyanosh-sahebi-shash-kapur-brown-syndrome/2025-09-13/
LOCATION:Factory Theatre\, 105 Victoria Road\, Marrickville\, NSW\, 2204\, Australia
CATEGORIES:Arts,Happening in Sydney
ATTACH;FMTTYPE=image/jpeg:https://p9dzm74w.tinifycdn.com/wp-content/uploads/2025/08/06-23-2025-051820-7098.jpg
GEO:-33.9086291;151.1548847
X-APPLE-STRUCTURED-LOCATION;VALUE=URI;X-ADDRESS=Factory Theatre 105 Victoria Road Marrickville NSW 2204 Australia;X-APPLE-RADIUS=500;X-TITLE=105 Victoria Road:geo:151.1548847,-33.9086291
END:VEVENT
BEGIN:VEVENT
DTSTART;TZID=Australia/Sydney:20250914T190000
DTEND;TZID=Australia/Sydney:20250914T200000
DTSTAMP:20260424T033857
CREATED:20250820T030335Z
LAST-MODIFIED:20250820T031158Z
UID:10008453-1757876400-1757880000@www.indianlink.com.au
SUMMARY:Kiyanosh Sahebi & Shash Kapur: Brown Syndrome  - Sydney Fringe
DESCRIPTION:Two of Sydney’s rising comedy stars are teaming up for a laugh-out-loud night you won’t want to miss. Brown Syndrome dives headfirst into culture clashes\, immigrant quirks\, and the chaos of balancing “ethnic” with “Aussie”—delivered with sharp wit and unfiltered honesty. \nThe show brings together Kiyanosh Sahebi\, 2024 RAW Comedy National Finalist who has lit up stages from Melbourne Town Hall to Perth Comedy Lounge\, and Shash Kapur\, an Indian-born comic with a Four Star streak of reviews and a knack for storytelling that’s equal parts hilarious and heartwarming. \nCatch this knee-slapping hour of stand-up at the Factory Theatre\, Marrickville on 13–14 September as part of its Sydney Premiere.
URL:https://www.indianlink.com.au/whats-on/kiyanosh-sahebi-shash-kapur-brown-syndrome/2025-09-14/
LOCATION:Factory Theatre\, 105 Victoria Road\, Marrickville\, NSW\, 2204\, Australia
CATEGORIES:Arts,Happening in Sydney
ATTACH;FMTTYPE=image/jpeg:https://p9dzm74w.tinifycdn.com/wp-content/uploads/2025/08/06-23-2025-051820-7098.jpg
GEO:-33.9086291;151.1548847
X-APPLE-STRUCTURED-LOCATION;VALUE=URI;X-ADDRESS=Factory Theatre 105 Victoria Road Marrickville NSW 2204 Australia;X-APPLE-RADIUS=500;X-TITLE=105 Victoria Road:geo:151.1548847,-33.9086291
END:VEVENT
END:VCALENDAR