BEGIN:VCALENDAR
VERSION:2.0
PRODID:-//Indian Link - ECPv6.15.20//NONSGML v1.0//EN
CALSCALE:GREGORIAN
METHOD:PUBLISH
X-WR-CALNAME:Indian Link
X-ORIGINAL-URL:https://www.indianlink.com.au
X-WR-CALDESC:Events for Indian Link
REFRESH-INTERVAL;VALUE=DURATION:PT1H
X-Robots-Tag:noindex
X-PUBLISHED-TTL:PT1H
BEGIN:VTIMEZONE
TZID:Australia/Sydney
BEGIN:STANDARD
TZOFFSETFROM:+1100
TZOFFSETTO:+1000
TZNAME:AEST
DTSTART:20230401T160000
END:STANDARD
BEGIN:DAYLIGHT
TZOFFSETFROM:+1000
TZOFFSETTO:+1100
TZNAME:AEDT
DTSTART:20230930T160000
END:DAYLIGHT
BEGIN:STANDARD
TZOFFSETFROM:+1100
TZOFFSETTO:+1000
TZNAME:AEST
DTSTART:20240406T160000
END:STANDARD
BEGIN:DAYLIGHT
TZOFFSETFROM:+1000
TZOFFSETTO:+1100
TZNAME:AEDT
DTSTART:20241005T160000
END:DAYLIGHT
BEGIN:STANDARD
TZOFFSETFROM:+1100
TZOFFSETTO:+1000
TZNAME:AEST
DTSTART:20250405T160000
END:STANDARD
BEGIN:DAYLIGHT
TZOFFSETFROM:+1000
TZOFFSETTO:+1100
TZNAME:AEDT
DTSTART:20251004T160000
END:DAYLIGHT
BEGIN:STANDARD
TZOFFSETFROM:+1100
TZOFFSETTO:+1000
TZNAME:AEST
DTSTART:20260404T160000
END:STANDARD
BEGIN:DAYLIGHT
TZOFFSETFROM:+1000
TZOFFSETTO:+1100
TZNAME:AEDT
DTSTART:20261003T160000
END:DAYLIGHT
END:VTIMEZONE
BEGIN:VEVENT
DTSTART;VALUE=DATE:20250103
DTEND;VALUE=DATE:20250107
DTSTAMP:20260424T021625
CREATED:20241205T000900Z
LAST-MODIFIED:20241205T001901Z
UID:10002420-1735862400-1736207999@www.indianlink.com.au
SUMMARY:Border–Gavaskar Trophy - Sydney
DESCRIPTION:The SCG will shine pink for the fifth and final Test of the Border-Gavaskar series\, as World Test Champions Australia battle it out against the mighty  India. Secure your seats for the iconic Pink Test today!
URL:https://www.indianlink.com.au/whats-on/border-gavaskar-trophy-sydney/
LOCATION:Sydney Cricket Ground\, Driver Ave - Stadium\, Moore Park\, NSW\, 2021\, Australia
CATEGORIES:Happening in Sydney,Sport and Fitness
ATTACH;FMTTYPE=image/jpeg:https://p9dzm74w.tinifycdn.com/wp-content/uploads/2024/12/border-gavaskar-sydney.jpg
GEO:-33.8915316;151.2248515
X-APPLE-STRUCTURED-LOCATION;VALUE=URI;X-ADDRESS=Sydney Cricket Ground Driver Ave - Stadium Moore Park NSW 2021 Australia;X-APPLE-RADIUS=500;X-TITLE=Driver Ave - Stadium:geo:151.2248515,-33.8915316
END:VEVENT
BEGIN:VEVENT
DTSTART;TZID=Australia/Sydney:20241231T200000
DTEND;TZID=Australia/Sydney:20241231T233000
DTSTAMP:20260424T021625
CREATED:20241118T010418Z
LAST-MODIFIED:20241118T010418Z
UID:10002238-1735675200-1735687800@www.indianlink.com.au
SUMMARY:NYE ROYAL BALL WELCOME 2025
DESCRIPTION:  \nTheme: Grand Indian Wedding \nAttractions:\n4 Course scrumptious Dinner\, Gala Family Entertainment | Unlimited Beer/Wine/Soft Drinks (BYO spirits) | Bollywood DJ\, Dance performances | Professional photographers | Best dressed male and female | Live fireworks on big screen | Lots of prizes and surprises\, Limited seats. \nGET TICKETS HERE: NYE ROYAL BALL WELCOME 2025 – DryTickets.com.au
URL:https://www.indianlink.com.au/whats-on/nye-royal-ball-welcome-2025/
LOCATION:Parra Villa Function Lounge\, 42\, Campbell Street\, Parramatta\, NSW\, 2150\, Australia
ATTACH;FMTTYPE=image/jpeg:https://p9dzm74w.tinifycdn.com/wp-content/uploads/2024/11/NYE-2025.jpg
GEO:-33.8181441;151.0025448
X-APPLE-STRUCTURED-LOCATION;VALUE=URI;X-ADDRESS=Parra Villa Function Lounge 42 Campbell Street Parramatta NSW 2150 Australia;X-APPLE-RADIUS=500;X-TITLE=42\, Campbell Street:geo:151.0025448,-33.8181441
END:VEVENT
BEGIN:VEVENT
DTSTART;TZID=Australia/Sydney:20241228T193000
DTEND;TZID=Australia/Sydney:20241228T213000
DTSTAMP:20260424T021625
CREATED:20241204T232338Z
LAST-MODIFIED:20241204T232338Z
UID:10002417-1735414200-1735421400@www.indianlink.com.au
SUMMARY:Harsha Bhogle on India vs Australia
DESCRIPTION:Join us for an unforgettable evening with Harsha Bhogle\, as he shares his insights and captivating stories\, followed by an engaging Q&A session. Each $200 early bird ticket includes a two-course meal with wine\, and $100 will be donated to IIMPACT Australia to support education for girls in rural India. \nYou don’t want to miss out!
URL:https://www.indianlink.com.au/whats-on/harsha-bhogle-on-india-vs-australia/
LOCATION:Hotel Windsor\, Spring Street 111\, Melbourne\, VIC\, 3000\, Australia
CATEGORIES:Happening in Melbourne
ATTACH;FMTTYPE=image/jpeg:https://p9dzm74w.tinifycdn.com/wp-content/uploads/2024/12/harsha-bhogle-ind-v-aus.jpg
GEO:-37.811944;144.972778
X-APPLE-STRUCTURED-LOCATION;VALUE=URI;X-ADDRESS=Hotel Windsor Spring Street 111 Melbourne VIC 3000 Australia;X-APPLE-RADIUS=500;X-TITLE=Spring Street 111:geo:144.972778,-37.811944
END:VEVENT
BEGIN:VEVENT
DTSTART;VALUE=DATE:20241226
DTEND;VALUE=DATE:20241230
DTSTAMP:20260424T021625
CREATED:20241205T001628Z
LAST-MODIFIED:20241205T001628Z
UID:10002422-1735171200-1735516799@www.indianlink.com.au
SUMMARY:Border–Gavaskar Trophy - Melbourne
DESCRIPTION:Experience cricket at its finest at the iconic Boxing Day Test! Witness Australia and India face off in an epic clash as part of the Border-Gavaskar series. Don’t miss out—it’s going to be monumental! Grab your tickets now!
URL:https://www.indianlink.com.au/whats-on/border-gavaskar-trophy-melbourne/
LOCATION:Melbourne Cricket Ground\, Brunton Avenue\, Richmond\, VIC\, 3121\, Australia
CATEGORIES:Happening in Melbourne,Sport and Fitness
ATTACH;FMTTYPE=image/jpeg:https://p9dzm74w.tinifycdn.com/wp-content/uploads/2024/12/border-gavaskar-melbourne.jpg
GEO:-37.8231302;144.9887688
X-APPLE-STRUCTURED-LOCATION;VALUE=URI;X-ADDRESS=Melbourne Cricket Ground Brunton Avenue Richmond VIC 3121 Australia;X-APPLE-RADIUS=500;X-TITLE=Brunton Avenue:geo:144.9887688,-37.8231302
END:VEVENT
BEGIN:VEVENT
DTSTART;TZID=Australia/Sydney:20241222T190000
DTEND;TZID=Australia/Sydney:20241222T220000
DTSTAMP:20260424T021625
CREATED:20241118T010000Z
LAST-MODIFIED:20241118T010000Z
UID:10002237-1734894000-1734904800@www.indianlink.com.au
SUMMARY:Daily Ka Kaam Hai By Aakash Gupta Live in Perth 2024
DESCRIPTION:  \nStories from his childhood home to his first MNC job after graduation\, this show gets more personal\, more awkward and even more hilarious. Is show ko dekhne k baad aap samjah jayengey ki  Embarassing aur tragic situations Mei fasna Aakash ka daily ka kaam hai. \nSo get ready to LOL and fall off your chairs because you are signing up for something totally worth it \n“Ye about the show ka paragraph likhna apne ek ghante ka show banana se bhi zada tough lagta hai” \nGET TICKETS HERE: Daily Ka Kaam Hai By Aakash Gupta Live in Perth 2024 – DryTickets.com.au
URL:https://www.indianlink.com.au/whats-on/daily-ka-kaam-hai-by-aakash-gupta-live-in-perth-2024/
LOCATION:Comedy Lounge Fremantle\, South Terrace\, Fremantle\, WA\, 6160\, Australia
ATTACH;FMTTYPE=image/jpeg:https://p9dzm74w.tinifycdn.com/wp-content/uploads/2024/11/Aakash-perth.jpg
GEO:-32.0562381;115.7479566
X-APPLE-STRUCTURED-LOCATION;VALUE=URI;X-ADDRESS=Comedy Lounge Fremantle South Terrace Fremantle WA 6160 Australia;X-APPLE-RADIUS=500;X-TITLE=South Terrace:geo:115.7479566,-32.0562381
END:VEVENT
BEGIN:VEVENT
DTSTART;TZID=Australia/Sydney:20241221T180000
DTEND;TZID=Australia/Sydney:20241221T220000
DTSTAMP:20260424T021625
CREATED:20241118T005151Z
LAST-MODIFIED:20241118T005151Z
UID:10002235-1734804000-1734818400@www.indianlink.com.au
SUMMARY:Avijit Sarkar & Suhas Mahajan MEMORIES In Sydney
DESCRIPTION:  \nThe concert will showcase our memories of Bollywood songs from yesteryears\, when melody and poetry mattered. Songs that don’t need clanging orchestration or bouncing lights. These will be songs that only need the renditions through proper vocal styling and lilting music.— with Suhas Mahajan and Palu Malaowalla. \nOrganised by Avijit & Suhas\, this concert will aim to raise funds for Women’s and Girls’ Emergency Centre (WAGEC) a feminist\, grassroots organisation that supports women and families in crisis. Every night\, WAGEC supports 200 women and children impacted by homelessness\, domestic violence\, and systemic disadvantage. \nGET TICKETS HERE: Avijit Sarkar & Suhas Mahajan MEMORIES In Sydney – DryTickets.com.au
URL:https://www.indianlink.com.au/whats-on/avijit-sarkar-suhas-mahajan-memories-in-sydney/
LOCATION:Concord Function Centre\, 138-144 Majors Bay Rd\, Concord\, Sydney\, NSW\, 2137\, Australia
ATTACH;FMTTYPE=image/jpeg:https://p9dzm74w.tinifycdn.com/wp-content/uploads/2024/11/Memories.jpg
GEO:-33.8543344;151.1026174
X-APPLE-STRUCTURED-LOCATION;VALUE=URI;X-ADDRESS=Concord Function Centre 138-144 Majors Bay Rd Concord Sydney NSW 2137 Australia;X-APPLE-RADIUS=500;X-TITLE=138-144 Majors Bay Rd\, Concord:geo:151.1026174,-33.8543344
END:VEVENT
BEGIN:VEVENT
DTSTART;TZID=Australia/Sydney:20241221T150000
DTEND;TZID=Australia/Sydney:20241221T180000
DTSTAMP:20260424T021625
CREATED:20241118T005602Z
LAST-MODIFIED:20241118T005602Z
UID:10002236-1734793200-1734804000@www.indianlink.com.au
SUMMARY:Daily Ka Kaam Hai By Aakash Gupta Live in Melbourne 2024
DESCRIPTION:  \nStories from his childhood home to his first MNC job after graduation\, this show gets more personal\, more awkward and even more hilarious. Is show ko dekhne k baad aap samjah jayengey ki  Embarassing aur tragic situations Mei fasna Aakash ka daily ka kaam hai. \nSo get ready to LOL and fall off your chairs because you are signing up for something totally worth it \n“Ye about the show ka paragraph likhna apne ek ghante ka show banana se bhi zada tough lagta hai” \nGET TICKETS HERE: Daily Ka Kaam Hai By Aakash Gupta Live in Melbourne 2024 – DryTickets.com.au
URL:https://www.indianlink.com.au/whats-on/daily-ka-kaam-hai-by-aakash-gupta-live-in-melbourne-2024/
LOCATION:The Comic’s Lounge\, Errol Street\, North Melbourne\, VIC\, 3051\, Australia
ATTACH;FMTTYPE=image/jpeg:https://p9dzm74w.tinifycdn.com/wp-content/uploads/2024/11/Aakash-Melb.jpg
GEO:-37.8045082;144.9495239
X-APPLE-STRUCTURED-LOCATION;VALUE=URI;X-ADDRESS=The Comic’s Lounge Errol Street North Melbourne VIC 3051 Australia;X-APPLE-RADIUS=500;X-TITLE=Errol Street:geo:144.9495239,-37.8045082
END:VEVENT
BEGIN:VEVENT
DTSTART;TZID=Australia/Sydney:20241215T190000
DTEND;TZID=Australia/Sydney:20241215T230000
DTSTAMP:20260424T021625
CREATED:20241118T004533Z
LAST-MODIFIED:20241118T004533Z
UID:10002234-1734289200-1734303600@www.indianlink.com.au
SUMMARY:Daily Ka Kaam Hai By Aakash Gupta Live In Gold Coast 2024
DESCRIPTION:  \nStories from his childhood home to his first MNC job after graduation\, this show gets more personal\, more awkward and even more hilarious. Is show ko dekhne k baad aap samjah jayengey ki  Embarassing aur tragic situations Mei fasna Aakash ka daily ka kaam hai. \nSo get ready to LOL and fall off your chairs because you are signing up for something totally worth it \n“Ye about the show ka paragraph likhna apne ek ghante ka show banana se bhi zada tough lagta hai” \nGET TICKETS HERE: Daily Ka Kaam Hai By Aakash Gupta Live In Gold Coast 2024 – DryTickets.com.au
URL:https://www.indianlink.com.au/whats-on/daily-ka-kaam-hai-by-aakash-gupta-live-in-gold-coast-2024/
LOCATION:Helensvale Library & Cultural Centre\, Helensvale\, QLD\, 4212\, Australia
ATTACH;FMTTYPE=image/jpeg:https://p9dzm74w.tinifycdn.com/wp-content/uploads/2024/11/Aakash-Gupta.jpg
GEO:-27.9219729;153.3345463
END:VEVENT
BEGIN:VEVENT
DTSTART;TZID=Australia/Sydney:20241214T213000
DTEND;TZID=Australia/Sydney:20241214T233000
DTSTAMP:20260424T021625
CREATED:20241118T004020Z
LAST-MODIFIED:20241118T004020Z
UID:10002233-1734211800-1734219000@www.indianlink.com.au
SUMMARY:DJ Simz & DJ Limelight Live In Melbourne
DESCRIPTION:  \nMB EVENTS IS BRINGING YOU ANOTHER OG FROM THE UK! \nTHE ONLINE SENSATION\, @djlimelightuk \, AS HEARD ON THE CULTURE PODCAST IS ALSO JOINING US DOWN UNDER IN MELBOURNE FOR THE FIRST TIME EVER 🇦🇺 \nWith a career spanning over 20 years DJ Limelight has collaborated with some of the biggest Hip Hop artists in the world\, as well some of the biggest Desi artists emerging globally including Badshah\, Drake\, Pop Smoke & Nicki Minaj! \nHim\, alongside the most trending DJ FROM UK\, @djsimz.x are going to be mixing music from Punjabi\, RnB\, UK Bhangra & Bollywood! \nYOU DON’T WANT TO MISS IT!! \nGET TICKETS HERE: DJ Simz & DJ Limelight Live In Melbourne – DryTickets.com.au
URL:https://www.indianlink.com.au/whats-on/dj-simz-dj-limelight-live-in-melbourne/
LOCATION:Platform One\, Flinders Street\, Melbourne\, VIC\, 3000\, Australia
ATTACH;FMTTYPE=image/jpeg:https://p9dzm74w.tinifycdn.com/wp-content/uploads/2024/11/DJ-Limelight-Sims.jpg
GEO:-37.8191789;144.9621961
X-APPLE-STRUCTURED-LOCATION;VALUE=URI;X-ADDRESS=Platform One Flinders Street Melbourne VIC 3000 Australia;X-APPLE-RADIUS=500;X-TITLE=Flinders Street:geo:144.9621961,-37.8191789
END:VEVENT
BEGIN:VEVENT
DTSTART;VALUE=DATE:20241214
DTEND;VALUE=DATE:20241218
DTSTAMP:20260424T021625
CREATED:20241205T000203Z
LAST-MODIFIED:20241205T001445Z
UID:10002419-1734134400-1734479999@www.indianlink.com.au
SUMMARY:Border–Gavaskar Trophy - Brisbane
DESCRIPTION:Experience the thrill of one of cricket’s greatest rivalries as Australia and India clash in the much-anticipated Pink Ball Test in Brisbane. Grab your spot on and be part of a historic summer of cricket!
URL:https://www.indianlink.com.au/whats-on/border-gavaskar-trophy-adelaide/
LOCATION:The Gabba\, Vulture Street\, Woolloongabba\, QLD\, Australia
CATEGORIES:Happening in Brisbane,Sport and Fitness
ATTACH;FMTTYPE=image/jpeg:https://p9dzm74w.tinifycdn.com/wp-content/uploads/2024/12/border-gavaskar-brisbane.jpg
GEO:-27.4840961;153.0328516
X-APPLE-STRUCTURED-LOCATION;VALUE=URI;X-ADDRESS=The Gabba Vulture Street Woolloongabba QLD Australia;X-APPLE-RADIUS=500;X-TITLE=Vulture Street:geo:153.0328516,-27.4840961
END:VEVENT
BEGIN:VEVENT
DTSTART;TZID=Australia/Sydney:20241213T210000
DTEND;TZID=Australia/Sydney:20241213T233000
DTSTAMP:20260424T021625
CREATED:20241111T070440Z
LAST-MODIFIED:20241111T070440Z
UID:10002226-1734123600-1734132600@www.indianlink.com.au
SUMMARY:Nijjar Live In Melbourne 2024
DESCRIPTION:  \nNijjar is the rising star of Punjabi music world \, who has shot to fame in the USA with his unique blend of traditional Punjabi music and modern hip-hop sounds. He first gained widespread recognition with his hit song “Tension”\, which showcased his dynamic vocals and infectious beats. Nijjar’s ability to seamlessly blend traditional Punjabi music with contemporary sounds has earned him a very loyal fanbase! His hits are – Taare\, Tension\, Velly. His music is a celebration of Punjabi culture and a testament to the power of music to bring people together! \nGET TICKETS HERE: Nijjar Live In Melbourne – DryTickets.com.au
URL:https://www.indianlink.com.au/whats-on/nijjar-live-in-melbourne-2024/
LOCATION:TraK lounge Bar\, 445 Toorak Rd\, Toorak\, VIC\, 3142\, Australia
ATTACH;FMTTYPE=image/png:https://p9dzm74w.tinifycdn.com/wp-content/uploads/2024/11/Nijjar.png
GEO:-37.840708;145.0077887
X-APPLE-STRUCTURED-LOCATION;VALUE=URI;X-ADDRESS=TraK lounge Bar 445 Toorak Rd Toorak VIC 3142 Australia;X-APPLE-RADIUS=500;X-TITLE=445 Toorak Rd:geo:145.0077887,-37.840708
END:VEVENT
END:VCALENDAR