BEGIN:VCALENDAR
VERSION:2.0
PRODID:-//Indian Link - ECPv6.15.20//NONSGML v1.0//EN
CALSCALE:GREGORIAN
METHOD:PUBLISH
X-WR-CALNAME:Indian Link
X-ORIGINAL-URL:https://www.indianlink.com.au
X-WR-CALDESC:Events for Indian Link
REFRESH-INTERVAL;VALUE=DURATION:PT1H
X-Robots-Tag:noindex
X-PUBLISHED-TTL:PT1H
BEGIN:VTIMEZONE
TZID:Australia/Sydney
BEGIN:STANDARD
TZOFFSETFROM:+1100
TZOFFSETTO:+1000
TZNAME:AEST
DTSTART:20250405T160000
END:STANDARD
BEGIN:DAYLIGHT
TZOFFSETFROM:+1000
TZOFFSETTO:+1100
TZNAME:AEDT
DTSTART:20251004T160000
END:DAYLIGHT
BEGIN:STANDARD
TZOFFSETFROM:+1100
TZOFFSETTO:+1000
TZNAME:AEST
DTSTART:20260404T160000
END:STANDARD
BEGIN:DAYLIGHT
TZOFFSETFROM:+1000
TZOFFSETTO:+1100
TZNAME:AEDT
DTSTART:20261003T160000
END:DAYLIGHT
BEGIN:STANDARD
TZOFFSETFROM:+1100
TZOFFSETTO:+1000
TZNAME:AEST
DTSTART:20270403T160000
END:STANDARD
BEGIN:DAYLIGHT
TZOFFSETFROM:+1000
TZOFFSETTO:+1100
TZNAME:AEDT
DTSTART:20271002T160000
END:DAYLIGHT
END:VTIMEZONE
BEGIN:VEVENT
DTSTART;TZID=Australia/Sydney:20261010T180000
DTEND;TZID=Australia/Sydney:20261010T210000
DTSTAMP:20260423T081142
CREATED:20260414T045423Z
LAST-MODIFIED:20260414T045423Z
UID:10008884-1791655200-1791666000@www.indianlink.com.au
SUMMARY:Sonu Nigam Revolution Tour Melbourne
DESCRIPTION:  \nThe iconic Sonu Nigam is back and you get the first chance to grab your tickets! \nGlobal icon Sonu Nigam is bringing his spectacular new “The Revolution” Australia Tour. \nExperience the musical magic live as the legendary voice takes over Australia this October and headlining massive arenas in Sydney and Melbourne\, returning to Brisbane by huge public demand\, and making historic appearances in Adelaide at this grand scale for the very first time. \nBigger. Bolder. Louder.\nThis isn’t just another concert tour. it’s a musical revolution. \nBe among the first fans in the world to witness this unforgettable experience live. \nGET TICKETS HERE: Sonu Nigam tickets | Rod Laver Arena | Ticketek Australia
URL:https://www.indianlink.com.au/whats-on/sonu-nigam-revolution-tour-melbourne/
LOCATION:Rod Laver Arena\, 200 Batman Ave\, Melbourne\, VIC\, 3004\, Australia
ATTACH;FMTTYPE=image/png:https://p9dzm74w.tinifycdn.com/wp-content/uploads/2026/04/January-2026-Feature-Image-600-x-400-px-600-x-400-px-57.png
GEO:-37.8240199;144.9875354
X-APPLE-STRUCTURED-LOCATION;VALUE=URI;X-ADDRESS=Rod Laver Arena 200 Batman Ave Melbourne VIC 3004 Australia;X-APPLE-RADIUS=500;X-TITLE=200 Batman Ave:geo:144.9875354,-37.8240199
END:VEVENT
BEGIN:VEVENT
DTSTART;TZID=Australia/Sydney:20261011T193000
DTEND;TZID=Australia/Sydney:20261011T213000
DTSTAMP:20260423T081142
CREATED:20260414T045719Z
LAST-MODIFIED:20260414T045719Z
UID:10008885-1791747000-1791754200@www.indianlink.com.au
SUMMARY:Sonu Nigam Revolution Tour Brisbane
DESCRIPTION:  \nThe iconic Sonu Nigam is back and you get the first chance to grab your tickets! \nGlobal icon Sonu Nigam is bringing his spectacular new “The Revolution” Australia Tour. \nExperience the musical magic live as the legendary voice takes over Australia this October and headlining massive arenas in Sydney and Melbourne\, returning to Brisbane by huge public demand\, and making historic appearances in Adelaide at this grand scale for the very first time. \nBigger. Bolder. Louder.\nThis isn’t just another concert tour. it’s a musical revolution. \nBe among the first fans in the world to witness this unforgettable experience live. \nGET TICKETS HERE: Sonu Nigam tickets | Brisbane Convention & Exhibition Centre | Ticketek Australia
URL:https://www.indianlink.com.au/whats-on/sonu-nigam-revolution-tour-brisbane/
LOCATION:Brisbane Convention and Exhibition Centre\, Glenelg St\, South Brisbane\, QLD\, 4101\, Australia
ATTACH;FMTTYPE=image/png:https://p9dzm74w.tinifycdn.com/wp-content/uploads/2026/04/January-2026-Feature-Image-600-x-400-px-600-x-400-px-57.png
GEO:-27.4781195;153.0195748
X-APPLE-STRUCTURED-LOCATION;VALUE=URI;X-ADDRESS=Brisbane Convention and Exhibition Centre Glenelg St South Brisbane QLD 4101 Australia;X-APPLE-RADIUS=500;X-TITLE=Glenelg St:geo:153.0195748,-27.4781195
END:VEVENT
BEGIN:VEVENT
DTSTART;TZID=Australia/Sydney:20261016T193000
DTEND;TZID=Australia/Sydney:20261016T223000
DTSTAMP:20260423T081142
CREATED:20260414T050453Z
LAST-MODIFIED:20260414T050453Z
UID:10008886-1792179000-1792189800@www.indianlink.com.au
SUMMARY:Sonu Nigam Revolution Tour Adelaide
DESCRIPTION:  \nThe iconic Sonu Nigam is back and you get the first chance to grab your tickets! \nGlobal icon Sonu Nigam is bringing his spectacular new “The Revolution” Australia Tour. \nExperience the musical magic live as the legendary voice takes over Australia this October and headlining massive arenas in Sydney and Melbourne\, returning to Brisbane by huge public demand\, and making historic appearances in Adelaide at this grand scale for the very first time. \nBigger. Bolder. Louder.\nThis isn’t just another concert tour. it’s a musical revolution. \nBe among the first fans in the world to witness this unforgettable experience live. \nGET TICKETS HERE: Sonu Nigam tickets | Adelaide Entertainment Centre Arena | Ticketek Australia
URL:https://www.indianlink.com.au/whats-on/sonu-nigam-revolution-tour-adelaide/
LOCATION:Adelaide Entertainment Centre\, 98 Port Rd\, Hindmarsh SA 5007
ATTACH;FMTTYPE=image/png:https://p9dzm74w.tinifycdn.com/wp-content/uploads/2026/04/January-2026-Feature-Image-600-x-400-px-600-x-400-px-57.png
GEO:-34.9069356;138.5745843
X-APPLE-STRUCTURED-LOCATION;VALUE=URI;X-ADDRESS=Adelaide Entertainment Centre 98 Port Rd Hindmarsh SA 5007;X-APPLE-RADIUS=500;X-TITLE=98 Port Rd\, Hindmarsh SA 5007:geo:138.5745843,-34.9069356
END:VEVENT
BEGIN:VEVENT
DTSTART;TZID=Australia/Sydney:20261018T193000
DTEND;TZID=Australia/Sydney:20261018T223000
DTSTAMP:20260423T081142
CREATED:20260414T050722Z
LAST-MODIFIED:20260414T050758Z
UID:10008887-1792351800-1792362600@www.indianlink.com.au
SUMMARY:Sonu Nigam Revolution Tour Perth
DESCRIPTION:  \nThe iconic Sonu Nigam is back and you get the first chance to grab your tickets! \nGlobal icon Sonu Nigam is bringing his spectacular new “The Revolution” Australia Tour. \nExperience the musical magic live as the legendary voice takes over Australia this October and headlining massive arenas in Sydney and Melbourne\, returning to Brisbane by huge public demand\, and making historic appearances in Adelaide at this grand scale for the very first time. \nBigger. Bolder. Louder.\nThis isn’t just another concert tour. it’s a musical revolution. \nBe among the first fans in the world to witness this unforgettable experience live. \nGET TICKETS HERE: Sonu Nigam tickets | Riverside Theatre\, Perth Convention and Exhibition Centre | Ticketek Australia
URL:https://www.indianlink.com.au/whats-on/188111/
LOCATION:Riverside theatre Perth Convention and Exhibition Centre\, 21 Mounts Bay Road\, Perth\, WA\, 6000\, Australia
ATTACH;FMTTYPE=image/png:https://p9dzm74w.tinifycdn.com/wp-content/uploads/2026/04/January-2026-Feature-Image-600-x-400-px-600-x-400-px-57.png
GEO:-31.9569171;115.8530269
X-APPLE-STRUCTURED-LOCATION;VALUE=URI;X-ADDRESS=Riverside theatre Perth Convention and Exhibition Centre 21 Mounts Bay Road Perth WA 6000 Australia;X-APPLE-RADIUS=500;X-TITLE=21 Mounts Bay Road:geo:115.8530269,-31.9569171
END:VEVENT
END:VCALENDAR