BEGIN:VCALENDAR
VERSION:2.0
PRODID:-//Indian Link - ECPv6.15.20//NONSGML v1.0//EN
CALSCALE:GREGORIAN
METHOD:PUBLISH
X-ORIGINAL-URL:https://www.indianlink.com.au
X-WR-CALDESC:Events for Indian Link
REFRESH-INTERVAL;VALUE=DURATION:PT1H
X-Robots-Tag:noindex
X-PUBLISHED-TTL:PT1H
BEGIN:VTIMEZONE
TZID:Australia/Sydney
BEGIN:STANDARD
TZOFFSETFROM:+1100
TZOFFSETTO:+1000
TZNAME:AEST
DTSTART:20240406T160000
END:STANDARD
BEGIN:DAYLIGHT
TZOFFSETFROM:+1000
TZOFFSETTO:+1100
TZNAME:AEDT
DTSTART:20241005T160000
END:DAYLIGHT
BEGIN:STANDARD
TZOFFSETFROM:+1100
TZOFFSETTO:+1000
TZNAME:AEST
DTSTART:20250405T160000
END:STANDARD
BEGIN:DAYLIGHT
TZOFFSETFROM:+1000
TZOFFSETTO:+1100
TZNAME:AEDT
DTSTART:20251004T160000
END:DAYLIGHT
BEGIN:STANDARD
TZOFFSETFROM:+1100
TZOFFSETTO:+1000
TZNAME:AEST
DTSTART:20260404T160000
END:STANDARD
BEGIN:DAYLIGHT
TZOFFSETFROM:+1000
TZOFFSETTO:+1100
TZNAME:AEDT
DTSTART:20261003T160000
END:DAYLIGHT
END:VTIMEZONE
BEGIN:VEVENT
DTSTART;TZID=Australia/Sydney:20251019T000000
DTEND;TZID=Australia/Sydney:20251025T000000
DTSTAMP:20260423T171715
CREATED:20251023T010433Z
LAST-MODIFIED:20251023T010459Z
UID:10008672-1760832000-1761350400@www.indianlink.com.au
SUMMARY:Cricket Fever Returns: India vs Australia ODI Series 2025
DESCRIPTION:The highly anticipated India vs Australia ODI Series 2025 is underway\, and the action is heating up! \net ready\, cricket fans! The rivalry that never disappoints is back — India vs Australia ODI 2025 is set to light up stadiums and screens across the country. Whether you’re a die-hard supporter of the Men in Blue or waving the green and gold for the Aussies\, this series promises all the thrills\, spills\, and edge-of-your-seat moments that only ODI cricket can deliver. \nExpect big hits\, jaw-dropping catches\, and a few heart-stopping moments as these two cricketing powerhouses go head-to-head. The action kicks off in Perth\, swings down to Adelaide\, and wraps up in Sydney — giving fans across the country a front-row seat to all the excitement. \nMatch Schedule:\n\n\n1st ODI – 19 October 2025 | Optus Stadium\, Perth \n\n\n2nd ODI – 23 October 2025 | Adelaide Oval\, Adelaide \n\n\n3rd ODI – 25 October 2025 | Sydney Cricket Ground\, Sydney \n\n\nKey Players to Watch\n\n\nIndia: Shubman Gill\, Shreyas Iyer\, and Kuldeep Yadav \n\n\nAustralia: Travis Head\, Josh Inglis\, and Adam Zampa \n\n\nNo matter where you catch the action — at home\, at a pub\, or in the stadium — be ready to cheer\, scream\, and maybe even lose your voice! This series isn’t just about cricket; it’s about the spirit\, the rivalry\, and the unforgettable moments that make fans fall in love with the game all over again. \nSo grab your jerseys\, your snacks\, and your lucky cricket caps — it’s time for some classic India vs Australia drama!
URL:https://www.indianlink.com.au/whats-on/cricket-fever-returns-india-vs-australia-odi-series-2025/
LOCATION:Adelaide Oval\, War Memorial Drive\, North Adelaide\, SA\, 5006\, Australia
CATEGORIES:Happening in Adelaide,Happening in Perth,Happening in Sydney,Sport and Fitness
ATTACH;FMTTYPE=image/jpeg:https://p9dzm74w.tinifycdn.com/wp-content/uploads/2025/10/ODI.jpg
GEO:-34.9150856;138.5994554
X-APPLE-STRUCTURED-LOCATION;VALUE=URI;X-ADDRESS=Adelaide Oval War Memorial Drive North Adelaide SA 5006 Australia;X-APPLE-RADIUS=500;X-TITLE=War Memorial Drive:geo:138.5994554,-34.9150856
END:VEVENT
END:VCALENDAR