BEGIN:VCALENDAR
VERSION:2.0
PRODID:-//Indian Link - ECPv6.15.20//NONSGML v1.0//EN
CALSCALE:GREGORIAN
METHOD:PUBLISH
X-WR-CALNAME:Indian Link
X-ORIGINAL-URL:https://www.indianlink.com.au
X-WR-CALDESC:Events for Indian Link
REFRESH-INTERVAL;VALUE=DURATION:PT1H
X-Robots-Tag:noindex
X-PUBLISHED-TTL:PT1H
BEGIN:VTIMEZONE
TZID:Australia/Sydney
BEGIN:STANDARD
TZOFFSETFROM:+1100
TZOFFSETTO:+1000
TZNAME:AEST
DTSTART:20240406T160000
END:STANDARD
BEGIN:DAYLIGHT
TZOFFSETFROM:+1000
TZOFFSETTO:+1100
TZNAME:AEDT
DTSTART:20241005T160000
END:DAYLIGHT
BEGIN:STANDARD
TZOFFSETFROM:+1100
TZOFFSETTO:+1000
TZNAME:AEST
DTSTART:20250405T160000
END:STANDARD
BEGIN:DAYLIGHT
TZOFFSETFROM:+1000
TZOFFSETTO:+1100
TZNAME:AEDT
DTSTART:20251004T160000
END:DAYLIGHT
BEGIN:STANDARD
TZOFFSETFROM:+1100
TZOFFSETTO:+1000
TZNAME:AEST
DTSTART:20260404T160000
END:STANDARD
BEGIN:DAYLIGHT
TZOFFSETFROM:+1000
TZOFFSETTO:+1100
TZNAME:AEDT
DTSTART:20261003T160000
END:DAYLIGHT
END:VTIMEZONE
BEGIN:VEVENT
DTSTART;TZID=Australia/Sydney:20250421T190000
DTEND;TZID=Australia/Sydney:20250421T210000
DTSTAMP:20260424T023542
CREATED:20250331T053344Z
LAST-MODIFIED:20250402T191419Z
UID:10003100-1745262000-1745269200@www.indianlink.com.au
SUMMARY:Salim Sulaiman in Sydney
DESCRIPTION:  \nStar Alliance Entertainment & BNR Events proudly bring you Salim Sulaiman live in Sydney\, showcasing the renowned duo\, Salim and Sulaiman Merchant. Widely celebrated as Salim Sulaiman\, they are among Bollywood’s most esteemed musical talents. Their compositions go beyond mere melodies\, creating deep emotional connections that touch millions of hearts. \nExperience the magic of Salim Sulaiman Live in Concert 2025 as the iconic music duo brings their electrifying performance to Sydney! Get ready for a night filled with soulful melodies\, high-energy beats\, and breathtaking live music that will leave you mesmerized. Taking place in NSW\, this event promises an unforgettable experience with the duo’s greatest hits spanning Bollywood\, Sufi\, and electronic fusion. \nDon’t miss the chance to witness Salim Sulaiman Live in Concert in Sydney as they take the stage for an extraordinary musical journey. From heart-touching compositions to foot-tapping rhythms\, this concert is set to be a spectacular celebration of music. Be part of the Salim Sulaiman Live 2025 in NSW and enjoy an evening of pure musical brilliance. Secure your tickets now and be ready for a night to remember! \nGET TICKETS HERE: Salim Sulaiman Live in Concert 2025 at Sydney Opera House
URL:https://www.indianlink.com.au/whats-on/salim-sulaiman-live-in-concert-2025/
LOCATION:Concert Hall\, Sydney Opera House\, Bennelong Point\, Sydney\, NSW\, 2000\, Australia
CATEGORIES:Happening in Sydney,Music
ATTACH;FMTTYPE=image/png:https://p9dzm74w.tinifycdn.com/wp-content/uploads/2025/03/Sulaiman.png
GEO:-33.8565361;151.2149964
X-APPLE-STRUCTURED-LOCATION;VALUE=URI;X-ADDRESS=Concert Hall Sydney Opera House Bennelong Point Sydney NSW 2000 Australia;X-APPLE-RADIUS=500;X-TITLE=Bennelong Point:geo:151.2149964,-33.8565361
END:VEVENT
END:VCALENDAR