BEGIN:VCALENDAR
VERSION:2.0
PRODID:-//Indian Link - ECPv6.15.20//NONSGML v1.0//EN
CALSCALE:GREGORIAN
METHOD:PUBLISH
X-ORIGINAL-URL:https://www.indianlink.com.au
X-WR-CALDESC:Events for Indian Link
REFRESH-INTERVAL;VALUE=DURATION:PT1H
X-Robots-Tag:noindex
X-PUBLISHED-TTL:PT1H
BEGIN:VTIMEZONE
TZID:Australia/Melbourne
BEGIN:STANDARD
TZOFFSETFROM:+1100
TZOFFSETTO:+1000
TZNAME:AEST
DTSTART:20240406T160000
END:STANDARD
BEGIN:DAYLIGHT
TZOFFSETFROM:+1000
TZOFFSETTO:+1100
TZNAME:AEDT
DTSTART:20241005T160000
END:DAYLIGHT
BEGIN:STANDARD
TZOFFSETFROM:+1100
TZOFFSETTO:+1000
TZNAME:AEST
DTSTART:20250405T160000
END:STANDARD
BEGIN:DAYLIGHT
TZOFFSETFROM:+1000
TZOFFSETTO:+1100
TZNAME:AEDT
DTSTART:20251004T160000
END:DAYLIGHT
BEGIN:STANDARD
TZOFFSETFROM:+1100
TZOFFSETTO:+1000
TZNAME:AEST
DTSTART:20260404T160000
END:STANDARD
BEGIN:DAYLIGHT
TZOFFSETFROM:+1000
TZOFFSETTO:+1100
TZNAME:AEDT
DTSTART:20261003T160000
END:DAYLIGHT
END:VTIMEZONE
BEGIN:VEVENT
DTSTART;TZID=Australia/Melbourne:20250926T180000
DTEND;TZID=Australia/Melbourne:20251002T180000
DTSTAMP:20260423T141101
CREATED:20250528T032050Z
LAST-MODIFIED:20250528T032050Z
UID:10008331-1758909600-1759428000@www.indianlink.com.au
SUMMARY:Radhika Das\, Kirtan Maestro in Australia
DESCRIPTION:UK-based Kirtan artist RADHIKA DAS brings to Australia his devotional music tour MANTRA THAT’LL MOVE SOUL. \nOne of Bhakti Yoga’s most revered musicians in contemporary times\, Radhika’s YouTube videos have 45 million views\, and his live concerts have been sellouts across the world. \nHe is brought to Australia by Live Nation with concerts in Perth\, Sydney\, Melbourne and Brisbane.
URL:https://www.indianlink.com.au/whats-on/radhika-das-kirtan-maestro-in-australia-2/2025-09-26/
LOCATION:regal theatre\, 474 Hay St\, Perth\, Subiaco\, WA\, 6008
CATEGORIES:Happening in Brisbane,Happening in Melbourne,Happening in Perth,Happening in Sydney,Live Music,Music
ATTACH;FMTTYPE=image/jpeg:https://p9dzm74w.tinifycdn.com/wp-content/uploads/2025/05/Radhika-Das-1.jpg
GEO:-31.9467466;115.8236627
X-APPLE-STRUCTURED-LOCATION;VALUE=URI;X-ADDRESS=regal theatre 474 Hay St Perth Subiaco WA 6008;X-APPLE-RADIUS=500;X-TITLE=474 Hay St:geo:115.8236627,-31.9467466
END:VEVENT
END:VCALENDAR