BEGIN:VCALENDAR
VERSION:2.0
PRODID:-//Indian Link - ECPv6.15.20//NONSGML v1.0//EN
CALSCALE:GREGORIAN
METHOD:PUBLISH
X-WR-CALNAME:Indian Link
X-ORIGINAL-URL:https://www.indianlink.com.au
X-WR-CALDESC:Events for Indian Link
REFRESH-INTERVAL;VALUE=DURATION:PT1H
X-Robots-Tag:noindex
X-PUBLISHED-TTL:PT1H
BEGIN:VTIMEZONE
TZID:Australia/Sydney
BEGIN:STANDARD
TZOFFSETFROM:+1100
TZOFFSETTO:+1000
TZNAME:AEST
DTSTART:20240406T160000
END:STANDARD
BEGIN:DAYLIGHT
TZOFFSETFROM:+1000
TZOFFSETTO:+1100
TZNAME:AEDT
DTSTART:20241005T160000
END:DAYLIGHT
BEGIN:STANDARD
TZOFFSETFROM:+1100
TZOFFSETTO:+1000
TZNAME:AEST
DTSTART:20250405T160000
END:STANDARD
BEGIN:DAYLIGHT
TZOFFSETFROM:+1000
TZOFFSETTO:+1100
TZNAME:AEDT
DTSTART:20251004T160000
END:DAYLIGHT
BEGIN:STANDARD
TZOFFSETFROM:+1100
TZOFFSETTO:+1000
TZNAME:AEST
DTSTART:20260404T160000
END:STANDARD
BEGIN:DAYLIGHT
TZOFFSETFROM:+1000
TZOFFSETTO:+1100
TZNAME:AEDT
DTSTART:20261003T160000
END:DAYLIGHT
END:VTIMEZONE
BEGIN:VEVENT
DTSTART;VALUE=DATE:20250607
DTEND;VALUE=DATE:20250609
DTSTAMP:20260423T232128
CREATED:20250521T012751Z
LAST-MODIFIED:20250521T013043Z
UID:10008318-1749254400-1749427199@www.indianlink.com.au
SUMMARY:Sydney Music Festival 2025
DESCRIPTION:Experience the Magic: Sydney Music Festival – Where Indian Tradition Meets Musical Excellence \n\nImmerse yourself in the vibrant rhythms and melodies of the Sydney Music Festival\, now celebrating its 16th year of captivating audiences with the rich tapestry of Indian classical music and dance. Organised by the Swara Laya Fine Arts Society\, this two-day festival promises a cultural experience like no other. \nPrepare to be enchanted by performances of renowned artists from India who will grace the stage with their exceptional talents. Artistes including Trichur Brothers\, Abhishek Raghuram\, S Mahathi\, Palghat Ramprasad\, NJ Nandini\, Nirmala Rajasekar (Veena) JA Jayant (Flute) Rukmini Vijayakumar (Dance)\, Parshwanath Upadhye (Dance) and many more will be featured. \nWhether you’re a seasoned aficionado or a newcomer to the world of Indian classical arts\, the Sydney Music Festival offers something for everyone. Join us for an unforgettable weekend of celebration\, as we come together to enjoy the beauty and richness of this artistic tradition. Experience the magic of Indian culture and music like never before!
URL:https://www.indianlink.com.au/whats-on/sydney-music-festival-2025/
LOCATION:Riverside Theatre\, Corner Church and Market Streets\, Parramatta New South Wales 2150
CATEGORIES:Happening in Sydney,Music
ATTACH;FMTTYPE=image/png:https://p9dzm74w.tinifycdn.com/wp-content/uploads/2025/05/sydney-music-festival-e1747790750510.png
GEO:-33.814785;151.0017218
X-APPLE-STRUCTURED-LOCATION;VALUE=URI;X-ADDRESS=Riverside Theatre Corner Church and Market Streets Parramatta New South Wales 2150;X-APPLE-RADIUS=500;X-TITLE=Corner Church and Market Streets\, Parramatta New South Wales 2150:geo:151.0017218,-33.814785
END:VEVENT
END:VCALENDAR