BEGIN:VCALENDAR
VERSION:2.0
PRODID:-//Indian Link - ECPv6.15.20//NONSGML v1.0//EN
CALSCALE:GREGORIAN
METHOD:PUBLISH
X-WR-CALNAME:Indian Link
X-ORIGINAL-URL:https://www.indianlink.com.au
X-WR-CALDESC:Events for Indian Link
REFRESH-INTERVAL;VALUE=DURATION:PT1H
X-Robots-Tag:noindex
X-PUBLISHED-TTL:PT1H
BEGIN:VTIMEZONE
TZID:Australia/Sydney
BEGIN:STANDARD
TZOFFSETFROM:+1100
TZOFFSETTO:+1000
TZNAME:AEST
DTSTART:20240406T160000
END:STANDARD
BEGIN:DAYLIGHT
TZOFFSETFROM:+1000
TZOFFSETTO:+1100
TZNAME:AEDT
DTSTART:20241005T160000
END:DAYLIGHT
BEGIN:STANDARD
TZOFFSETFROM:+1100
TZOFFSETTO:+1000
TZNAME:AEST
DTSTART:20250405T160000
END:STANDARD
BEGIN:DAYLIGHT
TZOFFSETFROM:+1000
TZOFFSETTO:+1100
TZNAME:AEDT
DTSTART:20251004T160000
END:DAYLIGHT
BEGIN:STANDARD
TZOFFSETFROM:+1100
TZOFFSETTO:+1000
TZNAME:AEST
DTSTART:20260404T160000
END:STANDARD
BEGIN:DAYLIGHT
TZOFFSETFROM:+1000
TZOFFSETTO:+1100
TZNAME:AEDT
DTSTART:20261003T160000
END:DAYLIGHT
BEGIN:STANDARD
TZOFFSETFROM:+1100
TZOFFSETTO:+1000
TZNAME:AEST
DTSTART:20270403T160000
END:STANDARD
BEGIN:DAYLIGHT
TZOFFSETFROM:+1000
TZOFFSETTO:+1100
TZNAME:AEDT
DTSTART:20271002T160000
END:DAYLIGHT
END:VTIMEZONE
BEGIN:VEVENT
DTSTART;TZID=Australia/Sydney:20260405T110000
DTEND;TZID=Australia/Sydney:20260405T140000
DTSTAMP:20260423T103938
CREATED:20260330T234909Z
LAST-MODIFIED:20260331T030828Z
UID:10008865-1775386800-1775397600@www.indianlink.com.au
SUMMARY:Isha Sydney - Yoga & Meditation for Success
DESCRIPTION:Success begins within and Isha Sydney is bringing two powerful back-to-back free sessions to Rouse Hill this April\, perfect for anyone aged 12 and above who is ready to unlock their full potential through the ancient wisdom of yoga and meditation. \nKick off your Sunday morning with Yoga for Success a 45-minute in-person session designed to energise the body\, sharpen the mind\, and set the tone for a life lived with clarity and purpose. Then stay on for Meditation for Success a deeply immersive one-hour session that takes you inward\, helping you cultivate the focus\, calm\, and inner strength that true success is built upon. \nTogether\, these two sessions offer a complete mind-body experience that is rooted in India’s richest yogic traditions\, brought to your local community completely free of charge. Whether you’re a student\, a professional\, or simply someone looking to live and perform better\, this is the Sunday well spent. \nYoga for Success Sunday\, 5 April 2026 | 11:00 AM – 11:45 AM AEST\nLink: iyg.to/r/12354/w \nMeditation for Success Sunday\, 5 April 2026 | 1:00 PM – 2:00 PM AEST\nLink: iyg.to/r/12355/w
URL:https://www.indianlink.com.au/whats-on/isha-sydney-free-yoga-meditation-for-beginners/
LOCATION:Vinegar Hill Memorial Library\, 29 Main St\, Rouse Hill\, Sydney\, NSW\, 2155\, Australia
CATEGORIES:Happening in Sydney,Health
ATTACH;FMTTYPE=image/png:https://p9dzm74w.tinifycdn.com/wp-content/uploads/2026/03/March-Featured-Image-2-2.png
GEO:-33.690621;150.9264617
X-APPLE-STRUCTURED-LOCATION;VALUE=URI;X-ADDRESS=Vinegar Hill Memorial Library 29 Main St Rouse Hill Sydney NSW 2155 Australia;X-APPLE-RADIUS=500;X-TITLE=29 Main St\, Rouse Hill:geo:150.9264617,-33.690621
END:VEVENT
BEGIN:VEVENT
DTSTART;TZID=Australia/Sydney:20250621T100000
DTEND;TZID=Australia/Sydney:20250621T110000
DTSTAMP:20260423T103938
CREATED:20250611T074423Z
LAST-MODIFIED:20250611T074423Z
UID:10008352-1750500000-1750503600@www.indianlink.com.au
SUMMARY:India's High Commission Marks 10 Years of International Day of Yoga
DESCRIPTION:To celebrate the 10th anniversary of the International Day of Yoga\, the High Commission of India in Canberra is hosting a special event that invites the public to embrace the power of yoga for health\, harmony and inner peace. Through this gathering\, the Mission aims to promote global unity and well-being by encouraging widespread participation in the timeless practice of yoga.
URL:https://www.indianlink.com.au/whats-on/indias-high-commission-marks-10-years-of-international-day-of-yoga/
LOCATION:Old Parliament House\, 18 King George Terrace\, Parkes\, Canberra\, ACT\, 2600\, Australia
CATEGORIES:Health
ATTACH;FMTTYPE=image/jpeg:https://p9dzm74w.tinifycdn.com/wp-content/uploads/2025/06/Yoga.jpg
GEO:-35.3023347;149.1296305
X-APPLE-STRUCTURED-LOCATION;VALUE=URI;X-ADDRESS=Old Parliament House 18 King George Terrace Parkes Canberra ACT 2600 Australia;X-APPLE-RADIUS=500;X-TITLE=18 King George Terrace\, Parkes:geo:149.1296305,-35.3023347
END:VEVENT
BEGIN:VEVENT
DTSTART;TZID=Australia/Sydney:20250620T180000
DTEND;TZID=Australia/Sydney:20250620T180000
DTSTAMP:20260423T103938
CREATED:20250611T040735Z
LAST-MODIFIED:20250611T040735Z
UID:10008350-1750442400-1750442400@www.indianlink.com.au
SUMMARY:Men's Health Awareness Ball
DESCRIPTION:Now in its seventh year\, the Men’s Health Awareness Ball returns to Sydney. Founded by Vik Bhandari and Bhavisha Parmar-Bhandari\, the event marks a milestone in 2025 as it welcomes support from other charities for the first time. Leading the charge is Healthy Male\, bringing their trusted\, evidence-based resources to spotlight issues from fertility to mental health. This year’s Ball promises to be more impactful than ever in advancing men’s health across Australia
URL:https://www.indianlink.com.au/whats-on/mens-health-awareness-ball/
LOCATION:Doltone House Darling Island\, 48 Pirrama Rd\, Pyrmont\, Sydney\, NSW\, 2009\, Australia
CATEGORIES:Charity and Causes,Happening in Sydney,Health
ATTACH;FMTTYPE=image/png:https://p9dzm74w.tinifycdn.com/wp-content/uploads/2025/06/Mens-Health-Awareness.png
GEO:-33.866489;151.1958561
X-APPLE-STRUCTURED-LOCATION;VALUE=URI;X-ADDRESS=Doltone House Darling Island 48 Pirrama Rd Pyrmont Sydney NSW 2009 Australia;X-APPLE-RADIUS=500;X-TITLE=48 Pirrama Rd\, Pyrmont:geo:151.1958561,-33.866489
END:VEVENT
END:VCALENDAR