BEGIN:VCALENDAR
VERSION:2.0
PRODID:-//Indian Link - ECPv6.15.20//NONSGML v1.0//EN
CALSCALE:GREGORIAN
METHOD:PUBLISH
X-ORIGINAL-URL:https://www.indianlink.com.au
X-WR-CALDESC:Events for Indian Link
REFRESH-INTERVAL;VALUE=DURATION:PT1H
X-Robots-Tag:noindex
X-PUBLISHED-TTL:PT1H
BEGIN:VTIMEZONE
TZID:Australia/Sydney
BEGIN:STANDARD
TZOFFSETFROM:+1100
TZOFFSETTO:+1000
TZNAME:AEST
DTSTART:20250405T160000
END:STANDARD
BEGIN:DAYLIGHT
TZOFFSETFROM:+1000
TZOFFSETTO:+1100
TZNAME:AEDT
DTSTART:20251004T160000
END:DAYLIGHT
BEGIN:STANDARD
TZOFFSETFROM:+1100
TZOFFSETTO:+1000
TZNAME:AEST
DTSTART:20260404T160000
END:STANDARD
BEGIN:DAYLIGHT
TZOFFSETFROM:+1000
TZOFFSETTO:+1100
TZNAME:AEDT
DTSTART:20261003T160000
END:DAYLIGHT
BEGIN:STANDARD
TZOFFSETFROM:+1100
TZOFFSETTO:+1000
TZNAME:AEST
DTSTART:20270403T160000
END:STANDARD
BEGIN:DAYLIGHT
TZOFFSETFROM:+1000
TZOFFSETTO:+1100
TZNAME:AEDT
DTSTART:20271002T160000
END:DAYLIGHT
END:VTIMEZONE
BEGIN:VEVENT
DTSTART;TZID=Australia/Sydney:20260405T110000
DTEND;TZID=Australia/Sydney:20260405T140000
DTSTAMP:20260423T141221
CREATED:20260330T234909Z
LAST-MODIFIED:20260331T030828Z
UID:10008865-1775386800-1775397600@www.indianlink.com.au
SUMMARY:Isha Sydney - Yoga & Meditation for Success
DESCRIPTION:Success begins within and Isha Sydney is bringing two powerful back-to-back free sessions to Rouse Hill this April\, perfect for anyone aged 12 and above who is ready to unlock their full potential through the ancient wisdom of yoga and meditation. \nKick off your Sunday morning with Yoga for Success a 45-minute in-person session designed to energise the body\, sharpen the mind\, and set the tone for a life lived with clarity and purpose. Then stay on for Meditation for Success a deeply immersive one-hour session that takes you inward\, helping you cultivate the focus\, calm\, and inner strength that true success is built upon. \nTogether\, these two sessions offer a complete mind-body experience that is rooted in India’s richest yogic traditions\, brought to your local community completely free of charge. Whether you’re a student\, a professional\, or simply someone looking to live and perform better\, this is the Sunday well spent. \nYoga for Success Sunday\, 5 April 2026 | 11:00 AM – 11:45 AM AEST\nLink: iyg.to/r/12354/w \nMeditation for Success Sunday\, 5 April 2026 | 1:00 PM – 2:00 PM AEST\nLink: iyg.to/r/12355/w
URL:https://www.indianlink.com.au/whats-on/isha-sydney-free-yoga-meditation-for-beginners/
LOCATION:Vinegar Hill Memorial Library\, 29 Main St\, Rouse Hill\, Sydney\, NSW\, 2155\, Australia
CATEGORIES:Happening in Sydney,Health
ATTACH;FMTTYPE=image/png:https://p9dzm74w.tinifycdn.com/wp-content/uploads/2026/03/March-Featured-Image-2-2.png
GEO:-33.690621;150.9264617
X-APPLE-STRUCTURED-LOCATION;VALUE=URI;X-ADDRESS=Vinegar Hill Memorial Library 29 Main St Rouse Hill Sydney NSW 2155 Australia;X-APPLE-RADIUS=500;X-TITLE=29 Main St\, Rouse Hill:geo:150.9264617,-33.690621
END:VEVENT
END:VCALENDAR