BEGIN:VCALENDAR
VERSION:2.0
PRODID:-//Indian Link - ECPv6.15.20//NONSGML v1.0//EN
CALSCALE:GREGORIAN
METHOD:PUBLISH
X-WR-CALNAME:Indian Link
X-ORIGINAL-URL:https://www.indianlink.com.au
X-WR-CALDESC:Events for Indian Link
REFRESH-INTERVAL;VALUE=DURATION:PT1H
X-Robots-Tag:noindex
X-PUBLISHED-TTL:PT1H
BEGIN:VTIMEZONE
TZID:Australia/Sydney
BEGIN:STANDARD
TZOFFSETFROM:+1100
TZOFFSETTO:+1000
TZNAME:AEST
DTSTART:20240406T160000
END:STANDARD
BEGIN:DAYLIGHT
TZOFFSETFROM:+1000
TZOFFSETTO:+1100
TZNAME:AEDT
DTSTART:20241005T160000
END:DAYLIGHT
BEGIN:STANDARD
TZOFFSETFROM:+1100
TZOFFSETTO:+1000
TZNAME:AEST
DTSTART:20250405T160000
END:STANDARD
BEGIN:DAYLIGHT
TZOFFSETFROM:+1000
TZOFFSETTO:+1100
TZNAME:AEDT
DTSTART:20251004T160000
END:DAYLIGHT
BEGIN:STANDARD
TZOFFSETFROM:+1100
TZOFFSETTO:+1000
TZNAME:AEST
DTSTART:20260404T160000
END:STANDARD
BEGIN:DAYLIGHT
TZOFFSETFROM:+1000
TZOFFSETTO:+1100
TZNAME:AEDT
DTSTART:20261003T160000
END:DAYLIGHT
BEGIN:STANDARD
TZOFFSETFROM:+1100
TZOFFSETTO:+1000
TZNAME:AEST
DTSTART:20270403T160000
END:STANDARD
BEGIN:DAYLIGHT
TZOFFSETFROM:+1000
TZOFFSETTO:+1100
TZNAME:AEDT
DTSTART:20271002T160000
END:DAYLIGHT
END:VTIMEZONE
BEGIN:VEVENT
DTSTART;TZID=Australia/Sydney:20260222T203000
DTEND;TZID=Australia/Sydney:20260222T223000
DTSTAMP:20260423T030324
CREATED:20260204T030255Z
LAST-MODIFIED:20260204T030255Z
UID:10008766-1771792200-1771799400@www.indianlink.com.au
SUMMARY:We Are Faheem & Karun - Mardi Gras Film Festival
DESCRIPTION:Set in a remote Kashmiri village near the Pakistan border\, this tender love story follows a security guard from Kerala and a local college student whose forbidden romance defies religion\, politics\, and military code. Inspired by the true story of a gay Indian army major\, it’s a film that was never supposed to exist. \nWhen: Sunday 22 February | 8:30pm \nWhere: Event Cinemas George St (Mardi Gras Film Festival) \nBonus: The screening will be followed by a Q&A with Onir \nPresented by Queer Screen in partnership with Trikone Australia.
URL:https://www.indianlink.com.au/whats-on/we-are-faheem-karun-mardi-gras-film-festival/
LOCATION:Event Cinemas George Street\, 505/525 George St\, Sydney\, NSW\, 2000\, Australia
CATEGORIES:Festival,Film and Media
ATTACH;FMTTYPE=image/png:https://p9dzm74w.tinifycdn.com/wp-content/uploads/2026/02/we-are-faheem-mardi-gras-film-festival.png
GEO:-33.8751239;151.2060487
X-APPLE-STRUCTURED-LOCATION;VALUE=URI;X-ADDRESS=Event Cinemas George Street 505/525 George St Sydney NSW 2000 Australia;X-APPLE-RADIUS=500;X-TITLE=505/525 George St:geo:151.2060487,-33.8751239
END:VEVENT
BEGIN:VEVENT
DTSTART;TZID=Australia/Sydney:20260221T143000
DTEND;TZID=Australia/Sydney:20260221T170000
DTSTAMP:20260423T030324
CREATED:20260204T025857Z
LAST-MODIFIED:20260204T025857Z
UID:10008765-1771684200-1771693200@www.indianlink.com.au
SUMMARY:An Afternoon with Onir
DESCRIPTION:  \nAcclaimed Indian queer filmmaker ONIR is coming to Sydney. \nWhen the Indian government called the portrayal of a gay army officer “a threat to national security\,” filmmaker Onir made the film anyway. \nThis Mardi Gras\, Trikone Australia is bringing one of South Asia’s most celebrated queer filmmakers to Sydney for two unmissable events. \nJoin National Award-winning director Onir for an intimate session on queer storytelling\, authentic representation\, and independent filmmaking. \nWhat to Expect:\n– Onir’s journey from My Brother Nikhil to his latest work\, We Are Faheem & Karun (the first Kashmiri-language LGBTQI+ film).\n– Screening of a short film made entirely on smartphones by students in Kashmir \n– Behind-the-scenes insights on authentic casting\, actor workshops\, and inclusive storytelling. \n– Plenty of audience interaction + Q&A throughout \nThe first 6 people to register will receive a FREE ticket to Sunday’s screening. \nWhen: Saturday 21 February | 2:30pm – 5pm \nWhere: Redfern Town Hall (73 Pitt St\, Redfern) \nTickets: $45 \nAll proceeds from this event will support Onir’s travel to Sydney for the Mardi Gras Film Festival.
URL:https://www.indianlink.com.au/whats-on/an-afternoon-with-onir/
LOCATION:Redfern Town Hall\, 73 Pitt St\, Redfern\, Sydney\, NSW\, 20116\, Australia
CATEGORIES:Film and Media
ATTACH;FMTTYPE=image/png:https://p9dzm74w.tinifycdn.com/wp-content/uploads/2026/02/evening-with-onir.png
GEO:-33.892265;151.2042856
X-APPLE-STRUCTURED-LOCATION;VALUE=URI;X-ADDRESS=Redfern Town Hall 73 Pitt St Redfern Sydney NSW 20116 Australia;X-APPLE-RADIUS=500;X-TITLE=73 Pitt St\, Redfern:geo:151.2042856,-33.892265
END:VEVENT
BEGIN:VEVENT
DTSTART;TZID=Australia/Sydney:20250423T181500
DTEND;TZID=Australia/Sydney:20250423T191500
DTSTAMP:20260423T030324
CREATED:20250402T170353Z
LAST-MODIFIED:20250402T194940Z
UID:10008277-1745432100-1745435700@www.indianlink.com.au
SUMMARY:TWIRL: Film screening and panel discussion
DESCRIPTION:  \nCome along to a screening of the documentary Twirl\, an exploration of India’s ancient dance genre Kathak and the efforts of performer and choreographer Niharika Sanghi to keep this art form alive in Sydney. \nStay on for a live Kathak performance\, and hear from filmmaker Emie Roy in conversation with a panel of practitioners who will discuss culture\, art\, film\, and the role of facilitators in supporting artists.
URL:https://www.indianlink.com.au/whats-on/twirl-film-screening-and-panel-discussion/
LOCATION:NSW
CATEGORIES:Film and Media,Happening in Sydney
ATTACH;FMTTYPE=image/jpeg:https://p9dzm74w.tinifycdn.com/wp-content/uploads/2025/04/TWIRL-by-Emie-Roy-2.jpg
END:VEVENT
END:VCALENDAR