BEGIN:VCALENDAR
VERSION:2.0
PRODID:-//Indian Link - ECPv6.15.20//NONSGML v1.0//EN
CALSCALE:GREGORIAN
METHOD:PUBLISH
X-ORIGINAL-URL:https://www.indianlink.com.au
X-WR-CALDESC:Events for Indian Link
REFRESH-INTERVAL;VALUE=DURATION:PT1H
X-Robots-Tag:noindex
X-PUBLISHED-TTL:PT1H
BEGIN:VTIMEZONE
TZID:Australia/Sydney
BEGIN:STANDARD
TZOFFSETFROM:+1100
TZOFFSETTO:+1000
TZNAME:AEST
DTSTART:20250405T160000
END:STANDARD
BEGIN:DAYLIGHT
TZOFFSETFROM:+1000
TZOFFSETTO:+1100
TZNAME:AEDT
DTSTART:20251004T160000
END:DAYLIGHT
BEGIN:STANDARD
TZOFFSETFROM:+1100
TZOFFSETTO:+1000
TZNAME:AEST
DTSTART:20260404T160000
END:STANDARD
BEGIN:DAYLIGHT
TZOFFSETFROM:+1000
TZOFFSETTO:+1100
TZNAME:AEDT
DTSTART:20261003T160000
END:DAYLIGHT
BEGIN:STANDARD
TZOFFSETFROM:+1100
TZOFFSETTO:+1000
TZNAME:AEST
DTSTART:20270403T160000
END:STANDARD
BEGIN:DAYLIGHT
TZOFFSETFROM:+1000
TZOFFSETTO:+1100
TZNAME:AEDT
DTSTART:20271002T160000
END:DAYLIGHT
END:VTIMEZONE
BEGIN:VEVENT
DTSTART;TZID=Australia/Sydney:20260222T203000
DTEND;TZID=Australia/Sydney:20260222T223000
DTSTAMP:20260423T122025
CREATED:20260204T030255Z
LAST-MODIFIED:20260204T030255Z
UID:10008766-1771792200-1771799400@www.indianlink.com.au
SUMMARY:We Are Faheem & Karun - Mardi Gras Film Festival
DESCRIPTION:Set in a remote Kashmiri village near the Pakistan border\, this tender love story follows a security guard from Kerala and a local college student whose forbidden romance defies religion\, politics\, and military code. Inspired by the true story of a gay Indian army major\, it’s a film that was never supposed to exist. \nWhen: Sunday 22 February | 8:30pm \nWhere: Event Cinemas George St (Mardi Gras Film Festival) \nBonus: The screening will be followed by a Q&A with Onir \nPresented by Queer Screen in partnership with Trikone Australia.
URL:https://www.indianlink.com.au/whats-on/we-are-faheem-karun-mardi-gras-film-festival/
LOCATION:Event Cinemas George Street\, 505/525 George St\, Sydney\, NSW\, 2000\, Australia
CATEGORIES:Festival,Film and Media
ATTACH;FMTTYPE=image/png:https://p9dzm74w.tinifycdn.com/wp-content/uploads/2026/02/we-are-faheem-mardi-gras-film-festival.png
GEO:-33.8751239;151.2060487
X-APPLE-STRUCTURED-LOCATION;VALUE=URI;X-ADDRESS=Event Cinemas George Street 505/525 George St Sydney NSW 2000 Australia;X-APPLE-RADIUS=500;X-TITLE=505/525 George St:geo:151.2060487,-33.8751239
END:VEVENT
END:VCALENDAR