BEGIN:VCALENDAR
VERSION:2.0
PRODID:-//Indian Link - ECPv6.15.20//NONSGML v1.0//EN
CALSCALE:GREGORIAN
METHOD:PUBLISH
X-ORIGINAL-URL:https://www.indianlink.com.au
X-WR-CALDESC:Events for Indian Link
REFRESH-INTERVAL;VALUE=DURATION:PT1H
X-Robots-Tag:noindex
X-PUBLISHED-TTL:PT1H
BEGIN:VTIMEZONE
TZID:Australia/Sydney
BEGIN:STANDARD
TZOFFSETFROM:+1100
TZOFFSETTO:+1000
TZNAME:AEST
DTSTART:20240406T160000
END:STANDARD
BEGIN:DAYLIGHT
TZOFFSETFROM:+1000
TZOFFSETTO:+1100
TZNAME:AEDT
DTSTART:20241005T160000
END:DAYLIGHT
BEGIN:STANDARD
TZOFFSETFROM:+1100
TZOFFSETTO:+1000
TZNAME:AEST
DTSTART:20250405T160000
END:STANDARD
BEGIN:DAYLIGHT
TZOFFSETFROM:+1000
TZOFFSETTO:+1100
TZNAME:AEDT
DTSTART:20251004T160000
END:DAYLIGHT
BEGIN:STANDARD
TZOFFSETFROM:+1100
TZOFFSETTO:+1000
TZNAME:AEST
DTSTART:20260404T160000
END:STANDARD
BEGIN:DAYLIGHT
TZOFFSETFROM:+1000
TZOFFSETTO:+1100
TZNAME:AEDT
DTSTART:20261003T160000
END:DAYLIGHT
END:VTIMEZONE
BEGIN:VEVENT
DTSTART;TZID=Australia/Sydney:20251003T190000
DTEND;TZID=Australia/Sydney:20251004T230000
DTSTAMP:20260423T105131
CREATED:20251001T065920Z
LAST-MODIFIED:20251001T065920Z
UID:10008642-1759518000-1759618800@www.indianlink.com.au
SUMMARY:Navrang Garba 2025 - Perth
DESCRIPTION:Don’t put away those Dandiya sticks just yet!\nThis weekend’s your last chance to twirl\, clap\, and dance the night away in a riot of colours\, music\, and festive spirit \n\nNavrang Garba 2025 at PCEC this time.
URL:https://www.indianlink.com.au/whats-on/navrang-garba-2025-perth/
LOCATION:Perth Convention and Exhibition Centre\, 21 Mounts Bay Rd\, Perth\, WA\, 6000
CATEGORIES:Community,Dance
ATTACH;FMTTYPE=image/jpeg:https://p9dzm74w.tinifycdn.com/wp-content/uploads/2025/10/Perth-navrang-garba.jpg
GEO:-31.9561198;115.8527834
X-APPLE-STRUCTURED-LOCATION;VALUE=URI;X-ADDRESS=Perth Convention and Exhibition Centre 21 Mounts Bay Rd Perth WA 6000;X-APPLE-RADIUS=500;X-TITLE=21 Mounts Bay Rd:geo:115.8527834,-31.9561198
END:VEVENT
BEGIN:VEVENT
DTSTART;TZID=Australia/Sydney:20250922T193000
DTEND;TZID=Australia/Sydney:20250922T220000
DTSTAMP:20260423T105131
CREATED:20250828T012058Z
LAST-MODIFIED:20250828T012058Z
UID:10008566-1758569400-1758578400@www.indianlink.com.au
SUMMARY:Rangtaali Garba by Shree Jalaram Mandal of Western Australia 2025
DESCRIPTION:It’s that festive time of the year again – when the beats of the dhol\, the colours of traditional attire\, and the joy of community dancing light up the season! Shree Jalaram Mandal of WA warmly invites you to celebrate Rangtaali Garba\, a vibrant and soulful event that brings people together to revel in the spirit of Navratri. \nHappening from 22nd September to 1st October\, the event will host Garba sessions in both the afternoon and evening\, giving everyone a chance to join in the celebrations at a time that suits them. Expect high-energy traditional music\, foot-tapping beats\, and an atmosphere filled with devotion\, fun\, and cultural pride. \nWhether you’re an experienced dancer or just looking to enjoy the festive spirit with friends and family\, Rangtaali Garba promises to be an inclusive celebration for all. Come dressed in your best traditional outfits\, twirl to the rhythm of Garba and Dandiya\, and be part of a cultural gathering that keeps traditions alive in the heart of Western Australia. \n📅 Dates: 22 September – 1 October🕰️ Sessions: Afternoon & Evening \nCelebrate Navratri with music\, dance\, and community — Rangtaali Garba 2025 is where the spirit of festivity comes alive!
URL:https://www.indianlink.com.au/whats-on/rangtaali-garba-by-shree-jalaram-mandal-of-western-australia-2025/2025-09-22/2/
LOCATION:shree jalaram santanam community centre\, 4 Accomplish Way\, Gnangara\, Perth\, Western Australia\, 6077\, Australia
CATEGORIES:Dance,Happening in Perth
ATTACH;FMTTYPE=image/jpeg:https://p9dzm74w.tinifycdn.com/wp-content/uploads/2025/08/528657829_18315573925300808_3658371203091538390_n.jpg
GEO:-31.7894794;115.8606901
X-APPLE-STRUCTURED-LOCATION;VALUE=URI;X-ADDRESS=shree jalaram santanam community centre 4 Accomplish Way Gnangara Perth Western Australia 6077 Australia;X-APPLE-RADIUS=500;X-TITLE=4 Accomplish Way\, Gnangara:geo:115.8606901,-31.7894794
END:VEVENT
BEGIN:VEVENT
DTSTART;TZID=Australia/Sydney:20250922T150000
DTEND;TZID=Australia/Sydney:20251002T170000
DTSTAMP:20260423T105131
CREATED:20250828T012058Z
LAST-MODIFIED:20250828T012058Z
UID:10008565-1758553200-1759424400@www.indianlink.com.au
SUMMARY:Rangtaali Garba by Shree Jalaram Mandal of Western Australia 2025
DESCRIPTION:It’s that festive time of the year again – when the beats of the dhol\, the colours of traditional attire\, and the joy of community dancing light up the season! Shree Jalaram Mandal of WA warmly invites you to celebrate Rangtaali Garba\, a vibrant and soulful event that brings people together to revel in the spirit of Navratri. \nHappening from 22nd September to 1st October\, the event will host Garba sessions in both the afternoon and evening\, giving everyone a chance to join in the celebrations at a time that suits them. Expect high-energy traditional music\, foot-tapping beats\, and an atmosphere filled with devotion\, fun\, and cultural pride. \nWhether you’re an experienced dancer or just looking to enjoy the festive spirit with friends and family\, Rangtaali Garba promises to be an inclusive celebration for all. Come dressed in your best traditional outfits\, twirl to the rhythm of Garba and Dandiya\, and be part of a cultural gathering that keeps traditions alive in the heart of Western Australia. \n📅 Dates: 22 September – 1 October🕰️ Sessions: Afternoon & Evening \nCelebrate Navratri with music\, dance\, and community — Rangtaali Garba 2025 is where the spirit of festivity comes alive!
URL:https://www.indianlink.com.au/whats-on/rangtaali-garba-by-shree-jalaram-mandal-of-western-australia-2025/2025-09-22/1/
LOCATION:shree jalaram santanam community centre\, 4 Accomplish Way\, Gnangara\, Perth\, Western Australia\, 6077\, Australia
CATEGORIES:Dance,Happening in Perth
ATTACH;FMTTYPE=image/jpeg:https://p9dzm74w.tinifycdn.com/wp-content/uploads/2025/08/528657829_18315573925300808_3658371203091538390_n.jpg
GEO:-31.7894794;115.8606901
X-APPLE-STRUCTURED-LOCATION;VALUE=URI;X-ADDRESS=shree jalaram santanam community centre 4 Accomplish Way Gnangara Perth Western Australia 6077 Australia;X-APPLE-RADIUS=500;X-TITLE=4 Accomplish Way\, Gnangara:geo:115.8606901,-31.7894794
END:VEVENT
BEGIN:VEVENT
DTSTART;TZID=Australia/Sydney:20250906T160000
DTEND;TZID=Australia/Sydney:20250906T193000
DTSTAMP:20260423T105131
CREATED:20250626T043105Z
LAST-MODIFIED:20250626T043105Z
UID:10008360-1757174400-1757187000@www.indianlink.com.au
SUMMARY:Touch
DESCRIPTION:TOUCH captivated audiences with a sold-out season at Dancehouse during the 2023 Melbourne Fringe Festival\, earning praise as a must-see. Fusing Ballet and Bharatanatyam\, the work explores themes of prejudice\, isolation\, and identity\, while celebrating multiculturalism and connection through dance. At its core\, TOUCH is a powerful call for inclusivity\, creativity\, and cultural understanding.
URL:https://www.indianlink.com.au/whats-on/touch/
LOCATION:WA
CATEGORIES:Dance,Happening in Melbourne,Stage and Performing
ATTACH;FMTTYPE=image/jpeg:https://p9dzm74w.tinifycdn.com/wp-content/uploads/2025/06/Touch.jpg
END:VEVENT
END:VCALENDAR