BEGIN:VCALENDAR
VERSION:2.0
PRODID:-//Indian Link - ECPv6.15.20//NONSGML v1.0//EN
CALSCALE:GREGORIAN
METHOD:PUBLISH
X-WR-CALNAME:Indian Link
X-ORIGINAL-URL:https://www.indianlink.com.au
X-WR-CALDESC:Events for Indian Link
REFRESH-INTERVAL;VALUE=DURATION:PT1H
X-Robots-Tag:noindex
X-PUBLISHED-TTL:PT1H
BEGIN:VTIMEZONE
TZID:Australia/Sydney
BEGIN:STANDARD
TZOFFSETFROM:+1100
TZOFFSETTO:+1000
TZNAME:AEST
DTSTART:20240406T160000
END:STANDARD
BEGIN:DAYLIGHT
TZOFFSETFROM:+1000
TZOFFSETTO:+1100
TZNAME:AEDT
DTSTART:20241005T160000
END:DAYLIGHT
BEGIN:STANDARD
TZOFFSETFROM:+1100
TZOFFSETTO:+1000
TZNAME:AEST
DTSTART:20250405T160000
END:STANDARD
BEGIN:DAYLIGHT
TZOFFSETFROM:+1000
TZOFFSETTO:+1100
TZNAME:AEDT
DTSTART:20251004T160000
END:DAYLIGHT
BEGIN:STANDARD
TZOFFSETFROM:+1100
TZOFFSETTO:+1000
TZNAME:AEST
DTSTART:20260404T160000
END:STANDARD
BEGIN:DAYLIGHT
TZOFFSETFROM:+1000
TZOFFSETTO:+1100
TZNAME:AEDT
DTSTART:20261003T160000
END:DAYLIGHT
BEGIN:STANDARD
TZOFFSETFROM:+1100
TZOFFSETTO:+1000
TZNAME:AEST
DTSTART:20270403T160000
END:STANDARD
BEGIN:DAYLIGHT
TZOFFSETFROM:+1000
TZOFFSETTO:+1100
TZNAME:AEDT
DTSTART:20271002T160000
END:DAYLIGHT
END:VTIMEZONE
BEGIN:VEVENT
DTSTART;TZID=Australia/Sydney:20260307T183000
DTEND;TZID=Australia/Sydney:20260307T213000
DTSTAMP:20260423T084729
CREATED:20260227T030910Z
LAST-MODIFIED:20260227T030910Z
UID:10008848-1772908200-1772919000@www.indianlink.com.au
SUMMARY:Swar Sandhya with Amruta Pol Deshpande
DESCRIPTION:Swar Sandhya is a popular open-mic\, karaoke-style evening celebrating Hindi film music in Melbourne. Sing your favourite songs or simply sit back and enjoy a relaxed night of live music with the community. \nThis edition features invited guest artist Amruta Pol Deshpande\, a trained Hindustani classical and semi-classical vocalist who leads the Swardhara musical group in Melbourne. \nWhen: Saturday\, 7 March 20266:30pm for a 7:00pm startWhere: Waverley Meadows Primary School Concert Hall\, Wheelers HillTickets: Free (voluntary contributions appreciated) \nEnquiries: Ashutosh – 0422 400 643 | Neeraj – 0452 669 305
URL:https://www.indianlink.com.au/whats-on/swar-sandhya-with-amruta-pol-deshpande/
LOCATION:Waverley Meadows Primary School Concert Hall\, 11-27 Columbia Drive\, Wheelers Hill\, VIC\, 3150\, Australia
CATEGORIES:Classical Music
ATTACH;FMTTYPE=image/jpeg:https://p9dzm74w.tinifycdn.com/wp-content/uploads/2026/02/swar-sandhya-2026.jpg
GEO:-37.9145067;145.1841857
X-APPLE-STRUCTURED-LOCATION;VALUE=URI;X-ADDRESS=Waverley Meadows Primary School Concert Hall 11-27 Columbia Drive Wheelers Hill VIC 3150 Australia;X-APPLE-RADIUS=500;X-TITLE=11-27 Columbia Drive:geo:145.1841857,-37.9145067
END:VEVENT
BEGIN:VEVENT
DTSTART;TZID=Australia/Sydney:20250629T160000
DTEND;TZID=Australia/Sydney:20250629T190000
DTSTAMP:20260423T084729
CREATED:20250521T054426Z
LAST-MODIFIED:20250521T054426Z
UID:10008320-1751212800-1751223600@www.indianlink.com.au
SUMMARY:Sarod Maestro Amaan Ali Bangash Live in Melbourne - 2025
DESCRIPTION:Experience the brilliance of Sarod Maestro Amaan Ali Bangash with the incredible Tabla Maestro Anubrata Chatterjee. Join us for an unforgettable evening of soulful music in support of 🧠 mental health awareness. 🎶\n\nBook your seats now!
URL:https://www.indianlink.com.au/whats-on/sarod-maestro-amaan-ali-bangash-live-in-melbourne-2025/
LOCATION:Ivanhoe library and cultural hub\, 275 Upper Heidelberg Rd\, Ivanhoe\, Melbourne\, VIC\, 3079
CATEGORIES:Classical Music,Happening in Melbourne
ATTACH;FMTTYPE=image/jpeg:https://p9dzm74w.tinifycdn.com/wp-content/uploads/2025/05/Amman-ali-bangaash.jpg
GEO:-37.7662297;145.0455745
X-APPLE-STRUCTURED-LOCATION;VALUE=URI;X-ADDRESS=Ivanhoe library and cultural hub 275 Upper Heidelberg Rd Ivanhoe Melbourne VIC 3079;X-APPLE-RADIUS=500;X-TITLE=275 Upper Heidelberg Rd\, Ivanhoe:geo:145.0455745,-37.7662297
END:VEVENT
BEGIN:VEVENT
DTSTART;TZID=Australia/Sydney:20250627T193000
DTEND;TZID=Australia/Sydney:20250627T220000
DTSTAMP:20260423T084729
CREATED:20250521T053939Z
LAST-MODIFIED:20250521T053939Z
UID:10008319-1751052600-1751061600@www.indianlink.com.au
SUMMARY:Sarod Maestro Amaan Ali Bangash Live in Sydney - 2025
DESCRIPTION:Experience the brilliance of Sarod Maestro Amaan Ali Bangash with the incredible Tabla Maestro Anubrata Chatterjee. Join us for an unforgettable evening of soulful music in support of 🧠 mental health awareness. 🎶\n\nBook your seats now: https://linktr.ee/manmohini
URL:https://www.indianlink.com.au/whats-on/sarod-maestro-amaan-ali-bangash-live-in-sydney-2025/
LOCATION:Pacific Hills Christian School\, 9 Quarry Rd\, Dural\, NSW\, 2158\, Australia
CATEGORIES:Classical Music
ATTACH;FMTTYPE=image/jpeg:https://p9dzm74w.tinifycdn.com/wp-content/uploads/2025/05/Amman-ali-bangaash.jpg
GEO:-33.6968889;151.0377655
X-APPLE-STRUCTURED-LOCATION;VALUE=URI;X-ADDRESS=Pacific Hills Christian School 9 Quarry Rd Dural NSW 2158 Australia;X-APPLE-RADIUS=500;X-TITLE=9 Quarry Rd:geo:151.0377655,-33.6968889
END:VEVENT
BEGIN:VEVENT
DTSTART;TZID=Australia/Sydney:20250517T140000
DTEND;TZID=Australia/Sydney:20250517T170000
DTSTAMP:20260423T084729
CREATED:20250514T002010Z
LAST-MODIFIED:20250514T002129Z
UID:10008292-1747490400-1747501200@www.indianlink.com.au
SUMMARY:Shanul Sharma performs in Rossini in Paris
DESCRIPTION:Join Sydney Philharmonia Choirs for a special one-off concert celebrating Gioachino Rossini’s fascinating Parisian years\, with two works from vastly different phases of his career. \nExperience the dramatic sweep of Guillaume Tell (1829)\, known for its iconic overture made famous by The Lone Ranger\, alongside the rarely performed Petite messe solennelle (1864) – Rossini’s joyful\, expansive “little” mass\, written towards the end of his life. \nConducted by Brett Weymark OAM\, this uplifting afternoon features a 450-voice Festival Chorus\, the Sydney Philharmonia Orchestra led by violinist Fiona Ziegler\, and stellar soloists including Celeste Lazarenko\, Ashlyn Tymms\, and Opera Australia stars Shanul Sharma and Nathan Lay. \nThe concert also launches a new collaboration between SPC and Opera Australia\, with OA Chorus members joining this spectacular celebration. \nSaturday May 17\, 2pm – Sydney Opera House Concert HallTickets from $45 ($41 Concession | $30 Under 30s) + booking feeBook now: sydneyphilharmonia.com.au/rossini/ \nFree pre-concert talk at 1.15pm in the Northern Foyer. \nDiscover the “two Rossinis” – the brilliant young opera star and the witty older composer who returned to Paris with renewed joy and creativity.
URL:https://www.indianlink.com.au/whats-on/shanul-sharma-performs-in-sydney-philharmonia-choirs-rossini-in-paris/
LOCATION:Sydney Opera House\, Bennelong Point\, Sydney\, NSW\, 2000\, Australia
CATEGORIES:Classical Music
ATTACH;FMTTYPE=image/jpeg:https://p9dzm74w.tinifycdn.com/wp-content/uploads/2025/05/Rossini-In-Paris-16x9-Hero-e1747181996218.jpg
GEO:-33.8565361;151.2149964
X-APPLE-STRUCTURED-LOCATION;VALUE=URI;X-ADDRESS=Sydney Opera House Bennelong Point Sydney NSW 2000 Australia;X-APPLE-RADIUS=500;X-TITLE=Bennelong Point:geo:151.2149964,-33.8565361
END:VEVENT
BEGIN:VEVENT
DTSTART;TZID=Australia/Sydney:20250502T193000
DTEND;TZID=Australia/Sydney:20250502T220000
DTSTAMP:20260423T084729
CREATED:20250409T042250Z
LAST-MODIFIED:20250409T042250Z
UID:10008280-1746214200-1746223200@www.indianlink.com.au
SUMMARY:Musical Odyssey – Kaushiki Chakraborty & Rishith Desikan
DESCRIPTION:Experience an evening of pure musical brilliance as the legendary Kaushiki Chakraborty and her exceptionally talented son\, Rishith Desikan\, take you on a soulful journey through the depths of Indian classical and contemporary music. ✨ \nThis one-of-a-kind concert celebrates the beautiful bond of music passed through generations\, blending tradition with fresh artistry in a mesmerizing performance.
URL:https://www.indianlink.com.au/whats-on/musical-odyssey-kaushiki-chakraborty-rishith-desikan/
LOCATION:Sir John Clancy Auditorium\, Sir John Clancy Auditorium (C24)\, Clancy Auditorium UNSW Sydney\, Chancellery Walk\, Kensington NSW\, Australia
CATEGORIES:Classical Music,Happening in Sydney
ATTACH;FMTTYPE=image/jpeg:https://p9dzm74w.tinifycdn.com/wp-content/uploads/2025/04/musical-odyssey-e1744172534622.jpeg
GEO:-33.9170619;151.2360184
X-APPLE-STRUCTURED-LOCATION;VALUE=URI;X-ADDRESS=Sir John Clancy Auditorium Sir John Clancy Auditorium (C24) Clancy Auditorium UNSW Sydney Chancellery Walk Kensington NSW Australia;X-APPLE-RADIUS=500;X-TITLE=Sir John Clancy Auditorium (C24)\, Clancy Auditorium UNSW Sydney\, Chancellery Walk\, Kensington NSW\, Australia:geo:151.2360184,-33.9170619
END:VEVENT
BEGIN:VEVENT
DTSTART;TZID=Australia/Sydney:20250117T190000
DTEND;TZID=Australia/Sydney:20250117T210000
DTSTAMP:20260423T084729
CREATED:20240814T010710Z
LAST-MODIFIED:20250107T064720Z
UID:10002088-1737140400-1737147600@www.indianlink.com.au
SUMMARY:As We Speak - LIVE in Melbourne
DESCRIPTION:“When we are performing on stage\, in composing mode or creating mode\, we are basically having a conversation. So\, the music emerges as we speak” – Zakir Hussain \nPrepare to be mesmerized as four musical legends—Béla Fleck\, Zakir Hussain\, Edgar Meyer\, and Rakesh Chaurasia—unite on stage to perform their Grammy-winning masterpiece As We Speak. This extraordinary ensemble weaves together the intricate rhythms of Indian classical music\, the refined elegance of Western classical\, and the soulful pulse of Bluegrass. Each note is a conversation\, a seamless blend of improvisation and mastery\, as these virtuosos glide effortlessly from the cerebral complexity of raga to the deep groove of a funky bass line. \nCollectively boasting 31 GRAMMY Awards\, these artists promise an evening of unparalleled musical brilliance. \nGet your Tickets Now!!!
URL:https://www.indianlink.com.au/whats-on/as-we-speak-live-in-melbourne/
LOCATION:Hammer Hall\, 100 St Kilda Rd\, Southbank\, VIC\, 3004\, Australia
CATEGORIES:Classical Music,Happening in Melbourne
ATTACH;FMTTYPE=image/png:https://p9dzm74w.tinifycdn.com/wp-content/uploads/2024/08/As-we-speak.png
ORGANIZER;CN="Marching Elephants Entertainment":MAILTO:laughtertour@gmail.com
GEO:-37.8201562;144.9679812
X-APPLE-STRUCTURED-LOCATION;VALUE=URI;X-ADDRESS=Hammer Hall 100 St Kilda Rd Southbank VIC 3004 Australia;X-APPLE-RADIUS=500;X-TITLE=100 St Kilda Rd:geo:144.9679812,-37.8201562
END:VEVENT
END:VCALENDAR