BEGIN:VCALENDAR
VERSION:2.0
PRODID:-//Indian Link - ECPv6.15.20//NONSGML v1.0//EN
CALSCALE:GREGORIAN
METHOD:PUBLISH
X-WR-CALNAME:Indian Link
X-ORIGINAL-URL:https://www.indianlink.com.au
X-WR-CALDESC:Events for Indian Link
REFRESH-INTERVAL;VALUE=DURATION:PT1H
X-Robots-Tag:noindex
X-PUBLISHED-TTL:PT1H
BEGIN:VTIMEZONE
TZID:Australia/Sydney
BEGIN:STANDARD
TZOFFSETFROM:+1100
TZOFFSETTO:+1000
TZNAME:AEST
DTSTART:20240406T160000
END:STANDARD
BEGIN:DAYLIGHT
TZOFFSETFROM:+1000
TZOFFSETTO:+1100
TZNAME:AEDT
DTSTART:20241005T160000
END:DAYLIGHT
BEGIN:STANDARD
TZOFFSETFROM:+1100
TZOFFSETTO:+1000
TZNAME:AEST
DTSTART:20250405T160000
END:STANDARD
BEGIN:DAYLIGHT
TZOFFSETFROM:+1000
TZOFFSETTO:+1100
TZNAME:AEDT
DTSTART:20251004T160000
END:DAYLIGHT
BEGIN:STANDARD
TZOFFSETFROM:+1100
TZOFFSETTO:+1000
TZNAME:AEST
DTSTART:20260404T160000
END:STANDARD
BEGIN:DAYLIGHT
TZOFFSETFROM:+1000
TZOFFSETTO:+1100
TZNAME:AEDT
DTSTART:20261003T160000
END:DAYLIGHT
END:VTIMEZONE
BEGIN:VEVENT
DTSTART;TZID=Australia/Sydney:20250816T093000
DTEND;TZID=Australia/Sydney:20250816T150000
DTSTAMP:20260424T070057
CREATED:20250730T072207Z
LAST-MODIFIED:20250730T072207Z
UID:10008421-1755336600-1755356400@www.indianlink.com.au
SUMMARY:Vision 2020 Carnival – Clay\, Culture & Community!
DESCRIPTION:Join the fun at this vibrant fundraiser carnival in support of Koshika Foundation’s life-saving medical programs. Enjoy a hands-on Ganesha clay idol-making workshop with art icon Murthy Anjanappa – all materials provided\, and it’s beginner & eco-friendly! \nKids and adults alike can:Learn a new skillSnack on delicious Indian foodJoin a flash mobShop for jewellery\, ethnic wear & more! \nEntry is free\, with workshops at $25 per session (ages 5+).Happening at Thornleigh West Public School\, with 3 workshop sessions between 9:30 AM and 3:00 PM.\n(9.30am – 11.00am; 11.30am – 1.00pm; 1.30pm – 3.00pm) \nCONTACT: Anu Shivaram 0423 760 168 \nLet’s celebrate community\, creativity\, and a cause – don’t miss it!
URL:https://www.indianlink.com.au/whats-on/vision-2020-carnival-clay-culture-community/
LOCATION:Thornleigh West Public School\, 18 Giblett Ave\,\, Sydney\, NSW\, 2120\, Australia
CATEGORIES:Charity and Causes
ATTACH;FMTTYPE=image/png:https://p9dzm74w.tinifycdn.com/wp-content/uploads/2025/07/Vision-2020-Carnival.png
GEO:-33.7238339;151.0721437
X-APPLE-STRUCTURED-LOCATION;VALUE=URI;X-ADDRESS=Thornleigh West Public School 18 Giblett Ave Sydney NSW 2120 Australia;X-APPLE-RADIUS=500;X-TITLE=18 Giblett Ave\,:geo:151.0721437,-33.7238339
END:VEVENT
END:VCALENDAR