BEGIN:VCALENDAR
VERSION:2.0
PRODID:-//Indian Link - ECPv6.15.20//NONSGML v1.0//EN
CALSCALE:GREGORIAN
METHOD:PUBLISH
X-ORIGINAL-URL:https://www.indianlink.com.au
X-WR-CALDESC:Events for Indian Link
REFRESH-INTERVAL;VALUE=DURATION:PT1H
X-Robots-Tag:noindex
X-PUBLISHED-TTL:PT1H
BEGIN:VTIMEZONE
TZID:Australia/Sydney
BEGIN:STANDARD
TZOFFSETFROM:+1100
TZOFFSETTO:+1000
TZNAME:AEST
DTSTART:20250405T160000
END:STANDARD
BEGIN:DAYLIGHT
TZOFFSETFROM:+1000
TZOFFSETTO:+1100
TZNAME:AEDT
DTSTART:20251004T160000
END:DAYLIGHT
BEGIN:STANDARD
TZOFFSETFROM:+1100
TZOFFSETTO:+1000
TZNAME:AEST
DTSTART:20260404T160000
END:STANDARD
BEGIN:DAYLIGHT
TZOFFSETFROM:+1000
TZOFFSETTO:+1100
TZNAME:AEDT
DTSTART:20261003T160000
END:DAYLIGHT
BEGIN:STANDARD
TZOFFSETFROM:+1100
TZOFFSETTO:+1000
TZNAME:AEST
DTSTART:20270403T160000
END:STANDARD
BEGIN:DAYLIGHT
TZOFFSETFROM:+1000
TZOFFSETTO:+1100
TZNAME:AEDT
DTSTART:20271002T160000
END:DAYLIGHT
END:VTIMEZONE
BEGIN:VEVENT
DTSTART;VALUE=DATE:20260207
DTEND;VALUE=DATE:20261109
DTSTAMP:20260423T075934
CREATED:20250923T064956Z
LAST-MODIFIED:20250923T071024Z
UID:10008632-1770422400-1794182399@www.indianlink.com.au
SUMMARY:Learning Ayurveda and Ashtanga Yoga for Holistic Wellness & Healing
DESCRIPTION:  \n\n\nTo provide comprehensive information about wisdom of Ayurveda and Ashtanga Yoga\, a series of talks is being organised in the Central Coast area of Sydney near Ettalong Beach\, about a minute’s walk from the Beach at the annexe of Ettalong 50 + Leisure & Learning Centre.\n\n\n\n\n\nSpeaker\n\n\nProf. (Dr) Raj Kumar Sharma – A renowned Ayurveda scholar\, with more than 40 years of experience in teaching and practice of Ayurveda in India at Dayanand Ayurvedic College and Hospital\, Jalandhar\, as Professor\, Principal\, and Assistant Director\, with the public sector as Ayurvedic Medical Officer. \nFounder and Executive Editor\, Ayurvedic Magazine – D A V Ayurveda for Holistic Health \n\n\n\n\n\n\nDetails of the Talks Series Programme\n\n\n\n\n\n\nFor an extensive understanding of the topic and the convenience of the participants\, and to accommodate their busy schedule\, the series of talks has been spread into \nOne Weekend a Month (First Weekend) \nTen Weekends a Year \nFebruary 2026 to November 2026 \nDates of the weekends of the month- February 7 & 8\, March 7 & 8\, April 4 & 5\, May 2 & 3\, June 6 & 7\, July 4 & 5\, August 1 & 2\, Sept 5 & 6\, October 3 & 4\, Nov 7 & 8 \n10 to 3 pm schedule (Lunch Break 12- 1 pm) \nGET TICKETS HERE: https://www.drrajkumarsharma.com/ettalong-talk-series/
URL:https://www.indianlink.com.au/whats-on/learning-ayurveda-and-ashtanga-yoga-for-holistic-wellness-healing/
LOCATION:Ettalong 50+ Leisure & Learning Centre\, 5-7\, Broken Bay Road\, Ettalong\, Sydney\, NSW\, 2257\, Australia
ATTACH;FMTTYPE=image/jpeg:https://p9dzm74w.tinifycdn.com/wp-content/uploads/2025/09/WhatsApp-Image-2025-09-23-at-1.53.12-PM.jpeg
GEO:-33.5134348;151.3341445
X-APPLE-STRUCTURED-LOCATION;VALUE=URI;X-ADDRESS=Ettalong 50+ Leisure & Learning Centre 5-7 Broken Bay Road Ettalong Sydney NSW 2257 Australia;X-APPLE-RADIUS=500;X-TITLE=5-7\, Broken Bay Road\, Ettalong:geo:151.3341445,-33.5134348
END:VEVENT
BEGIN:VEVENT
DTSTART;VALUE=DATE:20260322
DTEND;VALUE=DATE:20260831
DTSTAMP:20260423T075934
CREATED:20260319T010056Z
LAST-MODIFIED:20260319T010056Z
UID:10008858-1774137600-1788134399@www.indianlink.com.au
SUMMARY:The Offbeat Sari
DESCRIPTION:  \nA major exhibition celebrating the contemporary sari. This exhibition unravels its numerous forms\, demonstrating the sari to be a metaphor for the layered and complex definitions of India today. It brings together the finest saris of our time from designers\, wearers and craftspeople in India.\nIn recent years\, the sari has been reinvented. Designers are experimenting with hybrid forms such as sari gowns and dresses\, pre-draped saris and innovative materials such as steel. People in cities who used to associate the sari with dressing up can now be found wearing saris and sneakers on their commutes to work. Individuals are wearing the sari as an expression of resistance to social norms and activists are embodying it as an object of protest. \nFeaturing more than 50 saris by India’s most renowned designers\, the exhibition includes highlights such as the glamourous designs of Sabyasachi\, Diksha Khanna\, Abu Jani Sandeep Khosla\, and Tarun Tahiliani; innovative garments by Anamika Khanna\, Abraham & Thakore\, Raw Mango and Rimzim Dadu; and the iconic hot-pink sari of the Gulabi Gang – a powerful symbol of resistance in India. \nPresented exclusively in Victoria at Bunjil Place\, The Offbeat Sari is a touring exhibition by the Design Museum\, London. Conceived and curated by Priya Khanchandani. \nGET TICKETS HERE: The Offbeat Sari
URL:https://www.indianlink.com.au/whats-on/the-offbeat-sari/
LOCATION:Bunjil Place Theatre\, 2 Patrick NE Dr\, Narre Warren\, VIC\, 3805\, Australia
ATTACH;FMTTYPE=image/jpeg:https://p9dzm74w.tinifycdn.com/wp-content/uploads/2026/03/The-Offbeat-Sari.jpg
GEO:-38.0191484;145.3013036
X-APPLE-STRUCTURED-LOCATION;VALUE=URI;X-ADDRESS=Bunjil Place Theatre 2 Patrick NE Dr Narre Warren VIC 3805 Australia;X-APPLE-RADIUS=500;X-TITLE=2 Patrick NE Dr:geo:145.3013036,-38.0191484
END:VEVENT
BEGIN:VEVENT
DTSTART;TZID=Australia/Sydney:20260709T073000
DTEND;TZID=Australia/Sydney:20260709T203000
DTSTAMP:20260423T075934
CREATED:20260212T012256Z
LAST-MODIFIED:20260212T012546Z
UID:10008794-1783582200-1783629000@www.indianlink.com.au
SUMMARY:And What Will People Say by Amani Mahmoud
DESCRIPTION:  \nA powerful fusion of Indian dance\, music\, and poetry\, this immersive theatre work confronts domestic violence with raw honesty\, cultural depth\, and the courage to discuss uncomfortable truths. Winner of two Sydney Fringe 2025 awards — Best in Category (Spoken Word) and Best Emerging Producer — this acclaimed production has moved audiences across communities and sparked vital conversations. \nWhat happens when silence is survival — but speaking out is freedom? \nAnd What Will People Say? is an electrifying 60-minute immersive theatre experience that blends Indian dance\, original music\, and spoken word to explore the unspoken realities of domestic violence within families and communities. Told through the eyes of a mother and her children\, this powerful piece invites audiences into a deeply personal journey of love\, fear\, shame\, and resilience. \nRooted in real experiences and shaped by the voices too often left out of the conversation\, the production challenges cultural stigma and generational silence. It exposes the hidden stories that echo behind closed doors—those shaped not only by violence itself\, but by the social pressures that keep people quiet. It is a story of pain but also of courage\, hope\, and radical truth-telling. \nThis is more than theatre. This is a conversation our communities need to have. And it starts here. \nGET TICKETS HERE: fortyfive downstairs
URL:https://www.indianlink.com.au/whats-on/and-what-will-people-say-by-amani-mahmoud/2026-07-09/
LOCATION:fortyfivedownstairs\, 45 Flinders Lane\, Melbourne\, VIC\, 3000\, Australia
ATTACH;FMTTYPE=image/webp:https://p9dzm74w.tinifycdn.com/wp-content/uploads/2026/02/And-What-Will-People-Say-2048x2048.jpg.webp
GEO:-37.8148032;144.9730757
X-APPLE-STRUCTURED-LOCATION;VALUE=URI;X-ADDRESS=fortyfivedownstairs 45 Flinders Lane Melbourne VIC 3000 Australia;X-APPLE-RADIUS=500;X-TITLE=45 Flinders Lane:geo:144.9730757,-37.8148032
END:VEVENT
END:VCALENDAR