BEGIN:VCALENDAR
VERSION:2.0
PRODID:-//Indian Link - ECPv6.15.20//NONSGML v1.0//EN
CALSCALE:GREGORIAN
METHOD:PUBLISH
X-WR-CALNAME:Indian Link
X-ORIGINAL-URL:https://www.indianlink.com.au
X-WR-CALDESC:Events for Indian Link
REFRESH-INTERVAL;VALUE=DURATION:PT1H
X-Robots-Tag:noindex
X-PUBLISHED-TTL:PT1H
BEGIN:VTIMEZONE
TZID:Australia/Sydney
BEGIN:STANDARD
TZOFFSETFROM:+1100
TZOFFSETTO:+1000
TZNAME:AEST
DTSTART:20240406T160000
END:STANDARD
BEGIN:DAYLIGHT
TZOFFSETFROM:+1000
TZOFFSETTO:+1100
TZNAME:AEDT
DTSTART:20241005T160000
END:DAYLIGHT
BEGIN:STANDARD
TZOFFSETFROM:+1100
TZOFFSETTO:+1000
TZNAME:AEST
DTSTART:20250405T160000
END:STANDARD
BEGIN:DAYLIGHT
TZOFFSETFROM:+1000
TZOFFSETTO:+1100
TZNAME:AEDT
DTSTART:20251004T160000
END:DAYLIGHT
BEGIN:STANDARD
TZOFFSETFROM:+1100
TZOFFSETTO:+1000
TZNAME:AEST
DTSTART:20260404T160000
END:STANDARD
BEGIN:DAYLIGHT
TZOFFSETFROM:+1000
TZOFFSETTO:+1100
TZNAME:AEDT
DTSTART:20261003T160000
END:DAYLIGHT
BEGIN:STANDARD
TZOFFSETFROM:+1100
TZOFFSETTO:+1000
TZNAME:AEST
DTSTART:20270403T160000
END:STANDARD
BEGIN:DAYLIGHT
TZOFFSETFROM:+1000
TZOFFSETTO:+1100
TZNAME:AEDT
DTSTART:20271002T160000
END:DAYLIGHT
END:VTIMEZONE
BEGIN:VEVENT
DTSTART;TZID=Australia/Sydney:20250925T080000
DTEND;TZID=Australia/Sydney:20260401T170000
DTSTAMP:20260423T075153
CREATED:20251218T002348Z
LAST-MODIFIED:20251218T002417Z
UID:10008718-1758787200-1775062800@www.indianlink.com.au
SUMMARY:MECCA x NGV Women in Design Commission 2025
DESCRIPTION:Award-winning designer Nipa Doshi takes centre stage at MECCA x NGV Women in Design Commission 2025 with A Room of My Own — a striking\, multipurpose cabinet inspired by the Indian kaavad. Blending centuries-old craft traditions with modernist design language\, the work becomes both functional object and personal archive\, honouring the women who have shaped Doshi’s life and practice. Intimate\, powerful\, and beautifully considered\, it’s a quiet celebration of memory\, making\, and women’s stories.
URL:https://www.indianlink.com.au/whats-on/mecca-x-ngv-women-in-design-commission-2025/
LOCATION:National Gallery of Victoria\, 180 St Kilda Rd\, Melbourne\, VIC\, 3000\, Australia
CATEGORIES:Arts,Happening in Melbourne
ATTACH;FMTTYPE=image/jpeg:https://p9dzm74w.tinifycdn.com/wp-content/uploads/2025/12/NGV_NipaDoshi_DerekSwalwell-21.jpg
GEO:-37.8226009;144.9693358
X-APPLE-STRUCTURED-LOCATION;VALUE=URI;X-ADDRESS=National Gallery of Victoria 180 St Kilda Rd Melbourne VIC 3000 Australia;X-APPLE-RADIUS=500;X-TITLE=180 St Kilda Rd:geo:144.9693358,-37.8226009
END:VEVENT
BEGIN:VEVENT
DTSTART;VALUE=DATE:20251101
DTEND;VALUE=DATE:20260302
DTSTAMP:20260423T075153
CREATED:20250825T002714Z
LAST-MODIFIED:20250825T002714Z
UID:10008498-1761955200-1772409599@www.indianlink.com.au
SUMMARY:International Chapter 15 Geeta Chanting Competition 2025 - 2026
DESCRIPTION:✨ Bhagavad Geeta Chanting Competition – A Blessing for All Ages ✨ \nChanting the verses of the Bhagavad Geeta is more than recitation—it is a timeless practice that nurtures the body\, mind\, and spirit. \nFor Children\, it sharpens memory\, improves pronunciation\, and instills values. \nFor Teenagers\, it builds confidence\, focus\, and inner clarity to face peer pressure and life’s challenges. \nFor Youth and Young Adults\, it offers strength\, stress relief\, and direction for a purposeful life. \nFor Adults\, it provides peace\, balance\, and wisdom amidst daily responsibilities. \nFor Seniors\, chanting is deeply nourishing. Studies show that rhythmic chanting and sound vibrations stimulate the brain’s memory centres\, improve concentration\, and slow cognitive decline. It supports better sleep\, reduces anxiety\, and can even help delay age-related conditions such as dementia and Alzheimer’s. Beyond health\, chanting fills the heart with devotion\, joy\, and inner calm. \n📖 Modern science affirms what our tradition has always known: chanting heals\, strengthens\, and uplifts. By joining this competition\, participants of all ages not only learn the Geeta’s verses but also embrace a practice that brings lifelong clarity\, strength\, and peace. \nLast and Final Call for registration.\nRegistration Closes Sunday 31st August\, 2025. \nJoin and be part of this grand offering to Lord Krishna and Pujya Gurudev Swami Chinmayananda. \nRegister here: International Bhagavad Geeta Chanting Competition 2025-2026 Tickets | TryBooking Australia
URL:https://www.indianlink.com.au/whats-on/international-chapter-15-geeta-chanting-competition-2025-2026/
LOCATION:Online Event
ATTACH;FMTTYPE=image/png:https://p9dzm74w.tinifycdn.com/wp-content/uploads/2025/08/Geeta-Chanting-Competition.png
END:VEVENT
BEGIN:VEVENT
DTSTART;TZID=Australia/Sydney:20251121T080000
DTEND;TZID=Australia/Sydney:20260427T170000
DTSTAMP:20260423T075153
CREATED:20251217T234837Z
LAST-MODIFIED:20251217T234837Z
UID:10008717-1763712000-1777309200@www.indianlink.com.au
SUMMARY:Data Dreams: Art and AI (Museum of Contemporary Art)
DESCRIPTION:Data Dreams: Art and AI at the Museum of Contemporary Art dives deeper into how algorithms\, power and creativity collide. Among the standout voices is artist Christopher Kulendran Thomas\, whose work critically examines technology\, capitalism and identity in a data-driven world. Blending sharp political insight with cutting-edge digital practice\, the exhibition challenges who controls information\, how narratives are built\, and what the future of creativity might look like when machines are part of the process. Thought-provoking\, timely\, and impossible to scroll past.
URL:https://www.indianlink.com.au/whats-on/data-dreams-art-and-ai-museum-of-contemporary-art/
LOCATION:Museum of Contemporary Art Australia\, 140 George St\, The Rocks\, Sydney\, NSW\, 2000\, Australia
CATEGORIES:Arts,Happening in Sydney
ATTACH;FMTTYPE=image/jpeg:https://p9dzm74w.tinifycdn.com/wp-content/uploads/2025/12/KulendranThomas_KunsthalleZuri.width-1200.jpegquality-70.jpg
GEO:-33.8600764;151.2091318
X-APPLE-STRUCTURED-LOCATION;VALUE=URI;X-ADDRESS=Museum of Contemporary Art Australia 140 George St The Rocks Sydney NSW 2000 Australia;X-APPLE-RADIUS=500;X-TITLE=140 George St\, The Rocks:geo:151.2091318,-33.8600764
END:VEVENT
BEGIN:VEVENT
DTSTART;VALUE=DATE:20260207
DTEND;VALUE=DATE:20261109
DTSTAMP:20260423T075153
CREATED:20250923T064956Z
LAST-MODIFIED:20250923T071024Z
UID:10008632-1770422400-1794182399@www.indianlink.com.au
SUMMARY:Learning Ayurveda and Ashtanga Yoga for Holistic Wellness & Healing
DESCRIPTION:  \n\n\nTo provide comprehensive information about wisdom of Ayurveda and Ashtanga Yoga\, a series of talks is being organised in the Central Coast area of Sydney near Ettalong Beach\, about a minute’s walk from the Beach at the annexe of Ettalong 50 + Leisure & Learning Centre.\n\n\n\n\n\nSpeaker\n\n\nProf. (Dr) Raj Kumar Sharma – A renowned Ayurveda scholar\, with more than 40 years of experience in teaching and practice of Ayurveda in India at Dayanand Ayurvedic College and Hospital\, Jalandhar\, as Professor\, Principal\, and Assistant Director\, with the public sector as Ayurvedic Medical Officer. \nFounder and Executive Editor\, Ayurvedic Magazine – D A V Ayurveda for Holistic Health \n\n\n\n\n\n\nDetails of the Talks Series Programme\n\n\n\n\n\n\nFor an extensive understanding of the topic and the convenience of the participants\, and to accommodate their busy schedule\, the series of talks has been spread into \nOne Weekend a Month (First Weekend) \nTen Weekends a Year \nFebruary 2026 to November 2026 \nDates of the weekends of the month- February 7 & 8\, March 7 & 8\, April 4 & 5\, May 2 & 3\, June 6 & 7\, July 4 & 5\, August 1 & 2\, Sept 5 & 6\, October 3 & 4\, Nov 7 & 8 \n10 to 3 pm schedule (Lunch Break 12- 1 pm) \nGET TICKETS HERE: https://www.drrajkumarsharma.com/ettalong-talk-series/
URL:https://www.indianlink.com.au/whats-on/learning-ayurveda-and-ashtanga-yoga-for-holistic-wellness-healing/
LOCATION:Ettalong 50+ Leisure & Learning Centre\, 5-7\, Broken Bay Road\, Ettalong\, Sydney\, NSW\, 2257\, Australia
ATTACH;FMTTYPE=image/jpeg:https://p9dzm74w.tinifycdn.com/wp-content/uploads/2025/09/WhatsApp-Image-2025-09-23-at-1.53.12-PM.jpeg
GEO:-33.5134348;151.3341445
X-APPLE-STRUCTURED-LOCATION;VALUE=URI;X-ADDRESS=Ettalong 50+ Leisure & Learning Centre 5-7 Broken Bay Road Ettalong Sydney NSW 2257 Australia;X-APPLE-RADIUS=500;X-TITLE=5-7\, Broken Bay Road\, Ettalong:geo:151.3341445,-33.5134348
END:VEVENT
BEGIN:VEVENT
DTSTART;VALUE=DATE:20260226
DTEND;VALUE=DATE:20260317
DTSTAMP:20260423T075153
CREATED:20260210T035730Z
LAST-MODIFIED:20260210T035730Z
UID:10008770-1772064000-1773705599@www.indianlink.com.au
SUMMARY:MEETING THE BUDDHA: Australian Premiere of Award-Winning Feature Documentary
DESCRIPTION:  \nInternationally acclaimed feature documentary\, Meeting the Buddha arrives in Australia this February\, offering an intimate\, cinematic exploration of Tibetan Buddhism’s journey into the modern world through one of its most influential spiritual lineages. \nCreated by an international filmmaking team from the United Kingdom\, Germany\, Hungary and Denmark\, in collaboration with venerable Tibetan Lamas\, Meeting the Buddha is produced by The Beautiful Truth\, the award-winning film and storytelling studio known for documentaries that explore purpose\, impact and humanity. \nBlending rare archival footage\, original animation\, intimate interviews and contemporary reflections\, the film traces the extraordinary life and legacy of the 16th Karmapa\, Rangjung Rigpe Dorje\, head of the Karma Kagyu lineage of Tibetan Buddhism\, and his profound relationship with Lama Ole Nydahl\, a young Danish seeker whose life was transformed by a chance encounter with the Karmapa in 1969. \nThrough this bond between teacher and student\, Meeting the Buddha tells a richly historical yet deeply personal story of courage\, friendship and spiritual transmission—revealing how timeless wisdom found its way from the monasteries of Tibet into contemporary life across the globe. \n”Meeting the Buddha is a story of friendship\, risk and transformation\, told across continents and decade\,” says Director Marta Gyorgy-Kessler. \n“It brings together rare archival footage\, animation and intimate interviews to show how a chance encounter in 1969 helped carry Tibetan Buddhism into contemporary life — and why that story still matters today.” \nThe film captures the remarkable presence of the 16th Karmapa—often referred to as a ‘Living Buddha’—from his early years in Tibet\, through exile in India\, to his visionary commitment to sharing Buddhist teachings with the modern world. \nAlongside him\, audiences meet Ole Nydahl\, once a wild young hippy from Denmark who\, as a child\, declared his ambition to become the “Danish champion of mind.” Together with his wife Hannah Nydahl\, Ole became instrumental in bringing Tibetan Buddhism to the West\, helping establish hundreds of meditation centres from Mexico City to Vladivostok and carrying forward their teacher’s vision with unshakable dedication. \nSet against political upheaval in Tibet and cultural transformation in the West\, Meeting the Buddha honours the living transmission of the Karma Kagyu lineage and the enduring relationship between teacher and student that sustains it. \nDirected by Márta György-Kessler\, who first encountered Buddhism through Ole and Hannah Nydahl in 1990\, Meeting the Buddha follows her award-winning documentary Hannah – Buddhism’s Untold Journey\, which screened internationally and was featured on Netflix. \nIn 2025 alone\, Meeting the Buddha has earned 13 international awards at jury-only screenings\, including four Awards of Excellence from the IndieFEST Film Awards\, The Impact DOCS Awards and Docs Without Borders. \nThe Australian release of Meeting the Buddha arrives at a time of growth in Buddhism nationwide. According to the 2021 Australian Bureau of Statistics Census\, 2.4% of Australians—approximately 615\,000 people—identify as Buddhist\, making it the fourth-largest religion in Australia. This marks a significant increase from just 0.8% of the population in 1971\, reflecting decades of growth and the expanding presence of Buddhist practice and communities across the country. Today\, Buddhism follows Christianity (43.9%)\, No Religion (38.9%)\, Islam (3.2%) and Hinduism (2.7%) in Australia’s religious landscape\, underscoring its enduring and evolving role in contemporary Australian society. \nGET TICKETS HERE: \nPerth – 26 February (Event Cinemas Innaloo) \nMelbourne – 3 March (Eclipse Cinema) \nAlbury – 4 March (Regent Cinemas) \nCanberra – 4 March (Palace Electric) \nSydney – 7 March (Palace Moore Park) \nNewcastle – 9 March (Kotara) \nByron Bay – 16 March (Palace Byron Bay)
URL:https://www.indianlink.com.au/whats-on/meeting-the-buddha-australian-premiere-of-award-winning-feature-documentary/
LOCATION:NSW
ATTACH;FMTTYPE=image/jpeg:https://p9dzm74w.tinifycdn.com/wp-content/uploads/2026/02/METTING-THE-BUDHA.jpg
END:VEVENT
BEGIN:VEVENT
DTSTART;TZID=Australia/Sydney:20260227T073000
DTEND;TZID=Australia/Sydney:20260228T130000
DTSTAMP:20260423T075153
CREATED:20260212T004932Z
LAST-MODIFIED:20260212T004932Z
UID:10008790-1772177400-1772283600@www.indianlink.com.au
SUMMARY:IAASA 34th Annual Indian Mela 2026
DESCRIPTION:  \nAdelaide\, get ready to come together for colour\, culture\, food and festivities as IAASA proudly presents the 34th Annual Indian Mela 2026 🇮🇳❤️🇦🇺 \nThis much-loved community celebration is back at Victoria Square (North)\, bringing the spirit of India alive in the heart of our city! \nGET TICKETS HERE: All events 
URL:https://www.indianlink.com.au/whats-on/iaasa-34th-annual-indian-mela-2026/
LOCATION:Victoria Square (North)\, King William Road\, Adelaide\, SA\, 5000\, Australia
ATTACH;FMTTYPE=image/png:https://p9dzm74w.tinifycdn.com/wp-content/uploads/2026/02/Torrsha-Instagram-designs-4.png
GEO:-34.9419922;138.6003355
X-APPLE-STRUCTURED-LOCATION;VALUE=URI;X-ADDRESS=Victoria Square (North) King William Road Adelaide SA 5000 Australia;X-APPLE-RADIUS=500;X-TITLE=King William Road:geo:138.6003355,-34.9419922
END:VEVENT
BEGIN:VEVENT
DTSTART;VALUE=DATE:20260228
DTEND;VALUE=DATE:20260427
DTSTAMP:20260423T075153
CREATED:20260109T010412Z
LAST-MODIFIED:20260109T010412Z
UID:10008730-1772236800-1777247999@www.indianlink.com.au
SUMMARY:Touching the Divine: Love and devotion in Asian Art
DESCRIPTION:  \nTouching the Divine: Love and devotion in Asian art explores aspects of love and devotion expressed through art created in sacred contexts across Asia. Featuring works of art from the AGSA collection this exhibition presents the divine and worldly aspects of devotion expressed through a wide diversity of media created in the context of Buddhism\, Hinduism\, and Islam. \nGET TICKETS HERE: https://www.agsa.sa.gov.au/whats-on/exhibitions/touching-the-divine-love-and-devotion-in-asian-art/
URL:https://www.indianlink.com.au/whats-on/touching-the-divine-love-and-devotion-in-asian-art-3/
LOCATION:Lower Melrose Wing\, Art Gallery of South Australia\, 490 North Terrace\, Adelaide\, SA\, 5000\, Australia
ATTACH;FMTTYPE=image/png:https://p9dzm74w.tinifycdn.com/wp-content/uploads/2026/01/AGSA.png
GEO:-34.9204295;138.603887
X-APPLE-STRUCTURED-LOCATION;VALUE=URI;X-ADDRESS=Lower Melrose Wing Art Gallery of South Australia 490 North Terrace Adelaide SA 5000 Australia;X-APPLE-RADIUS=500;X-TITLE=490 North Terrace:geo:138.603887,-34.9204295
END:VEVENT
BEGIN:VEVENT
DTSTART;TZID=Australia/Sydney:20260228T100000
DTEND;TZID=Australia/Sydney:20260228T113000
DTSTAMP:20260423T075153
CREATED:20260210T040338Z
LAST-MODIFIED:20260210T040338Z
UID:10008771-1772272800-1772278200@www.indianlink.com.au
SUMMARY:Open House with Consulate General of India – Perth
DESCRIPTION:  \nIndia in Australia (Consulate General of India\, Perth) and Indian Society of WA (ISWA) invites you to an Open House session to address Consular queries. \nFIND OUT MORE HERE: Indian Society of Western Australia 
URL:https://www.indianlink.com.au/whats-on/open-house-with-consulate-general-of-india-perth/
LOCATION:Indian Community Centre\, Western Australia
ATTACH;FMTTYPE=image/jpeg:https://p9dzm74w.tinifycdn.com/wp-content/uploads/2026/02/PERTH-OPEN-HOUSE-POSTER.jpg
GEO:-32.0418984;115.8820502
END:VEVENT
BEGIN:VEVENT
DTSTART;TZID=Australia/Sydney:20260228T110000
DTEND;TZID=Australia/Sydney:20260228T220000
DTSTAMP:20260423T075153
CREATED:20260212T011628Z
LAST-MODIFIED:20260212T012819Z
UID:10008786-1772276400-1772316000@www.indianlink.com.au
SUMMARY:Holi Festival Melbourne
DESCRIPTION:  \nCome check out how Melbourne celebrates Holi. \nGET TICKETS HERE: Holi Festival Melbourne 
URL:https://www.indianlink.com.au/whats-on/holi-festival-melbourne-2/2026-02-28/
LOCATION:Ron Barassi Senior Park West\, Docklands Drive\, Docklands\, VIC\, 3008\, Australia
ATTACH;FMTTYPE=image/jpeg:https://p9dzm74w.tinifycdn.com/wp-content/uploads/2026/02/Screenshot_12-2-2026_122656_holifestivalmelbourne.com_.au_.jpeg
GEO:-37.8146686;144.9383432
X-APPLE-STRUCTURED-LOCATION;VALUE=URI;X-ADDRESS=Ron Barassi Senior Park West Docklands Drive Docklands VIC 3008 Australia;X-APPLE-RADIUS=500;X-TITLE=Docklands Drive:geo:144.9383432,-37.8146686
END:VEVENT
BEGIN:VEVENT
DTSTART;TZID=Australia/Sydney:20260228T170000
DTEND;TZID=Australia/Sydney:20260228T200000
DTSTAMP:20260423T075153
CREATED:20260112T052723Z
LAST-MODIFIED:20260220T001119Z
UID:10008731-1772298000-1772308800@www.indianlink.com.au
SUMMARY:Harman Foundation’s 13th Annual Fundraising Gala “Light & Hope”
DESCRIPTION:  \nSydney\, Monday\, 15 December 2025: Harman Foundation will host its 13th Annual\nFundraising Gala – “Light & Hope: Creating Hope and Empowering Lives”\, on Saturday\,\n28 February 2026\, at Bowman Hall\, Blacktown. Our last gala was a huge success\, the\nturnout was over 350 people and we received enthusiastically positive feedback on how\nimpactful and uplifting our highlight item was – a dignity walk that got the entire hall\nstanding and waving. \nIn 2026 we plan to bring even more energizing and thought-provoking event. To share\nthe stories of hope and empowerment created at the HER House\, enabled by the tireless\nefforts of the Harman Foundation team and volunteers. We promise to give an evening\nof change making\, connecting with community\, and some finger-licking worthy food. \nAs a thank you to all the love and support our community has given us last year\, we have\nlaunched an early bird special tickets – $85 per person or $850 for table of ten. This is a\nholidays offer expiring on 31st December\, after which the full price will apply. From 1st\nJanuary 2026\, single ticket will be $99 and a table of ten for $950. Tickets can be booked\nonline on the Humanitix website – https://events.humanitix.com/light-and-hopefundraising-gala \nThe Harman Foundation team will also unveil its annual impact report at the event and\nshare the highlights of the meaningful work done over FY25. The gala will be graced by\nkey supporters and sponsors\, and engagement will include dances\, raffle\, auction\, and\nmore. \nAbout Harman Foundation: \nHarman Foundation’s purpose is to create hope and empower lives. Founded in 2013\,\nwe are regarded as the expert support service provider for women and their children\nseeking refuge from domestic\, sexual\, and family violence\, and for addressing distinctive\nissues faced by the wider South Asian Communities. The founders\, Harinder and\nManinder\, started the organisation as a tribute to their late son\, with the simple intention\nof offering grief and loss support to the multicultural community in NSW. Soon they\nbecame aware of the most pressing needs of the community and this led to the organic\nevolution of the organisation to become the trusted support system for women across\nAustralia. So far\, we’ve uplifted the lives of over 2000+ families including 110 women\nand their 22 children through our refuge\, HER House. \nREGISTER HERE: Humanitix
URL:https://www.indianlink.com.au/whats-on/harman-foundations-13th-annual-fundraising-gala-light-hope/
LOCATION:Bowman Hall
ATTACH;FMTTYPE=image/png:https://p9dzm74w.tinifycdn.com/wp-content/uploads/2026/01/Harman-Foundation-Light-and-Hope.png
GEO:-33.7716475;150.9091752
END:VEVENT
BEGIN:VEVENT
DTSTART;TZID=Australia/Sydney:20260228T183000
DTEND;TZID=Australia/Sydney:20260228T213000
DTSTAMP:20260423T075153
CREATED:20260212T045319Z
LAST-MODIFIED:20260212T045319Z
UID:10008809-1772303400-1772314200@www.indianlink.com.au
SUMMARY:Vaishnava Janato: Stories of Devotion
DESCRIPTION:  \nPresented by Dr Chandrabhanu Bharatalaya Academy\nGayathri Gomatam presents a solo Bharatnatyam performance that delves into the stories within the Hindu Puranas and Ithihāsās that exemplify the nature of the many forms of the divine. \nGET TICKETS HERE: Darebin Arts
URL:https://www.indianlink.com.au/whats-on/vaishnava-janato-stories-of-devotion/
LOCATION:Darebin Arts Centre\, 401 Bell Street\, Preston\, Melbourne\, VIC\, 3072\, Australia
ATTACH;FMTTYPE=image/jpeg:https://p9dzm74w.tinifycdn.com/wp-content/uploads/2026/02/vaishnava-janato-stories-of-devotion_900x506px.jpg
GEO:-37.7457846;144.9977167
X-APPLE-STRUCTURED-LOCATION;VALUE=URI;X-ADDRESS=Darebin Arts Centre 401 Bell Street Preston Melbourne VIC 3072 Australia;X-APPLE-RADIUS=500;X-TITLE=401 Bell Street\, Preston:geo:144.9977167,-37.7457846
END:VEVENT
END:VCALENDAR