BEGIN:VCALENDAR
VERSION:2.0
PRODID:-//Indian Link - ECPv6.15.20//NONSGML v1.0//EN
CALSCALE:GREGORIAN
METHOD:PUBLISH
X-ORIGINAL-URL:https://www.indianlink.com.au
X-WR-CALDESC:Events for Indian Link
REFRESH-INTERVAL;VALUE=DURATION:PT1H
X-Robots-Tag:noindex
X-PUBLISHED-TTL:PT1H
BEGIN:VTIMEZONE
TZID:Australia/Sydney
BEGIN:STANDARD
TZOFFSETFROM:+1100
TZOFFSETTO:+1000
TZNAME:AEST
DTSTART:20240406T160000
END:STANDARD
BEGIN:DAYLIGHT
TZOFFSETFROM:+1000
TZOFFSETTO:+1100
TZNAME:AEDT
DTSTART:20241005T160000
END:DAYLIGHT
BEGIN:STANDARD
TZOFFSETFROM:+1100
TZOFFSETTO:+1000
TZNAME:AEST
DTSTART:20250405T160000
END:STANDARD
BEGIN:DAYLIGHT
TZOFFSETFROM:+1000
TZOFFSETTO:+1100
TZNAME:AEDT
DTSTART:20251004T160000
END:DAYLIGHT
BEGIN:STANDARD
TZOFFSETFROM:+1100
TZOFFSETTO:+1000
TZNAME:AEST
DTSTART:20260404T160000
END:STANDARD
BEGIN:DAYLIGHT
TZOFFSETFROM:+1000
TZOFFSETTO:+1100
TZNAME:AEDT
DTSTART:20261003T160000
END:DAYLIGHT
BEGIN:STANDARD
TZOFFSETFROM:+1100
TZOFFSETTO:+1000
TZNAME:AEST
DTSTART:20270403T160000
END:STANDARD
BEGIN:DAYLIGHT
TZOFFSETFROM:+1000
TZOFFSETTO:+1100
TZNAME:AEDT
DTSTART:20271002T160000
END:DAYLIGHT
END:VTIMEZONE
BEGIN:VEVENT
DTSTART;TZID=Australia/Sydney:20250925T080000
DTEND;TZID=Australia/Sydney:20260401T170000
DTSTAMP:20260423T051528
CREATED:20251218T002348Z
LAST-MODIFIED:20251218T002417Z
UID:10008718-1758787200-1775062800@www.indianlink.com.au
SUMMARY:MECCA x NGV Women in Design Commission 2025
DESCRIPTION:Award-winning designer Nipa Doshi takes centre stage at MECCA x NGV Women in Design Commission 2025 with A Room of My Own — a striking\, multipurpose cabinet inspired by the Indian kaavad. Blending centuries-old craft traditions with modernist design language\, the work becomes both functional object and personal archive\, honouring the women who have shaped Doshi’s life and practice. Intimate\, powerful\, and beautifully considered\, it’s a quiet celebration of memory\, making\, and women’s stories.
URL:https://www.indianlink.com.au/whats-on/mecca-x-ngv-women-in-design-commission-2025/
LOCATION:National Gallery of Victoria\, 180 St Kilda Rd\, Melbourne\, VIC\, 3000\, Australia
CATEGORIES:Arts,Happening in Melbourne
ATTACH;FMTTYPE=image/jpeg:https://p9dzm74w.tinifycdn.com/wp-content/uploads/2025/12/NGV_NipaDoshi_DerekSwalwell-21.jpg
GEO:-37.8226009;144.9693358
X-APPLE-STRUCTURED-LOCATION;VALUE=URI;X-ADDRESS=National Gallery of Victoria 180 St Kilda Rd Melbourne VIC 3000 Australia;X-APPLE-RADIUS=500;X-TITLE=180 St Kilda Rd:geo:144.9693358,-37.8226009
END:VEVENT
BEGIN:VEVENT
DTSTART;VALUE=DATE:20251101
DTEND;VALUE=DATE:20260302
DTSTAMP:20260423T051528
CREATED:20250825T002714Z
LAST-MODIFIED:20250825T002714Z
UID:10008498-1761955200-1772409599@www.indianlink.com.au
SUMMARY:International Chapter 15 Geeta Chanting Competition 2025 - 2026
DESCRIPTION:✨ Bhagavad Geeta Chanting Competition – A Blessing for All Ages ✨ \nChanting the verses of the Bhagavad Geeta is more than recitation—it is a timeless practice that nurtures the body\, mind\, and spirit. \nFor Children\, it sharpens memory\, improves pronunciation\, and instills values. \nFor Teenagers\, it builds confidence\, focus\, and inner clarity to face peer pressure and life’s challenges. \nFor Youth and Young Adults\, it offers strength\, stress relief\, and direction for a purposeful life. \nFor Adults\, it provides peace\, balance\, and wisdom amidst daily responsibilities. \nFor Seniors\, chanting is deeply nourishing. Studies show that rhythmic chanting and sound vibrations stimulate the brain’s memory centres\, improve concentration\, and slow cognitive decline. It supports better sleep\, reduces anxiety\, and can even help delay age-related conditions such as dementia and Alzheimer’s. Beyond health\, chanting fills the heart with devotion\, joy\, and inner calm. \n📖 Modern science affirms what our tradition has always known: chanting heals\, strengthens\, and uplifts. By joining this competition\, participants of all ages not only learn the Geeta’s verses but also embrace a practice that brings lifelong clarity\, strength\, and peace. \nLast and Final Call for registration.\nRegistration Closes Sunday 31st August\, 2025. \nJoin and be part of this grand offering to Lord Krishna and Pujya Gurudev Swami Chinmayananda. \nRegister here: International Bhagavad Geeta Chanting Competition 2025-2026 Tickets | TryBooking Australia
URL:https://www.indianlink.com.au/whats-on/international-chapter-15-geeta-chanting-competition-2025-2026/
LOCATION:Online Event
ATTACH;FMTTYPE=image/png:https://p9dzm74w.tinifycdn.com/wp-content/uploads/2025/08/Geeta-Chanting-Competition.png
END:VEVENT
BEGIN:VEVENT
DTSTART;TZID=Australia/Sydney:20251121T080000
DTEND;TZID=Australia/Sydney:20260427T170000
DTSTAMP:20260423T051528
CREATED:20251217T234837Z
LAST-MODIFIED:20251217T234837Z
UID:10008717-1763712000-1777309200@www.indianlink.com.au
SUMMARY:Data Dreams: Art and AI (Museum of Contemporary Art)
DESCRIPTION:Data Dreams: Art and AI at the Museum of Contemporary Art dives deeper into how algorithms\, power and creativity collide. Among the standout voices is artist Christopher Kulendran Thomas\, whose work critically examines technology\, capitalism and identity in a data-driven world. Blending sharp political insight with cutting-edge digital practice\, the exhibition challenges who controls information\, how narratives are built\, and what the future of creativity might look like when machines are part of the process. Thought-provoking\, timely\, and impossible to scroll past.
URL:https://www.indianlink.com.au/whats-on/data-dreams-art-and-ai-museum-of-contemporary-art/
LOCATION:Museum of Contemporary Art Australia\, 140 George St\, The Rocks\, Sydney\, NSW\, 2000\, Australia
CATEGORIES:Arts,Happening in Sydney
ATTACH;FMTTYPE=image/jpeg:https://p9dzm74w.tinifycdn.com/wp-content/uploads/2025/12/KulendranThomas_KunsthalleZuri.width-1200.jpegquality-70.jpg
GEO:-33.8600764;151.2091318
X-APPLE-STRUCTURED-LOCATION;VALUE=URI;X-ADDRESS=Museum of Contemporary Art Australia 140 George St The Rocks Sydney NSW 2000 Australia;X-APPLE-RADIUS=500;X-TITLE=140 George St\, The Rocks:geo:151.2091318,-33.8600764
END:VEVENT
BEGIN:VEVENT
DTSTART;VALUE=DATE:20260207
DTEND;VALUE=DATE:20261109
DTSTAMP:20260423T051528
CREATED:20250923T064956Z
LAST-MODIFIED:20250923T071024Z
UID:10008632-1770422400-1794182399@www.indianlink.com.au
SUMMARY:Learning Ayurveda and Ashtanga Yoga for Holistic Wellness & Healing
DESCRIPTION:  \n\n\nTo provide comprehensive information about wisdom of Ayurveda and Ashtanga Yoga\, a series of talks is being organised in the Central Coast area of Sydney near Ettalong Beach\, about a minute’s walk from the Beach at the annexe of Ettalong 50 + Leisure & Learning Centre.\n\n\n\n\n\nSpeaker\n\n\nProf. (Dr) Raj Kumar Sharma – A renowned Ayurveda scholar\, with more than 40 years of experience in teaching and practice of Ayurveda in India at Dayanand Ayurvedic College and Hospital\, Jalandhar\, as Professor\, Principal\, and Assistant Director\, with the public sector as Ayurvedic Medical Officer. \nFounder and Executive Editor\, Ayurvedic Magazine – D A V Ayurveda for Holistic Health \n\n\n\n\n\n\nDetails of the Talks Series Programme\n\n\n\n\n\n\nFor an extensive understanding of the topic and the convenience of the participants\, and to accommodate their busy schedule\, the series of talks has been spread into \nOne Weekend a Month (First Weekend) \nTen Weekends a Year \nFebruary 2026 to November 2026 \nDates of the weekends of the month- February 7 & 8\, March 7 & 8\, April 4 & 5\, May 2 & 3\, June 6 & 7\, July 4 & 5\, August 1 & 2\, Sept 5 & 6\, October 3 & 4\, Nov 7 & 8 \n10 to 3 pm schedule (Lunch Break 12- 1 pm) \nGET TICKETS HERE: https://www.drrajkumarsharma.com/ettalong-talk-series/
URL:https://www.indianlink.com.au/whats-on/learning-ayurveda-and-ashtanga-yoga-for-holistic-wellness-healing/
LOCATION:Ettalong 50+ Leisure & Learning Centre\, 5-7\, Broken Bay Road\, Ettalong\, Sydney\, NSW\, 2257\, Australia
ATTACH;FMTTYPE=image/jpeg:https://p9dzm74w.tinifycdn.com/wp-content/uploads/2025/09/WhatsApp-Image-2025-09-23-at-1.53.12-PM.jpeg
GEO:-33.5134348;151.3341445
X-APPLE-STRUCTURED-LOCATION;VALUE=URI;X-ADDRESS=Ettalong 50+ Leisure & Learning Centre 5-7 Broken Bay Road Ettalong Sydney NSW 2257 Australia;X-APPLE-RADIUS=500;X-TITLE=5-7\, Broken Bay Road\, Ettalong:geo:151.3341445,-33.5134348
END:VEVENT
END:VCALENDAR