BEGIN:VCALENDAR
VERSION:2.0
PRODID:-//Indian Link - ECPv6.15.20//NONSGML v1.0//EN
CALSCALE:GREGORIAN
METHOD:PUBLISH
X-ORIGINAL-URL:https://www.indianlink.com.au
X-WR-CALDESC:Events for Indian Link
REFRESH-INTERVAL;VALUE=DURATION:PT1H
X-Robots-Tag:noindex
X-PUBLISHED-TTL:PT1H
BEGIN:VTIMEZONE
TZID:Australia/Sydney
BEGIN:STANDARD
TZOFFSETFROM:+1100
TZOFFSETTO:+1000
TZNAME:AEST
DTSTART:20240406T160000
END:STANDARD
BEGIN:DAYLIGHT
TZOFFSETFROM:+1000
TZOFFSETTO:+1100
TZNAME:AEDT
DTSTART:20241005T160000
END:DAYLIGHT
BEGIN:STANDARD
TZOFFSETFROM:+1100
TZOFFSETTO:+1000
TZNAME:AEST
DTSTART:20250405T160000
END:STANDARD
BEGIN:DAYLIGHT
TZOFFSETFROM:+1000
TZOFFSETTO:+1100
TZNAME:AEDT
DTSTART:20251004T160000
END:DAYLIGHT
BEGIN:STANDARD
TZOFFSETFROM:+1100
TZOFFSETTO:+1000
TZNAME:AEST
DTSTART:20260404T160000
END:STANDARD
BEGIN:DAYLIGHT
TZOFFSETFROM:+1000
TZOFFSETTO:+1100
TZNAME:AEDT
DTSTART:20261003T160000
END:DAYLIGHT
BEGIN:STANDARD
TZOFFSETFROM:+1100
TZOFFSETTO:+1000
TZNAME:AEST
DTSTART:20270403T160000
END:STANDARD
BEGIN:DAYLIGHT
TZOFFSETFROM:+1000
TZOFFSETTO:+1100
TZNAME:AEDT
DTSTART:20271002T160000
END:DAYLIGHT
END:VTIMEZONE
BEGIN:VEVENT
DTSTART;VALUE=DATE:20250228
DTEND;VALUE=DATE:20251124
DTSTAMP:20260423T112051
CREATED:20251027T071608Z
LAST-MODIFIED:20251027T071608Z
UID:10008685-1740700800-1763942399@www.indianlink.com.au
SUMMARY:Touching the Divine - Love and Devotion in Asian Art
DESCRIPTION:  \nTouching the Divine: Love and Devotion in Asian Art explores aspects of love and devotion expressed through art created in sacred contexts across Asia. \nFeaturing works of art from the AGSA collection this exhibition presents the divine and worldly aspects of devotion expressed through a wide diversity of media created in the context of Buddhism\, Hinduism\, and Islam. \nGET TICKETS HERE: https://ozasia.adelaidefestivalcentre.com.au/whats-on/touching-the-divine
URL:https://www.indianlink.com.au/whats-on/touching-the-divine-love-and-devotion-in-asian-art/
LOCATION:Art Gallery of South Australia\, North Terrace\, Adelaide\, South Australia\, 5000\, Australia
ATTACH;FMTTYPE=image/jpeg:https://p9dzm74w.tinifycdn.com/wp-content/uploads/2025/10/Love-and-Devotion.jpg
GEO:-34.9211946;138.6053204
X-APPLE-STRUCTURED-LOCATION;VALUE=URI;X-ADDRESS=Art Gallery of South Australia North Terrace Adelaide South Australia 5000 Australia;X-APPLE-RADIUS=500;X-TITLE=North Terrace:geo:138.6053204,-34.9211946
END:VEVENT
BEGIN:VEVENT
DTSTART;TZID=Australia/Sydney:20250830T100000
DTEND;TZID=Australia/Sydney:20251212T000000
DTSTAMP:20260423T112051
CREATED:20250815T043302Z
LAST-MODIFIED:20250815T043302Z
UID:10008441-1756548000-1765497600@www.indianlink.com.au
SUMMARY:Spirit of India – Yoga for Children\, Seniors\, and the Community
DESCRIPTION:Spirit of India’s community development initiatives continue to make a meaningful difference in people’s lives\, offering yoga programs for children\, seniors\, and adults. A new children’s yoga batch for ages 5–12 begins on 30th August 2025\, focusing on health\, flexibility\, and mindfulness (mat required; nominal charges apply). \nAdults can join Hath Yoga classes every Saturday and Sunday starting 30th–31st August at Wentworthville\, Epping\, and Quakers Hill\, with ample free parking at all locations. Seniors (age 55+) can enjoy free ongoing yoga sessions at Epping and Pennant Hill libraries. Practice sessions are also available for graduates of regular classes\, both face-to-face and online. \nSpirit of India also hosts major community events\, including graduation ceremonies\, 108 Surya Namaskar sessions\, and other programs to inspire holistic wellness. \nYoga classes are held at three locations: \n\n\nWentworthville: Saturdays\, 10:00 am – 12:00 pm\, 30 Aug – 6 Dec 2025\, at Bankesia Hall\, 2 Lane St. \n\n\nQuakers Hill: Saturdays\, 5:00 pm – 7:00 pm\, 30 Aug – 6 Dec 2025\, at Performance Space\, Quakers Hill High School\, 70 Lalor Rd. \n\n\nEpping: Sundays\, 7:00 am – 9:00 am\, 31 Aug – 6 Dec 2025\, at Boronia Grose Hall\, 40 Victoria St. \n\n\nAmple free parking is available at all venues. \nFor more information\, enrolment\, or updates\, visit www.spiritofindia.org or contact spiritofindia2002@yahoo.com / 0412 202 182.
URL:https://www.indianlink.com.au/whats-on/spirit-of-india-yoga-for-children-seniors-and-the-community/
LOCATION:Boronia Grose Hall\, 40 Victoria St\, Epping\, Sydney\, NSW\, 2121\, Australia
CATEGORIES:Happening in Sydney,Home and Lifestyle
ATTACH;FMTTYPE=image/jpeg:https://p9dzm74w.tinifycdn.com/wp-content/uploads/2025/08/Yoga.jpg
GEO:-33.77346;151.0800191
X-APPLE-STRUCTURED-LOCATION;VALUE=URI;X-ADDRESS=Boronia Grose Hall 40 Victoria St Epping Sydney NSW 2121 Australia;X-APPLE-RADIUS=500;X-TITLE=40 Victoria St\, Epping:geo:151.0800191,-33.77346
END:VEVENT
BEGIN:VEVENT
DTSTART;VALUE=DATE:20250913
DTEND;VALUE=DATE:20260201
DTSTAMP:20260423T112051
CREATED:20250916T065728Z
LAST-MODIFIED:20250916T065728Z
UID:10008612-1757721600-1769903999@www.indianlink.com.au
SUMMARY:Sangeeta Sandrasegar Atrium Commission
DESCRIPTION:  \nI ragazzi dei millefiori: the flow’rs of song and story is a new artwork exploring ideas of migration and the storied history of plants and colour. \nIn partnership with the Australian Tapestry Workshop\, this spring we are unveiling a new textile installation by artist Sangeeta Sandrasegar working with natural dye expert Heather Thomas. \nSuspended from the ceiling in the open space of the Atrium\, the work comprises panels of silk organza and cotton coloured with plant dyes derived from Indian madder root\, eucalyptus leaves\, and weld and marigold flowers\, among others. \nWithin the fabric\, details will appear\, including botanical illustrations referencing a 16th century Italian tapestry\, the Millefiori Tapestry of Pistoia\, and archival imagery of flower sellers at this site\, on Princes Bridge in the early 1900s. \nThe artwork explores themes of migration and cultural identity through a myriad of ideas – the histories of the production of colour through plant material\, the representation of gardens and plants in classical tapestries\, the craftsmanship behind textiles\, and the story of young immigrants newly arrived from Italy selling flowers in market stalls. \nBringing together these threads\, Sangeeta’s work explores the ways in which we have related to flowers and plants throughout history\, and how cultural connection is embedded in stories of plants within narratives of migration\, hybridity and identity. \nGET TICKETS HERE: https://fedsquare.com/events/sangeeta-sandrasegar-atrium-commission
URL:https://www.indianlink.com.au/whats-on/sangeeta-sandrasegar-atrium-commission/
LOCATION:The Atrium\, Flinders St\,\, Melbourne\, VIC\, 3000\, Australia
ATTACH;FMTTYPE=image/jpeg:https://p9dzm74w.tinifycdn.com/wp-content/uploads/2025/09/Silks.jpg
GEO:-37.8182574;144.9649194
X-APPLE-STRUCTURED-LOCATION;VALUE=URI;X-ADDRESS=The Atrium Flinders St Melbourne VIC 3000 Australia;X-APPLE-RADIUS=500;X-TITLE=Flinders St\,:geo:144.9649194,-37.8182574
END:VEVENT
BEGIN:VEVENT
DTSTART;VALUE=DATE:20250924
DTEND;VALUE=DATE:20260205
DTSTAMP:20260423T112051
CREATED:20251201T022432Z
LAST-MODIFIED:20251201T022432Z
UID:10008706-1758672000-1770249599@www.indianlink.com.au
SUMMARY:Who are these demonesses?
DESCRIPTION:  \nAn exploration of ancestral memory\, defiance and embodied knowledge carried through women and fluid beings who were demonised for their refusal to conform.   \nWho are these demonesses? draws on stories of the Dakini\, witch\, wild woman and ogress who protected the sovereignty of their bodies and their people’s lands. For this\, those in power tried to kill and reduce them to cautionary tales.   \nYet they lived on – in the elements\, in a shawl passed down by a grandmother\, in family and in intuition.  \nIn Who are these demonesses?\, artist Sheelasha Rajbhandari honours intuition\, suggesting that returning to our senses is a radical act of defiance in structures that thrive on exhaustion\, imposter syndrome and isolation. The work tends to an ancient and living presence within us and acts as a refusal to internalise stories that were weaponised to diminish and erase.  \nAbout the artist:  \nSheelasha is part of a growing ecosystem of artists\, curators\, researchers\, designers\, activists\, archivists\, and cultural workers who wear multiple hats and are initiating and sustaining practices beyond formal institutions. Alongside others\, she navigates systems shaped by care\, ancestral knowledge\, and structural difference. Her work goes beyond making or curating; it is about holding space\, resisting erasure\, and imagining new ways of being in relation. She is also committed to reclaiming how stories are shared\, bringing them to international platforms with dignity\, complexity\, and self-determination to shift conversations and redefine terms of engagement. \nGET TICKETS HERE: https://www.artshouse.com.au/events/who-are-these-demonesses/
URL:https://www.indianlink.com.au/whats-on/who-are-these-demonesses/
LOCATION:Arts House exterior\, North Melbourne Town Hall\, 521 Queensberry St\, North Melbourne\, Melbourne\, VIC\, 3051\, Australia
ATTACH;FMTTYPE=image/jpeg:https://p9dzm74w.tinifycdn.com/wp-content/uploads/2025/12/Sheelasha-Raj.jpg
GEO:-37.8033198;144.9499391
X-APPLE-STRUCTURED-LOCATION;VALUE=URI;X-ADDRESS=Arts House exterior North Melbourne Town Hall 521 Queensberry St North Melbourne Melbourne VIC 3051 Australia;X-APPLE-RADIUS=500;X-TITLE=North Melbourne Town Hall\, 521 Queensberry St\, North Melbourne:geo:144.9499391,-37.8033198
END:VEVENT
BEGIN:VEVENT
DTSTART;TZID=Australia/Sydney:20250925T080000
DTEND;TZID=Australia/Sydney:20260401T170000
DTSTAMP:20260423T112051
CREATED:20251218T002348Z
LAST-MODIFIED:20251218T002417Z
UID:10008718-1758787200-1775062800@www.indianlink.com.au
SUMMARY:MECCA x NGV Women in Design Commission 2025
DESCRIPTION:Award-winning designer Nipa Doshi takes centre stage at MECCA x NGV Women in Design Commission 2025 with A Room of My Own — a striking\, multipurpose cabinet inspired by the Indian kaavad. Blending centuries-old craft traditions with modernist design language\, the work becomes both functional object and personal archive\, honouring the women who have shaped Doshi’s life and practice. Intimate\, powerful\, and beautifully considered\, it’s a quiet celebration of memory\, making\, and women’s stories.
URL:https://www.indianlink.com.au/whats-on/mecca-x-ngv-women-in-design-commission-2025/
LOCATION:National Gallery of Victoria\, 180 St Kilda Rd\, Melbourne\, VIC\, 3000\, Australia
CATEGORIES:Arts,Happening in Melbourne
ATTACH;FMTTYPE=image/jpeg:https://p9dzm74w.tinifycdn.com/wp-content/uploads/2025/12/NGV_NipaDoshi_DerekSwalwell-21.jpg
GEO:-37.8226009;144.9693358
X-APPLE-STRUCTURED-LOCATION;VALUE=URI;X-ADDRESS=National Gallery of Victoria 180 St Kilda Rd Melbourne VIC 3000 Australia;X-APPLE-RADIUS=500;X-TITLE=180 St Kilda Rd:geo:144.9693358,-37.8226009
END:VEVENT
BEGIN:VEVENT
DTSTART;VALUE=DATE:20251101
DTEND;VALUE=DATE:20260302
DTSTAMP:20260423T112051
CREATED:20250825T002714Z
LAST-MODIFIED:20250825T002714Z
UID:10008498-1761955200-1772409599@www.indianlink.com.au
SUMMARY:International Chapter 15 Geeta Chanting Competition 2025 - 2026
DESCRIPTION:✨ Bhagavad Geeta Chanting Competition – A Blessing for All Ages ✨ \nChanting the verses of the Bhagavad Geeta is more than recitation—it is a timeless practice that nurtures the body\, mind\, and spirit. \nFor Children\, it sharpens memory\, improves pronunciation\, and instills values. \nFor Teenagers\, it builds confidence\, focus\, and inner clarity to face peer pressure and life’s challenges. \nFor Youth and Young Adults\, it offers strength\, stress relief\, and direction for a purposeful life. \nFor Adults\, it provides peace\, balance\, and wisdom amidst daily responsibilities. \nFor Seniors\, chanting is deeply nourishing. Studies show that rhythmic chanting and sound vibrations stimulate the brain’s memory centres\, improve concentration\, and slow cognitive decline. It supports better sleep\, reduces anxiety\, and can even help delay age-related conditions such as dementia and Alzheimer’s. Beyond health\, chanting fills the heart with devotion\, joy\, and inner calm. \n📖 Modern science affirms what our tradition has always known: chanting heals\, strengthens\, and uplifts. By joining this competition\, participants of all ages not only learn the Geeta’s verses but also embrace a practice that brings lifelong clarity\, strength\, and peace. \nLast and Final Call for registration.\nRegistration Closes Sunday 31st August\, 2025. \nJoin and be part of this grand offering to Lord Krishna and Pujya Gurudev Swami Chinmayananda. \nRegister here: International Bhagavad Geeta Chanting Competition 2025-2026 Tickets | TryBooking Australia
URL:https://www.indianlink.com.au/whats-on/international-chapter-15-geeta-chanting-competition-2025-2026/
LOCATION:Online Event
ATTACH;FMTTYPE=image/png:https://p9dzm74w.tinifycdn.com/wp-content/uploads/2025/08/Geeta-Chanting-Competition.png
END:VEVENT
BEGIN:VEVENT
DTSTART;TZID=Australia/Sydney:20251107T100000
DTEND;TZID=Australia/Sydney:20251116T190000
DTSTAMP:20260423T112051
CREATED:20250930T042218Z
LAST-MODIFIED:20250930T042218Z
UID:10008640-1762509600-1763319600@www.indianlink.com.au
SUMMARY:Artisan Village Armadale Hills Arts Trail 2025 – Perth Hills
DESCRIPTION:The Armadale Hills Arts Trail is a vibrant annual event that showcases the creative spirit of the Perth Hills community. This year\, the trail runs from November 7 to 16\, 2025\, inviting art enthusiasts to explore the studios of local artists nestled in the picturesque hills of Armadale. \n🎨 What to Expect\n\nOpen Studios: Over 20 local artists will open their studios to the public\, offering an intimate look at their creative processes and a chance to purchase unique artworks.\n\n\nWorkshops & Demonstrations: Engage in hands-on workshops and live demonstrations\, allowing you to learn new techniques and gain insights into various art forms.\n\n\nScenic Exploration: Wander through the beautiful hills and heritage areas of Armadale\, enjoying the natural beauty that inspires the local art scene.\n\n\n🗺️ Planning Your Visit\n\nTrail Map: A comprehensive map of participating artists’ studios is available on the official website\, helping you plan your route.\n\n\nVisitor Centre: For more information and assistance\n\n 
URL:https://www.indianlink.com.au/whats-on/artisan-village-armadale-hills-arts-trail-2025-perth-hills/
LOCATION:armadale hill perth\, 40 Jull St\, Armadale\, Perth\, Western Australia\, 6112\, Australia
CATEGORIES:Arts,Happening in Perth,Visual Arts
ATTACH;FMTTYPE=image/jpeg:https://p9dzm74w.tinifycdn.com/wp-content/uploads/2025/09/Featured-August-sept-8.jpg
GEO:-32.1503737;116.0196152
X-APPLE-STRUCTURED-LOCATION;VALUE=URI;X-ADDRESS=armadale hill perth 40 Jull St Armadale Perth Western Australia 6112 Australia;X-APPLE-RADIUS=500;X-TITLE=40 Jull St\, Armadale:geo:116.0196152,-32.1503737
END:VEVENT
BEGIN:VEVENT
DTSTART;TZID=Australia/Sydney:20251112T173000
DTEND;TZID=Australia/Sydney:20251112T193000
DTSTAMP:20260423T112051
CREATED:20251024T055956Z
LAST-MODIFIED:20251024T055956Z
UID:10008678-1762968600-1762975800@www.indianlink.com.au
SUMMARY:First Peoples Stories From India
DESCRIPTION:  \nWe warmly invite you to a rare public conversation with two Adivasi writers from India\, Beni Sumer Yanthan and Hansda Sowvendra Shekhar\, From (de)colonisation\, language preservation and revitalisation\, to oral storytelling traditions\, this dynamic conversation\, facilitated by Sydney-based writer Sunil Badami\, will shine a light on the lives of India’s First Peoples. \nThis event is part of the First Peoples Exchange between Varuna the National Writers’ House in the Blue Mountains\, Australia and Sangam House in Bangalore\, India. \nThis event is presented by the Literary Provocations Hub in the School of Arts & Media and generously supported by the Faculty of Arts\, Design and Architecture\, UNSW Sydney\, Varuna The Writers’ House\, Sangam House India and the Maitri Grants\, Department of Foreign Affairs and Trade\, Australia. With assistance from the Esme Timbery Creative Practice Lab. \nREGISTER HERE: https://www.eventbrite.com.au/e/first-peoples-stories-from-india-tickets-1792227042329?aff=oddtdtcreator
URL:https://www.indianlink.com.au/whats-on/first-peoples-stories-from-india/
LOCATION:Esme Timbery Creative Practice Lab – Io Myers Studio\, High Street\, Sydney\, NSW\, 2052
ATTACH;FMTTYPE=image/jpeg:https://p9dzm74w.tinifycdn.com/wp-content/uploads/2025/10/First-peoples-from-India.jpg
GEO:-33.8597719;151.2029179
X-APPLE-STRUCTURED-LOCATION;VALUE=URI;X-ADDRESS=Esme Timbery Creative Practice Lab – Io Myers Studio High Street Sydney NSW 2052;X-APPLE-RADIUS=500;X-TITLE=High Street:geo:151.2029179,-33.8597719
END:VEVENT
BEGIN:VEVENT
DTSTART;TZID=Australia/Sydney:20251112T173000
DTEND;TZID=Australia/Sydney:20251112T193000
DTSTAMP:20260423T112051
CREATED:20251029T015534Z
LAST-MODIFIED:20251029T015534Z
UID:10008689-1762968600-1762975800@www.indianlink.com.au
SUMMARY:First Peoples Stories From India
DESCRIPTION:A rare public conversation with two Adivasi writers from India.
URL:https://www.indianlink.com.au/whats-on/first-peoples-stories-from-india-2/
LOCATION:Esme Timbery Creative Practice Lab – Io Myers Studio\, High Street\, Sydney\, NSW\, 2052
CATEGORIES:Happening in Sydney
GEO:-33.8597719;151.2029179
X-APPLE-STRUCTURED-LOCATION;VALUE=URI;X-ADDRESS=Esme Timbery Creative Practice Lab – Io Myers Studio High Street Sydney NSW 2052;X-APPLE-RADIUS=500;X-TITLE=High Street:geo:151.2029179,-33.8597719
END:VEVENT
BEGIN:VEVENT
DTSTART;TZID=Australia/Sydney:20251112T200000
DTEND;TZID=Australia/Sydney:20251112T230000
DTSTAMP:20260423T112051
CREATED:20250901T010512Z
LAST-MODIFIED:20250901T010512Z
UID:10008571-1762977600-1762988400@www.indianlink.com.au
SUMMARY:Susi Bishop\, Elsen Price and Maharshi Raval - Mesos Trio
DESCRIPTION:‘This is the easy-going\, impressive and attentive music making which our world and world music scene needs. The song choice\, solos and kaleidoscopic comments from three disparate worlds and musicians with intersecting and extensive experience with Elsen Price provide a new hue here.’ – 5 Stars – Sydney Arts Guide\n\n\nThe Mesos Trio are a Sydney based World-Jazz ensemble featuring Susie Bishop\, Maharshi Raval and Elsen Price.\nTheir debut self-titled EP was released in 2025 to critical acclaim\, recording with Chris Doherty (Cold Play\, Snoop Dogg) at Point Blank Sound in Sydney. The EP has been featured in Music Crowns\, Stimulated Media\, Amnplify\, Fine Music FM\, 2RRR and Sydney Arts Guide.\nLive video of the session was also released\, with the tune ‘Ashokan Farewell’ receiving 60\,000 views within the first week.\nThe Mesos Trio play music that is inspired by Jazz\, Indian Classical music and broader Folk music\, drawing on the musical backgrounds of the musicians\, into a creative thread of virtuosity\, playfulness and importantly\, fun!\n\n\nPurchase your tickets here: https://events.humanitix.com/mesos-trio
URL:https://www.indianlink.com.au/whats-on/susi-bishop-elsen-price-and-maharshi-raval-mesos-trio/
LOCATION:Kalyx Lounge Bar & Club\, 123 Avoca Street Randwick NSW
ATTACH;FMTTYPE=image/png:https://p9dzm74w.tinifycdn.com/wp-content/uploads/2025/09/mesos-trio.png
GEO:-33.9126835;151.2427054
X-APPLE-STRUCTURED-LOCATION;VALUE=URI;X-ADDRESS=Kalyx Lounge Bar & Club 123 Avoca Street Randwick NSW;X-APPLE-RADIUS=500;X-TITLE=123 Avoca Street Randwick NSW:geo:151.2427054,-33.9126835
END:VEVENT
END:VCALENDAR