BEGIN:VCALENDAR
VERSION:2.0
PRODID:-//Indian Link - ECPv6.15.20//NONSGML v1.0//EN
CALSCALE:GREGORIAN
METHOD:PUBLISH
X-ORIGINAL-URL:https://www.indianlink.com.au
X-WR-CALDESC:Events for Indian Link
REFRESH-INTERVAL;VALUE=DURATION:PT1H
X-Robots-Tag:noindex
X-PUBLISHED-TTL:PT1H
BEGIN:VTIMEZONE
TZID:Australia/Sydney
BEGIN:STANDARD
TZOFFSETFROM:+1100
TZOFFSETTO:+1000
TZNAME:AEST
DTSTART:20240406T160000
END:STANDARD
BEGIN:DAYLIGHT
TZOFFSETFROM:+1000
TZOFFSETTO:+1100
TZNAME:AEDT
DTSTART:20241005T160000
END:DAYLIGHT
BEGIN:STANDARD
TZOFFSETFROM:+1100
TZOFFSETTO:+1000
TZNAME:AEST
DTSTART:20250405T160000
END:STANDARD
BEGIN:DAYLIGHT
TZOFFSETFROM:+1000
TZOFFSETTO:+1100
TZNAME:AEDT
DTSTART:20251004T160000
END:DAYLIGHT
BEGIN:STANDARD
TZOFFSETFROM:+1100
TZOFFSETTO:+1000
TZNAME:AEST
DTSTART:20260404T160000
END:STANDARD
BEGIN:DAYLIGHT
TZOFFSETFROM:+1000
TZOFFSETTO:+1100
TZNAME:AEDT
DTSTART:20261003T160000
END:DAYLIGHT
BEGIN:STANDARD
TZOFFSETFROM:+1100
TZOFFSETTO:+1000
TZNAME:AEST
DTSTART:20270403T160000
END:STANDARD
BEGIN:DAYLIGHT
TZOFFSETFROM:+1000
TZOFFSETTO:+1100
TZNAME:AEDT
DTSTART:20271002T160000
END:DAYLIGHT
END:VTIMEZONE
BEGIN:VEVENT
DTSTART;VALUE=DATE:20250228
DTEND;VALUE=DATE:20251124
DTSTAMP:20260423T143308
CREATED:20251027T071608Z
LAST-MODIFIED:20251027T071608Z
UID:10008685-1740700800-1763942399@www.indianlink.com.au
SUMMARY:Touching the Divine - Love and Devotion in Asian Art
DESCRIPTION:  \nTouching the Divine: Love and Devotion in Asian Art explores aspects of love and devotion expressed through art created in sacred contexts across Asia. \nFeaturing works of art from the AGSA collection this exhibition presents the divine and worldly aspects of devotion expressed through a wide diversity of media created in the context of Buddhism\, Hinduism\, and Islam. \nGET TICKETS HERE: https://ozasia.adelaidefestivalcentre.com.au/whats-on/touching-the-divine
URL:https://www.indianlink.com.au/whats-on/touching-the-divine-love-and-devotion-in-asian-art/
LOCATION:Art Gallery of South Australia\, North Terrace\, Adelaide\, South Australia\, 5000\, Australia
ATTACH;FMTTYPE=image/jpeg:https://p9dzm74w.tinifycdn.com/wp-content/uploads/2025/10/Love-and-Devotion.jpg
GEO:-34.9211946;138.6053204
X-APPLE-STRUCTURED-LOCATION;VALUE=URI;X-ADDRESS=Art Gallery of South Australia North Terrace Adelaide South Australia 5000 Australia;X-APPLE-RADIUS=500;X-TITLE=North Terrace:geo:138.6053204,-34.9211946
END:VEVENT
BEGIN:VEVENT
DTSTART;TZID=Australia/Sydney:20250830T100000
DTEND;TZID=Australia/Sydney:20251212T000000
DTSTAMP:20260423T143308
CREATED:20250815T043302Z
LAST-MODIFIED:20250815T043302Z
UID:10008441-1756548000-1765497600@www.indianlink.com.au
SUMMARY:Spirit of India – Yoga for Children\, Seniors\, and the Community
DESCRIPTION:Spirit of India’s community development initiatives continue to make a meaningful difference in people’s lives\, offering yoga programs for children\, seniors\, and adults. A new children’s yoga batch for ages 5–12 begins on 30th August 2025\, focusing on health\, flexibility\, and mindfulness (mat required; nominal charges apply). \nAdults can join Hath Yoga classes every Saturday and Sunday starting 30th–31st August at Wentworthville\, Epping\, and Quakers Hill\, with ample free parking at all locations. Seniors (age 55+) can enjoy free ongoing yoga sessions at Epping and Pennant Hill libraries. Practice sessions are also available for graduates of regular classes\, both face-to-face and online. \nSpirit of India also hosts major community events\, including graduation ceremonies\, 108 Surya Namaskar sessions\, and other programs to inspire holistic wellness. \nYoga classes are held at three locations: \n\n\nWentworthville: Saturdays\, 10:00 am – 12:00 pm\, 30 Aug – 6 Dec 2025\, at Bankesia Hall\, 2 Lane St. \n\n\nQuakers Hill: Saturdays\, 5:00 pm – 7:00 pm\, 30 Aug – 6 Dec 2025\, at Performance Space\, Quakers Hill High School\, 70 Lalor Rd. \n\n\nEpping: Sundays\, 7:00 am – 9:00 am\, 31 Aug – 6 Dec 2025\, at Boronia Grose Hall\, 40 Victoria St. \n\n\nAmple free parking is available at all venues. \nFor more information\, enrolment\, or updates\, visit www.spiritofindia.org or contact spiritofindia2002@yahoo.com / 0412 202 182.
URL:https://www.indianlink.com.au/whats-on/spirit-of-india-yoga-for-children-seniors-and-the-community/
LOCATION:Boronia Grose Hall\, 40 Victoria St\, Epping\, Sydney\, NSW\, 2121\, Australia
CATEGORIES:Happening in Sydney,Home and Lifestyle
ATTACH;FMTTYPE=image/jpeg:https://p9dzm74w.tinifycdn.com/wp-content/uploads/2025/08/Yoga.jpg
GEO:-33.77346;151.0800191
X-APPLE-STRUCTURED-LOCATION;VALUE=URI;X-ADDRESS=Boronia Grose Hall 40 Victoria St Epping Sydney NSW 2121 Australia;X-APPLE-RADIUS=500;X-TITLE=40 Victoria St\, Epping:geo:151.0800191,-33.77346
END:VEVENT
BEGIN:VEVENT
DTSTART;VALUE=DATE:20250913
DTEND;VALUE=DATE:20260201
DTSTAMP:20260423T143308
CREATED:20250916T065728Z
LAST-MODIFIED:20250916T065728Z
UID:10008612-1757721600-1769903999@www.indianlink.com.au
SUMMARY:Sangeeta Sandrasegar Atrium Commission
DESCRIPTION:  \nI ragazzi dei millefiori: the flow’rs of song and story is a new artwork exploring ideas of migration and the storied history of plants and colour. \nIn partnership with the Australian Tapestry Workshop\, this spring we are unveiling a new textile installation by artist Sangeeta Sandrasegar working with natural dye expert Heather Thomas. \nSuspended from the ceiling in the open space of the Atrium\, the work comprises panels of silk organza and cotton coloured with plant dyes derived from Indian madder root\, eucalyptus leaves\, and weld and marigold flowers\, among others. \nWithin the fabric\, details will appear\, including botanical illustrations referencing a 16th century Italian tapestry\, the Millefiori Tapestry of Pistoia\, and archival imagery of flower sellers at this site\, on Princes Bridge in the early 1900s. \nThe artwork explores themes of migration and cultural identity through a myriad of ideas – the histories of the production of colour through plant material\, the representation of gardens and plants in classical tapestries\, the craftsmanship behind textiles\, and the story of young immigrants newly arrived from Italy selling flowers in market stalls. \nBringing together these threads\, Sangeeta’s work explores the ways in which we have related to flowers and plants throughout history\, and how cultural connection is embedded in stories of plants within narratives of migration\, hybridity and identity. \nGET TICKETS HERE: https://fedsquare.com/events/sangeeta-sandrasegar-atrium-commission
URL:https://www.indianlink.com.au/whats-on/sangeeta-sandrasegar-atrium-commission/
LOCATION:The Atrium\, Flinders St\,\, Melbourne\, VIC\, 3000\, Australia
ATTACH;FMTTYPE=image/jpeg:https://p9dzm74w.tinifycdn.com/wp-content/uploads/2025/09/Silks.jpg
GEO:-37.8182574;144.9649194
X-APPLE-STRUCTURED-LOCATION;VALUE=URI;X-ADDRESS=The Atrium Flinders St Melbourne VIC 3000 Australia;X-APPLE-RADIUS=500;X-TITLE=Flinders St\,:geo:144.9649194,-37.8182574
END:VEVENT
BEGIN:VEVENT
DTSTART;VALUE=DATE:20250916
DTEND;VALUE=DATE:20251103
DTSTAMP:20260423T143308
CREATED:20250916T065315Z
LAST-MODIFIED:20250916T065315Z
UID:10008611-1757980800-1762127999@www.indianlink.com.au
SUMMARY:KG Narendrababu: Tree of Life
DESCRIPTION:  \nDrawing on Indian folk traditions\, village life and lush flora and fauna\, South Indian artist KG Narendrababu’s playful\, poetic works invite you into a world of harmony and interconnection. The contemplative and dreamlike series of artworks explore the Tree of Life – a universal symbol that bridges matter and spirit. \nThrough embroidery\, painting and graphic techniques\, each piece blossoms with rich detail and boundless imagination. \nFIND OUT MORE HERE: https://whatson.melbourne.vic.gov.au/things-to-do/kg-narendrababu-tree-of-life
URL:https://www.indianlink.com.au/whats-on/kg-narendrababu-tree-of-life/
LOCATION:Mystik River\, 3 Southgate Ave Southbank\, Melbourne\, VIC\, 3006\, Australia
ATTACH;FMTTYPE=image/jpeg:https://p9dzm74w.tinifycdn.com/wp-content/uploads/2025/09/KG.jpg
GEO:-37.820556;144.965833
X-APPLE-STRUCTURED-LOCATION;VALUE=URI;X-ADDRESS=Mystik River 3 Southgate Ave Southbank Melbourne VIC 3006 Australia;X-APPLE-RADIUS=500;X-TITLE=3 Southgate Ave Southbank:geo:144.965833,-37.820556
END:VEVENT
BEGIN:VEVENT
DTSTART;VALUE=DATE:20250924
DTEND;VALUE=DATE:20260205
DTSTAMP:20260423T143308
CREATED:20251201T022432Z
LAST-MODIFIED:20251201T022432Z
UID:10008706-1758672000-1770249599@www.indianlink.com.au
SUMMARY:Who are these demonesses?
DESCRIPTION:  \nAn exploration of ancestral memory\, defiance and embodied knowledge carried through women and fluid beings who were demonised for their refusal to conform.   \nWho are these demonesses? draws on stories of the Dakini\, witch\, wild woman and ogress who protected the sovereignty of their bodies and their people’s lands. For this\, those in power tried to kill and reduce them to cautionary tales.   \nYet they lived on – in the elements\, in a shawl passed down by a grandmother\, in family and in intuition.  \nIn Who are these demonesses?\, artist Sheelasha Rajbhandari honours intuition\, suggesting that returning to our senses is a radical act of defiance in structures that thrive on exhaustion\, imposter syndrome and isolation. The work tends to an ancient and living presence within us and acts as a refusal to internalise stories that were weaponised to diminish and erase.  \nAbout the artist:  \nSheelasha is part of a growing ecosystem of artists\, curators\, researchers\, designers\, activists\, archivists\, and cultural workers who wear multiple hats and are initiating and sustaining practices beyond formal institutions. Alongside others\, she navigates systems shaped by care\, ancestral knowledge\, and structural difference. Her work goes beyond making or curating; it is about holding space\, resisting erasure\, and imagining new ways of being in relation. She is also committed to reclaiming how stories are shared\, bringing them to international platforms with dignity\, complexity\, and self-determination to shift conversations and redefine terms of engagement. \nGET TICKETS HERE: https://www.artshouse.com.au/events/who-are-these-demonesses/
URL:https://www.indianlink.com.au/whats-on/who-are-these-demonesses/
LOCATION:Arts House exterior\, North Melbourne Town Hall\, 521 Queensberry St\, North Melbourne\, Melbourne\, VIC\, 3051\, Australia
ATTACH;FMTTYPE=image/jpeg:https://p9dzm74w.tinifycdn.com/wp-content/uploads/2025/12/Sheelasha-Raj.jpg
GEO:-37.8033198;144.9499391
X-APPLE-STRUCTURED-LOCATION;VALUE=URI;X-ADDRESS=Arts House exterior North Melbourne Town Hall 521 Queensberry St North Melbourne Melbourne VIC 3051 Australia;X-APPLE-RADIUS=500;X-TITLE=North Melbourne Town Hall\, 521 Queensberry St\, North Melbourne:geo:144.9499391,-37.8033198
END:VEVENT
BEGIN:VEVENT
DTSTART;TZID=Australia/Sydney:20250925T080000
DTEND;TZID=Australia/Sydney:20260401T170000
DTSTAMP:20260423T143308
CREATED:20251218T002348Z
LAST-MODIFIED:20251218T002417Z
UID:10008718-1758787200-1775062800@www.indianlink.com.au
SUMMARY:MECCA x NGV Women in Design Commission 2025
DESCRIPTION:Award-winning designer Nipa Doshi takes centre stage at MECCA x NGV Women in Design Commission 2025 with A Room of My Own — a striking\, multipurpose cabinet inspired by the Indian kaavad. Blending centuries-old craft traditions with modernist design language\, the work becomes both functional object and personal archive\, honouring the women who have shaped Doshi’s life and practice. Intimate\, powerful\, and beautifully considered\, it’s a quiet celebration of memory\, making\, and women’s stories.
URL:https://www.indianlink.com.au/whats-on/mecca-x-ngv-women-in-design-commission-2025/
LOCATION:National Gallery of Victoria\, 180 St Kilda Rd\, Melbourne\, VIC\, 3000\, Australia
CATEGORIES:Arts,Happening in Melbourne
ATTACH;FMTTYPE=image/jpeg:https://p9dzm74w.tinifycdn.com/wp-content/uploads/2025/12/NGV_NipaDoshi_DerekSwalwell-21.jpg
GEO:-37.8226009;144.9693358
X-APPLE-STRUCTURED-LOCATION;VALUE=URI;X-ADDRESS=National Gallery of Victoria 180 St Kilda Rd Melbourne VIC 3000 Australia;X-APPLE-RADIUS=500;X-TITLE=180 St Kilda Rd:geo:144.9693358,-37.8226009
END:VEVENT
BEGIN:VEVENT
DTSTART;TZID=Australia/Sydney:20251016T080000
DTEND;TZID=Australia/Sydney:20251025T230000
DTSTAMP:20260423T143308
CREATED:20251015T024732Z
LAST-MODIFIED:20251015T024732Z
UID:10008663-1760601600-1761433200@www.indianlink.com.au
SUMMARY:Daytime Deewane at Riverside Theatre
DESCRIPTION:  \n\n1997. London. A daytime nightclub. \n\n\nMeet cousins Farhan and Sadiq. One quiet\, one wild\, both looking to escape. \nSet in the legendary daytime raves of the 1990s\, Daytime Deewane is a tender portrait of what it means to be torn between respect and rebellion. As the dance floor fills and the afternoon unfolds\, Farhan is still clutching his school bag and how Sadiq got that Motorola flip phone is a mystery only he can solve. \nThe two young ravers open their hearts and stomp their feet as they try to figure out how to shake off their ancestral shame and be a good Muslim boy and a proper British man – and they’ve got until 6pm to figure it out. \nThis exhilarating play by award-winning UK writer Azan Ahmed is a tour-de-force of theatrical storytelling. Mixing spoken word and Bhangra fused dance music to create an immersive world that pulls audiences out of their seats and into the crowd for “one more tune” and a true taste of freedom. \nContent warning: As part of depicting the experience of British South Asians in the 1990s\, at times characters in the play referred to language which is racially offensive. \n\nGET YOUR TICKETS HERE
URL:https://www.indianlink.com.au/whats-on/daytime-deewane-at-riverside-theatre/
LOCATION:Riverside Theatre\, Corner Church and Market Streets\, Parramatta New South Wales 2150
ATTACH;FMTTYPE=image/jpeg:https://p9dzm74w.tinifycdn.com/wp-content/uploads/2025/10/3793_rt_daytimedeewane_mainposter-socialassets_13.jpg
GEO:-33.814785;151.0017218
X-APPLE-STRUCTURED-LOCATION;VALUE=URI;X-ADDRESS=Riverside Theatre Corner Church and Market Streets Parramatta New South Wales 2150;X-APPLE-RADIUS=500;X-TITLE=Corner Church and Market Streets\, Parramatta New South Wales 2150:geo:151.0017218,-33.814785
END:VEVENT
BEGIN:VEVENT
DTSTART;TZID=Australia/Sydney:20251018T123000
DTEND;TZID=Australia/Sydney:20251018T203000
DTSTAMP:20260423T143308
CREATED:20251008T020030Z
LAST-MODIFIED:20251008T020030Z
UID:10008654-1760790600-1760819400@www.indianlink.com.au
SUMMARY:Diwali Festival 2025 - Castle Hill Showground
DESCRIPTION:  \nSydney’s biggest Festival of Lights is back – brighter\, louder\, and more exciting than ever! \nGet ready for a day packed with colour\, music\, food\, and celebrations as we transform Castle Hill Showground into a Diwali wonderland. \n\nSpectacular live performances – Bollywood dance\, cultural shows & live DJ\nFireworks finale to light up the night sky\nRides and games for kids (and kids at heart!)\nStreet food & sweets from across India – taste Diwali like never before\nHenna\, rangoli & cultural stalls\nShopping stalls & giveaways from local businesses\n\nEntry is FREE – bring your family\, your friends\, your dancing shoes\, and your appetite! \nThis is more than an event – it’s an experience. Come celebrate Diwali with us and be part of a community festival full of lights\, laughter\, and memories you’ll never forget. \nGET TICKETS HERE: Diwali Festival 2025 – Castle Hill Showground
URL:https://www.indianlink.com.au/whats-on/diwali-festival-2025-castle-hill-showground/
LOCATION:Castle Hill Showground\, Showground Rd\, Castle Hill\, 2154\, NSW\, Australia
ATTACH;FMTTYPE=image/png:https://p9dzm74w.tinifycdn.com/wp-content/uploads/2025/10/Diwali-Festival-Castle-Hill.png
GEO:-33.7264817;150.9904056
X-APPLE-STRUCTURED-LOCATION;VALUE=URI;X-ADDRESS=Castle Hill Showground Showground Rd Castle Hill 2154 NSW Australia;X-APPLE-RADIUS=500;X-TITLE=Showground Rd:geo:150.9904056,-33.7264817
END:VEVENT
BEGIN:VEVENT
DTSTART;TZID=Australia/Sydney:20251018T140000
DTEND;TZID=Australia/Sydney:20251018T151000
DTSTAMP:20260423T143308
CREATED:20250908T031526Z
LAST-MODIFIED:20250908T031526Z
UID:10008582-1760796000-1760800200@www.indianlink.com.au
SUMMARY:Daytime Deewane - National Theatre of Parramatta
DESCRIPTION:  \n\n1997. London. A daytime nightclub. \n\n\nMeet cousins Farhan and Sadiq. One quiet\, one wild\, both looking to escape. \nSet in the legendary daytime raves of the 1990s\, Daytime Deewane is a tender portrait of what it means to be torn between respect and rebellion. As the dance floor fills and the afternoon unfolds\, Farhan is still clutching his school bag and how Sadiq got that Motorola flip phone is a mystery only he can solve. \nThe two young ravers open their hearts and stomp their feet as they try to figure out how to shake off their ancestral shame and be a good Muslim boy and a proper British man – and they’ve got until 6pm to figure it out. \nThis exhilarating play by award-winning UK writer Azan Ahmed is a tour-de-force of theatrical storytelling. Mixing spoken word and Bhangra fused dance music to create an immersive world that pulls audiences out of their seats and into the crowd for “one more tune” and a true taste of freedom. \nContent warning: As part of depicting the experience of British South Asians in the 1990s\, at times characters in the play referred to language which is racially offensive. \n\nGET TICKETS HERE: https://riversideparramatta.com.au/whats-on/daytime-deewane/
URL:https://www.indianlink.com.au/whats-on/daytime-deewane-national-theatre-of-parramatta/2025-10-18/
LOCATION:PHIVE\, 5 Parramatta Square\, Parramatta Square 5\, Parramatta\, NSW\, 2150\, Australia
ATTACH;FMTTYPE=image/png:https://p9dzm74w.tinifycdn.com/wp-content/uploads/2025/09/Daytime-Deewane.png
GEO:-33.8156117;151.0042195
X-APPLE-STRUCTURED-LOCATION;VALUE=URI;X-ADDRESS=PHIVE 5 Parramatta Square Parramatta Square 5 Parramatta NSW 2150 Australia;X-APPLE-RADIUS=500;X-TITLE=Parramatta Square 5:geo:151.0042195,-33.8156117
END:VEVENT
BEGIN:VEVENT
DTSTART;TZID=Australia/Sydney:20251018T170000
DTEND;TZID=Australia/Sydney:20251018T180000
DTSTAMP:20260423T143308
CREATED:20250826T033155Z
LAST-MODIFIED:20250826T033640Z
UID:10008530-1760806800-1760810400@www.indianlink.com.au
SUMMARY:The Music of A.R. Rahman In Symphony - Sydney
DESCRIPTION:The Australian Indian Orchestra presents the musical magic of A.R. Rahman\, live with an 80-piece symphony orchestra. \nIn a unique concert format\, Conductor and Artistic Director Suraj Nagaraj narrates the musical journey of A.R. Rahman\, from his humble beginnings in commercial jingles to his iconic blockbuster hits. \nFeaturing the best selections from Tamil and Hindi films including: Dil Se\, Lagaan\, Ponniyin Selvan\, Muthu\, and more! \nVenue: Verbrugghen Hall\, Sydney Conservatorium of Music \nFood available at the venue \nNote: A.R. Rahman himself will not be present at this concert. This is a purely instrumental program without singers. \nGet your tickets here : The Music of A.R. Rahman In Symphony – Sydney (Saturday) – DryTickets.com.au
URL:https://www.indianlink.com.au/whats-on/the-music-of-a-r-rahman-in-symphony-sydney-saturday/2025-10-18/
LOCATION:Verbrugghen Hall\, Sydney Conservatorium of Music\, 1 Conservatorium Rd\, Sydney\, NSW\, 2000\, Australia
ATTACH;FMTTYPE=image/png:https://p9dzm74w.tinifycdn.com/wp-content/uploads/2025/08/Capture-6.png
GEO:-33.8636805;151.2144441
X-APPLE-STRUCTURED-LOCATION;VALUE=URI;X-ADDRESS=Verbrugghen Hall Sydney Conservatorium of Music 1 Conservatorium Rd Sydney NSW 2000 Australia;X-APPLE-RADIUS=500;X-TITLE=1 Conservatorium Rd:geo:151.2144441,-33.8636805
END:VEVENT
BEGIN:VEVENT
DTSTART;TZID=Australia/Sydney:20251018T170000
DTEND;TZID=Australia/Sydney:20251018T200000
DTSTAMP:20260423T143308
CREATED:20250714T031612Z
LAST-MODIFIED:20250714T031612Z
UID:10008381-1760806800-1760817600@www.indianlink.com.au
SUMMARY:A.R. Rahman in Symphony
DESCRIPTION:  \nThe Australian Indian Orchestra presents the musical magic of A.R. Rahman. In a unique concert format\, Conductor and Artistic Director Suraj Nagaraj narrates the musical journey of A.R. Rahman\, from his commercial jingles to his Bollywood blockbuster hits\, all performed live and authentically with full symphony orchestra. \nGET TICKETS HERE: A.R. Rahman in Symphony
URL:https://www.indianlink.com.au/whats-on/a-r-rahman-in-symphony/
LOCATION:Verbrugghen Hall\, Sydney Conservatorium of Music\, 1 Conservatorium Rd\, Sydney\, NSW\, 2000\, Australia
ATTACH;FMTTYPE=image/png:https://p9dzm74w.tinifycdn.com/wp-content/uploads/2025/07/AR-Rahman-in-symphony.png
GEO:-33.8636805;151.2144441
X-APPLE-STRUCTURED-LOCATION;VALUE=URI;X-ADDRESS=Verbrugghen Hall Sydney Conservatorium of Music 1 Conservatorium Rd Sydney NSW 2000 Australia;X-APPLE-RADIUS=500;X-TITLE=1 Conservatorium Rd:geo:151.2144441,-33.8636805
END:VEVENT
BEGIN:VEVENT
DTSTART;TZID=Australia/Sydney:20251018T170000
DTEND;TZID=Australia/Sydney:20251018T200000
DTSTAMP:20260423T143308
CREATED:20250722T020118Z
LAST-MODIFIED:20250904T022555Z
UID:10008404-1760806800-1760817600@www.indianlink.com.au
SUMMARY:A.R. Rahman in Symphony
DESCRIPTION:The Australian Indian Orchestra presents the musical magic of A.R. Rahman\, live with an 80-piece symphony orchestra \nIn a unique concert format\, Conductor and Artistic Director Suraj Nagaraj narrates the musical journey of A.R. Rahman\, from his humble beginnings with commercial jingles to his iconic blockbuster hits. \nDisclaimer: A.R. Rahman himself will not be present at this concert.
URL:https://www.indianlink.com.au/whats-on/a-r-rahman-in-symphony-2/
LOCATION:Verbrugghen Hall\, Sydney Conservatorium of Music\, 1 Conservatorium Rd\, Sydney\, NSW\, 2000\, Australia
ATTACH;FMTTYPE=image/png:https://p9dzm74w.tinifycdn.com/wp-content/uploads/2025/08/Capture-6.png
GEO:-33.8636805;151.2144441
X-APPLE-STRUCTURED-LOCATION;VALUE=URI;X-ADDRESS=Verbrugghen Hall Sydney Conservatorium of Music 1 Conservatorium Rd Sydney NSW 2000 Australia;X-APPLE-RADIUS=500;X-TITLE=1 Conservatorium Rd:geo:151.2144441,-33.8636805
END:VEVENT
BEGIN:VEVENT
DTSTART;TZID=Australia/Sydney:20251018T170000
DTEND;TZID=Australia/Sydney:20251018T220000
DTSTAMP:20260423T143308
CREATED:20250827T033938Z
LAST-MODIFIED:20250827T033938Z
UID:10008557-1760806800-1760824800@www.indianlink.com.au
SUMMARY:Diwali Utsav – Festival of Lights 2025
DESCRIPTION:Event Snapshot\n\n\nCelebrate Diwali in Style! Step into a world of vibrant colors\, traditional Indian decor\, and festive lights. Diwali Utsav 2025 is your chance to experience the magic of India’s most beloved festival with family and friends. \nEvent Showcase: MUSIC | FOOD | STALLS | ENTERTAINMENT | FESTIVE VIBES | OPEN DANCE FLOOR \nHenna Art: Beautiful Mehndi designs to adorn your hands. \nShopping: Stalls featuring traditional clothing and decor. \nFood Feast: Savor delicious Indian festive specialties. \nDance & Music: DJ beats and an open dance floor to keep the party going! \nJoin us for an unforgettable evening of joy\, culture\, and community! \nPurchase your tickets here: https://eventik.com.au/event/diwali-utsav-festival/
URL:https://www.indianlink.com.au/whats-on/diwali-utsav-festival-of-lights-2025/
LOCATION:Hunter Multicultural Communities Inc\, Platt Street\, Waratah NSW\, Hunter Multicultural Communities Inc\, Platt Street\, Waratah NSW
ATTACH;FMTTYPE=image/png:https://p9dzm74w.tinifycdn.com/wp-content/uploads/2025/08/diwali-utsav.png
GEO:-32.9031808;151.7306074
X-APPLE-STRUCTURED-LOCATION;VALUE=URI;X-ADDRESS=Hunter Multicultural Communities Inc Platt Street Waratah NSW Hunter Multicultural Communities Inc Platt Street Waratah NSW;X-APPLE-RADIUS=500;X-TITLE=Hunter Multicultural Communities Inc\, Platt Street\, Waratah NSW:geo:151.7306074,-32.9031808
END:VEVENT
BEGIN:VEVENT
DTSTART;TZID=Australia/Sydney:20251018T180000
DTEND;TZID=Australia/Sydney:20251018T220000
DTSTAMP:20260423T143308
CREATED:20250902T040932Z
LAST-MODIFIED:20250902T040932Z
UID:10008574-1760810400-1760824800@www.indianlink.com.au
SUMMARY:Pratham Australia's Diwali 2025 Family Event
DESCRIPTION:Join Us for a Magical Diwali Celebration – and Help Change Lives \nCelebrate the Festival of Lights while supporting Pratham’s Second Chance program\, which empowers girls and women in India who have had to leave school due to circumstances beyond their control. This vital initiative gives them the opportunity to complete their education\, transforming not just their futures\, but also uplifting their families and communities. \nIndulge in delicious Indian street food and mains by Surjit’s Catering\nEnjoy exquisite wines by Avani Wines from Mornington Peninsula\, crafted by Indian-born winemaker Shashi Singh\nBe dazzled by a spectacular performance from Sirens Dance\nLearn a few fun Bollywood moves and dance the night away to beats by DJ JAI\nLight sparklers and soak in the festive spirit of Diwali\nExperience a magical\, Indian-inspired evening styled by VIP Decorating \nLet’s light up lives — together. \nDress Code: Festive \n\n\nBook Here:Pratham Australia’s Diwali 2025 Family Event Tickets\, High Tide Room & Guya Courtyard\, Bondi Beach | TryBooking Australia
URL:https://www.indianlink.com.au/whats-on/pratham-australias-diwali-2025-family-event/
LOCATION:High Tide Room & Guya Courtyard Bondi Pavilion\, Bondi Beach NSW 2026\, High Tide Room & Guya Courtyard Bondi Pavilion\, Sydney\, NSW\, 2026\, Australia
ATTACH;FMTTYPE=image/png:https://p9dzm74w.tinifycdn.com/wp-content/uploads/2025/09/Capture.png
GEO:-33.8900918;151.2770796
X-APPLE-STRUCTURED-LOCATION;VALUE=URI;X-ADDRESS=High Tide Room & Guya Courtyard Bondi Pavilion Bondi Beach NSW 2026 High Tide Room & Guya Courtyard Bondi Pavilion Sydney NSW 2026 Australia;X-APPLE-RADIUS=500;X-TITLE=High Tide Room & Guya Courtyard Bondi Pavilion:geo:151.2770796,-33.8900918
END:VEVENT
BEGIN:VEVENT
DTSTART;TZID=Australia/Sydney:20251018T190000
DTEND;TZID=Australia/Sydney:20251018T200000
DTSTAMP:20260423T143308
CREATED:20250826T052022Z
LAST-MODIFIED:20250826T052022Z
UID:10008536-1760814000-1760817600@www.indianlink.com.au
SUMMARY:KAKA & SIMIRAN KAUR DHADLI Live Concert In Sydney 2025
DESCRIPTION:Kaka & Simran Kaur Dhadli Live in Australia – Oct 2025\nGet ready to feel every word\, every beat!\nThe voice behind Keh Len De\, Libas\, and Teeji Seat is coming to set the stage on fire! \nGet your tickets here : KAKA & SIMIRAN KAUR DHADLI Live Concert In Sydney 2025 – DryTickets.com.au
URL:https://www.indianlink.com.au/whats-on/kaka-simiran-kaur-dhadli-live-concert-in-sydney-2025/
LOCATION:Bowman Hall  35 Campbell St Blacktown  NSW 2148 \, Australia\, Bowman Hall 35 Campbell St Blacktown\, Sydney\, NSW\, 2148\, Australia
ATTACH;FMTTYPE=image/png:https://p9dzm74w.tinifycdn.com/wp-content/uploads/2025/08/Capture-12.png
GEO:-33.7716475;150.9091752
X-APPLE-STRUCTURED-LOCATION;VALUE=URI;X-ADDRESS=Bowman Hall  35 Campbell St Blacktown  NSW 2148  Australia Bowman Hall 35 Campbell St Blacktown Sydney NSW 2148 Australia;X-APPLE-RADIUS=500;X-TITLE=Bowman Hall 35 Campbell St Blacktown:geo:150.9091752,-33.7716475
END:VEVENT
END:VCALENDAR