BEGIN:VCALENDAR
VERSION:2.0
PRODID:-//Indian Link - ECPv6.15.20//NONSGML v1.0//EN
CALSCALE:GREGORIAN
METHOD:PUBLISH
X-ORIGINAL-URL:https://www.indianlink.com.au
X-WR-CALDESC:Events for Indian Link
REFRESH-INTERVAL;VALUE=DURATION:PT1H
X-Robots-Tag:noindex
X-PUBLISHED-TTL:PT1H
BEGIN:VTIMEZONE
TZID:Australia/Sydney
BEGIN:STANDARD
TZOFFSETFROM:+1100
TZOFFSETTO:+1000
TZNAME:AEST
DTSTART:20240406T160000
END:STANDARD
BEGIN:DAYLIGHT
TZOFFSETFROM:+1000
TZOFFSETTO:+1100
TZNAME:AEDT
DTSTART:20241005T160000
END:DAYLIGHT
BEGIN:STANDARD
TZOFFSETFROM:+1100
TZOFFSETTO:+1000
TZNAME:AEST
DTSTART:20250405T160000
END:STANDARD
BEGIN:DAYLIGHT
TZOFFSETFROM:+1000
TZOFFSETTO:+1100
TZNAME:AEDT
DTSTART:20251004T160000
END:DAYLIGHT
BEGIN:STANDARD
TZOFFSETFROM:+1100
TZOFFSETTO:+1000
TZNAME:AEST
DTSTART:20260404T160000
END:STANDARD
BEGIN:DAYLIGHT
TZOFFSETFROM:+1000
TZOFFSETTO:+1100
TZNAME:AEDT
DTSTART:20261003T160000
END:DAYLIGHT
END:VTIMEZONE
BEGIN:VEVENT
DTSTART;VALUE=DATE:20250228
DTEND;VALUE=DATE:20251124
DTSTAMP:20260423T143247
CREATED:20251027T071608Z
LAST-MODIFIED:20251027T071608Z
UID:10008685-1740700800-1763942399@www.indianlink.com.au
SUMMARY:Touching the Divine - Love and Devotion in Asian Art
DESCRIPTION:  \nTouching the Divine: Love and Devotion in Asian Art explores aspects of love and devotion expressed through art created in sacred contexts across Asia. \nFeaturing works of art from the AGSA collection this exhibition presents the divine and worldly aspects of devotion expressed through a wide diversity of media created in the context of Buddhism\, Hinduism\, and Islam. \nGET TICKETS HERE: https://ozasia.adelaidefestivalcentre.com.au/whats-on/touching-the-divine
URL:https://www.indianlink.com.au/whats-on/touching-the-divine-love-and-devotion-in-asian-art/
LOCATION:Art Gallery of South Australia\, North Terrace\, Adelaide\, South Australia\, 5000\, Australia
ATTACH;FMTTYPE=image/jpeg:https://p9dzm74w.tinifycdn.com/wp-content/uploads/2025/10/Love-and-Devotion.jpg
GEO:-34.9211946;138.6053204
X-APPLE-STRUCTURED-LOCATION;VALUE=URI;X-ADDRESS=Art Gallery of South Australia North Terrace Adelaide South Australia 5000 Australia;X-APPLE-RADIUS=500;X-TITLE=North Terrace:geo:138.6053204,-34.9211946
END:VEVENT
BEGIN:VEVENT
DTSTART;TZID=Australia/Sydney:20250809T193000
DTEND;TZID=Australia/Sydney:20250911T150900
DTSTAMP:20260423T143247
CREATED:20250911T051221Z
LAST-MODIFIED:20250911T051221Z
UID:10008593-1754767800-1757603340@www.indianlink.com.au
SUMMARY:Cookies and Cream -  Melbourne Fringe Festival
DESCRIPTION:Get ready for a night of laughter as rich and satisfying as your favourite dessert! Cookies & Cream Comedy blends cultural diversity\, sharp wit\, and life’s quirks into a perfectly mixed showcase guaranteed to leave you smiling. \n  \nFeaturing:\n🏏 Sahib Rana – 2025 QLD Raw Comedy Runner-Up\, globetrotting comic (UK\, Kenya\, Canada) whose hilarious takes on race\, culture\, and his dreams of cricketing glory will bowl you over. \n🤪 Liam Daley – Eccentric and unapologetically candid\, Liam’s witty punchlines and offbeat perspective on everyday life bring a fresh\, heartfelt spin to the stage. \n😂 Grant Cater – Offering sharp\, laugh-out-loud insights on life and disability\, Grant proves that the best comedy comes from authenticity. \n🚜 Andy Ho (Hoey Farmer) – Viral sensation and Vietnamese-Aussie farmer who turns paddock misadventures and cultural clashes into comedy gold. \nCookies & Cream Comedy is your perfect midweek treat or weekend indulgence—where laughter knows no boundaries and every story is deliciously different! \n 
URL:https://www.indianlink.com.au/whats-on/cookies-and-cream-melbourne-fringe-festival/
LOCATION:Club Voltaire\, Raglan Street\, North Melbourne\, VIC\, 3051\, Australia
CATEGORIES:Comedy,Community,Festival,Happening in Melbourne
GEO:-37.8042443;144.9501287
X-APPLE-STRUCTURED-LOCATION;VALUE=URI;X-ADDRESS=Club Voltaire Raglan Street North Melbourne VIC 3051 Australia;X-APPLE-RADIUS=500;X-TITLE=Raglan Street:geo:144.9501287,-37.8042443
END:VEVENT
BEGIN:VEVENT
DTSTART;TZID=Australia/Sydney:20250830T100000
DTEND;TZID=Australia/Sydney:20251212T000000
DTSTAMP:20260423T143247
CREATED:20250815T043302Z
LAST-MODIFIED:20250815T043302Z
UID:10008441-1756548000-1765497600@www.indianlink.com.au
SUMMARY:Spirit of India – Yoga for Children\, Seniors\, and the Community
DESCRIPTION:Spirit of India’s community development initiatives continue to make a meaningful difference in people’s lives\, offering yoga programs for children\, seniors\, and adults. A new children’s yoga batch for ages 5–12 begins on 30th August 2025\, focusing on health\, flexibility\, and mindfulness (mat required; nominal charges apply). \nAdults can join Hath Yoga classes every Saturday and Sunday starting 30th–31st August at Wentworthville\, Epping\, and Quakers Hill\, with ample free parking at all locations. Seniors (age 55+) can enjoy free ongoing yoga sessions at Epping and Pennant Hill libraries. Practice sessions are also available for graduates of regular classes\, both face-to-face and online. \nSpirit of India also hosts major community events\, including graduation ceremonies\, 108 Surya Namaskar sessions\, and other programs to inspire holistic wellness. \nYoga classes are held at three locations: \n\n\nWentworthville: Saturdays\, 10:00 am – 12:00 pm\, 30 Aug – 6 Dec 2025\, at Bankesia Hall\, 2 Lane St. \n\n\nQuakers Hill: Saturdays\, 5:00 pm – 7:00 pm\, 30 Aug – 6 Dec 2025\, at Performance Space\, Quakers Hill High School\, 70 Lalor Rd. \n\n\nEpping: Sundays\, 7:00 am – 9:00 am\, 31 Aug – 6 Dec 2025\, at Boronia Grose Hall\, 40 Victoria St. \n\n\nAmple free parking is available at all venues. \nFor more information\, enrolment\, or updates\, visit www.spiritofindia.org or contact spiritofindia2002@yahoo.com / 0412 202 182.
URL:https://www.indianlink.com.au/whats-on/spirit-of-india-yoga-for-children-seniors-and-the-community/
LOCATION:Boronia Grose Hall\, 40 Victoria St\, Epping\, Sydney\, NSW\, 2121\, Australia
CATEGORIES:Happening in Sydney,Home and Lifestyle
ATTACH;FMTTYPE=image/jpeg:https://p9dzm74w.tinifycdn.com/wp-content/uploads/2025/08/Yoga.jpg
GEO:-33.77346;151.0800191
X-APPLE-STRUCTURED-LOCATION;VALUE=URI;X-ADDRESS=Boronia Grose Hall 40 Victoria St Epping Sydney NSW 2121 Australia;X-APPLE-RADIUS=500;X-TITLE=40 Victoria St\, Epping:geo:151.0800191,-33.77346
END:VEVENT
BEGIN:VEVENT
DTSTART;TZID=Australia/Sydney:20250901T111523
DTEND;TZID=Australia/Sydney:20250901T111523
DTSTAMP:20260423T143247
CREATED:20250901T011523Z
LAST-MODIFIED:20250901T011523Z
UID:10008572-1756725323-1756725323@www.indianlink.com.au
SUMMARY:Diljit Dosanjh - Aura Tour - Australia 2025
DESCRIPTION:@DiljitDosanjh is bringing AURA to Australia! \nCatch the global superstar as he makes history with his BIGGEST\, BOLDEST and MOST EXPLOSIVE tour ever! \nFIRST Indian artist to headline stadiums in Syd & Melb\nFIRST EVER shows in Adelaide & Perth \nBACK BY DEMAND in Brisbane \nTickets will be in HIGH DEMAND. \nSign up here for EARLY ACCESS: https://arep.co/m/diljit-dosanjh-2025 \nThen get ready: \nPre-sale: Tues 2 Sept \nSyd\, Brisb\, Adel & Perth: 11am | Melb: 1pm \nGeneral On Sale:  Wed 3 Sept \nSyd\, Brisb\, Adel & Perth: 12pm | Melb: 3 pm \nAll times are local.
URL:https://www.indianlink.com.au/whats-on/diljit-dosanjh-aura-tour-australia-2025/
LOCATION:Commbank Stadium\, 11-13 O'Connell St Parramatta NSW 2150
ATTACH;FMTTYPE=image/png:https://p9dzm74w.tinifycdn.com/wp-content/uploads/2025/09/aura.png
GEO:-33.8151511;150.9994295
X-APPLE-STRUCTURED-LOCATION;VALUE=URI;X-ADDRESS=Commbank Stadium 11-13 O'Connell St Parramatta NSW 2150;X-APPLE-RADIUS=500;X-TITLE=11-13 O'Connell St Parramatta NSW 2150:geo:150.9994295,-33.8151511
END:VEVENT
END:VCALENDAR