BEGIN:VCALENDAR
VERSION:2.0
PRODID:-//Indian Link - ECPv6.15.20//NONSGML v1.0//EN
CALSCALE:GREGORIAN
METHOD:PUBLISH
X-ORIGINAL-URL:https://www.indianlink.com.au
X-WR-CALDESC:Events for Indian Link
REFRESH-INTERVAL;VALUE=DURATION:PT1H
X-Robots-Tag:noindex
X-PUBLISHED-TTL:PT1H
BEGIN:VTIMEZONE
TZID:Australia/Sydney
BEGIN:STANDARD
TZOFFSETFROM:+1100
TZOFFSETTO:+1000
TZNAME:AEST
DTSTART:20240406T160000
END:STANDARD
BEGIN:DAYLIGHT
TZOFFSETFROM:+1000
TZOFFSETTO:+1100
TZNAME:AEDT
DTSTART:20241005T160000
END:DAYLIGHT
BEGIN:STANDARD
TZOFFSETFROM:+1100
TZOFFSETTO:+1000
TZNAME:AEST
DTSTART:20250405T160000
END:STANDARD
BEGIN:DAYLIGHT
TZOFFSETFROM:+1000
TZOFFSETTO:+1100
TZNAME:AEDT
DTSTART:20251004T160000
END:DAYLIGHT
BEGIN:STANDARD
TZOFFSETFROM:+1100
TZOFFSETTO:+1000
TZNAME:AEST
DTSTART:20260404T160000
END:STANDARD
BEGIN:DAYLIGHT
TZOFFSETFROM:+1000
TZOFFSETTO:+1100
TZNAME:AEDT
DTSTART:20261003T160000
END:DAYLIGHT
END:VTIMEZONE
BEGIN:VEVENT
DTSTART;VALUE=DATE:20250228
DTEND;VALUE=DATE:20251124
DTSTAMP:20260425T215441
CREATED:20251027T071608Z
LAST-MODIFIED:20251027T071608Z
UID:10008685-1740700800-1763942399@www.indianlink.com.au
SUMMARY:Touching the Divine - Love and Devotion in Asian Art
DESCRIPTION:  \nTouching the Divine: Love and Devotion in Asian Art explores aspects of love and devotion expressed through art created in sacred contexts across Asia. \nFeaturing works of art from the AGSA collection this exhibition presents the divine and worldly aspects of devotion expressed through a wide diversity of media created in the context of Buddhism\, Hinduism\, and Islam. \nGET TICKETS HERE: https://ozasia.adelaidefestivalcentre.com.au/whats-on/touching-the-divine
URL:https://www.indianlink.com.au/whats-on/touching-the-divine-love-and-devotion-in-asian-art/
LOCATION:Art Gallery of South Australia\, North Terrace\, Adelaide\, South Australia\, 5000\, Australia
ATTACH;FMTTYPE=image/jpeg:https://p9dzm74w.tinifycdn.com/wp-content/uploads/2025/10/Love-and-Devotion.jpg
GEO:-34.9211946;138.6053204
X-APPLE-STRUCTURED-LOCATION;VALUE=URI;X-ADDRESS=Art Gallery of South Australia North Terrace Adelaide South Australia 5000 Australia;X-APPLE-RADIUS=500;X-TITLE=North Terrace:geo:138.6053204,-34.9211946
END:VEVENT
BEGIN:VEVENT
DTSTART;TZID=Australia/Sydney:20250724T100000
DTEND;TZID=Australia/Sydney:20250803T170000
DTSTAMP:20260425T215441
CREATED:20250724T023138Z
LAST-MODIFIED:20250724T023138Z
UID:10008408-1753351200-1754240400@www.indianlink.com.au
SUMMARY:Art Exhibition: Native Fauna of Georges River by Priya Cox
DESCRIPTION:Step into the wild with Wings & Whiskers\, a stunning exhibition by artist Priya Cox\, celebrating the rich biodiversity of Australian wildlife. Inspired by the vivid contrast between native Australian birds and the ones she knew growing up in England\, Cox’s work brings nature to life through intricate\, heartfelt portraits of local fauna. \nCreated in collaboration with photographers\, the exhibition showcases the vibrant wildlife of Georges River – from swamp wallabies and flying-foxes to microbats and frogs – and sheds light on the importance of conservation and coexistence. A captivating tribute to the natural world and the delicate ecosystems that surround us.
URL:https://www.indianlink.com.au/whats-on/art-exhibition-native-fauna-of-georges-river-by-priya-cox/
LOCATION:Clive James Library and Service Centre\, Kogarah Town Square Belgrave Street Kogarah\, Sydney\, NSW\, 2217\, Australia
CATEGORIES:Arts,Happening in Sydney
ATTACH;FMTTYPE=image/jpeg:https://p9dzm74w.tinifycdn.com/wp-content/uploads/2025/07/Syd.jpg
GEO:-33.9651259;151.1335271
X-APPLE-STRUCTURED-LOCATION;VALUE=URI;X-ADDRESS=Clive James Library and Service Centre Kogarah Town Square Belgrave Street Kogarah Sydney NSW 2217 Australia;X-APPLE-RADIUS=500;X-TITLE=Kogarah Town Square Belgrave Street Kogarah:geo:151.1335271,-33.9651259
END:VEVENT
BEGIN:VEVENT
DTSTART;TZID=Australia/Sydney:20250726T180000
DTEND;TZID=Australia/Sydney:20250726T200000
DTSTAMP:20260425T215441
CREATED:20250718T060219Z
LAST-MODIFIED:20250718T060219Z
UID:10008397-1753552800-1753560000@www.indianlink.com.au
SUMMARY:Geeta Rabari - CHOGAADA RE 2025 In Melbourne
DESCRIPTION:  \nGet ready\, Melbourne — the Queen of Garba is coming back! 💃🌟\n𝐂𝐇𝐎𝐆𝐀𝐃𝐀 𝐑𝐄 𝟐𝟎𝟐𝟓 – Live with the sensational 𝐆𝐄𝐄𝐓𝐀 𝐑𝐀𝐁𝐀𝐑𝐈\nPresented by @Eco Solar Australia \n📅 26th July 2025\n🕕 6:00 PM Onwards\n📍 Westgate Indoor Sports\, Melbourne \n💃 Phase 1 is SOLD OUT — Don’t miss out on the next wave!\n🎟️ Book your tickets NOW:\n👉 https://drytickets.com.au/event/geeta-rabari-chogaada-re-2025-in-melbourne \n✨ Gather your Garba crew\, dress to impress\, and prepare for a night of unforgettable beats\, non-stop dancing\, and vibrant vibes! \nGET TICKETS HERE: Geeta Rabari – CHOGAADA RE 2025 In Melbourne – DryTickets.com.au
URL:https://www.indianlink.com.au/whats-on/geeta-rabari-chogaada-re-2025-in-melbourne/
LOCATION:Westgate Indoor Sports\, 61 Dohertys Road\, Altona North\, VIC\, 3025\, Australia
ATTACH;FMTTYPE=image/png:https://p9dzm74w.tinifycdn.com/wp-content/uploads/2025/07/Geets-Rabari.png
GEO:-37.831741;144.825357
X-APPLE-STRUCTURED-LOCATION;VALUE=URI;X-ADDRESS=Westgate Indoor Sports 61 Dohertys Road Altona North VIC 3025 Australia;X-APPLE-RADIUS=500;X-TITLE=61 Dohertys Road:geo:144.825357,-37.831741
END:VEVENT
BEGIN:VEVENT
DTSTART;TZID=Australia/Sydney:20250726T190000
DTEND;TZID=Australia/Sydney:20250726T190000
DTSTAMP:20260425T215441
CREATED:20250724T024550Z
LAST-MODIFIED:20250724T025618Z
UID:10008409-1753556400-1753556400@www.indianlink.com.au
SUMMARY:Turbanator Live in Brisbane 2025
DESCRIPTION:Get ready for a cultural powerhouse. In Turbanator Live\, Tarsem Jassar brings electrifying Bhangra beats\, charismatic stage presence\, and energetic choreography to town. Expect a vibrant showcase of Punjabi music and dance that gets everyone grooving and celebrating together!
URL:https://www.indianlink.com.au/whats-on/tyrbonator-live-in-brisbane-2025/
LOCATION:Hillsong Auditorium\, 16 Rover St\, Mount Gravatt\,\, Brisbane\, Queensland\, 4122\, Australia
CATEGORIES:Arts,Happening in Brisbane
ATTACH;FMTTYPE=image/jpeg:https://p9dzm74w.tinifycdn.com/wp-content/uploads/2025/07/pss.jpg
GEO:-27.541972;153.0791906
X-APPLE-STRUCTURED-LOCATION;VALUE=URI;X-ADDRESS=Hillsong Auditorium 16 Rover St Mount Gravatt Brisbane Queensland 4122 Australia;X-APPLE-RADIUS=500;X-TITLE=16 Rover St\, Mount Gravatt\,:geo:153.0791906,-27.541972
END:VEVENT
END:VCALENDAR