BEGIN:VCALENDAR
VERSION:2.0
PRODID:-//Indian Link - ECPv6.15.20//NONSGML v1.0//EN
CALSCALE:GREGORIAN
METHOD:PUBLISH
X-ORIGINAL-URL:https://www.indianlink.com.au
X-WR-CALDESC:Events for Indian Link
REFRESH-INTERVAL;VALUE=DURATION:PT1H
X-Robots-Tag:noindex
X-PUBLISHED-TTL:PT1H
BEGIN:VTIMEZONE
TZID:Australia/Sydney
BEGIN:STANDARD
TZOFFSETFROM:+1100
TZOFFSETTO:+1000
TZNAME:AEST
DTSTART:20240406T160000
END:STANDARD
BEGIN:DAYLIGHT
TZOFFSETFROM:+1000
TZOFFSETTO:+1100
TZNAME:AEDT
DTSTART:20241005T160000
END:DAYLIGHT
BEGIN:STANDARD
TZOFFSETFROM:+1100
TZOFFSETTO:+1000
TZNAME:AEST
DTSTART:20250405T160000
END:STANDARD
BEGIN:DAYLIGHT
TZOFFSETFROM:+1000
TZOFFSETTO:+1100
TZNAME:AEDT
DTSTART:20251004T160000
END:DAYLIGHT
BEGIN:STANDARD
TZOFFSETFROM:+1100
TZOFFSETTO:+1000
TZNAME:AEST
DTSTART:20260404T160000
END:STANDARD
BEGIN:DAYLIGHT
TZOFFSETFROM:+1000
TZOFFSETTO:+1100
TZNAME:AEDT
DTSTART:20261003T160000
END:DAYLIGHT
END:VTIMEZONE
BEGIN:VEVENT
DTSTART;VALUE=DATE:20250228
DTEND;VALUE=DATE:20251124
DTSTAMP:20260426T010313
CREATED:20251027T071608Z
LAST-MODIFIED:20251027T071608Z
UID:10008685-1740700800-1763942399@www.indianlink.com.au
SUMMARY:Touching the Divine - Love and Devotion in Asian Art
DESCRIPTION:  \nTouching the Divine: Love and Devotion in Asian Art explores aspects of love and devotion expressed through art created in sacred contexts across Asia. \nFeaturing works of art from the AGSA collection this exhibition presents the divine and worldly aspects of devotion expressed through a wide diversity of media created in the context of Buddhism\, Hinduism\, and Islam. \nGET TICKETS HERE: https://ozasia.adelaidefestivalcentre.com.au/whats-on/touching-the-divine
URL:https://www.indianlink.com.au/whats-on/touching-the-divine-love-and-devotion-in-asian-art/
LOCATION:Art Gallery of South Australia\, North Terrace\, Adelaide\, South Australia\, 5000\, Australia
ATTACH;FMTTYPE=image/jpeg:https://p9dzm74w.tinifycdn.com/wp-content/uploads/2025/10/Love-and-Devotion.jpg
GEO:-34.9211946;138.6053204
X-APPLE-STRUCTURED-LOCATION;VALUE=URI;X-ADDRESS=Art Gallery of South Australia North Terrace Adelaide South Australia 5000 Australia;X-APPLE-RADIUS=500;X-TITLE=North Terrace:geo:138.6053204,-34.9211946
END:VEVENT
BEGIN:VEVENT
DTSTART;VALUE=DATE:20250429
DTEND;VALUE=DATE:20250623
DTSTAMP:20260426T010313
CREATED:20250428T060859Z
LAST-MODIFIED:20250428T060859Z
UID:10008284-1745884800-1750636799@www.indianlink.com.au
SUMMARY:Pakiboy² by Jiva Parthipan
DESCRIPTION:  \nPakiboy²’\, a provocative and deeply personal multi-channel film installation by artist\nJiva Parthipan\, will premiere on Saturday 29 March at Campbelltown Arts Centre. This unique work revisits and reimagines Parthipan’s seminal dance piece\, first performed in London in 2000\, confronting themes of identity\, race\, ageing\, and desire through the lens of the artist’s lived experience. \nThe installation pairs archival footage of the original ‘Pakiboy’ (2000) performance with a newly filmed ‘Pakiboy²’ (2025) placing the artist in dialogue with his younger self\, creating a poignant and visually compelling exploration of his 50-year-old body\, one that has not danced in over 20 years and is now diagnosed with a degenerative neurological condition\, Parkinson’s Disease. \nThe project reflects on the artist’s journey through time\, exploring the profound shifts in his body and identity over two decades. The journey of ‘Pakiboy²’ is one of resilience and creative reinvention. Born in Sri Lanka\, Jiva Parthipan’s practice has always been deeply rooted in the intersections of identity\, race\, sexuality\, and social justice. Over his decades-long career\, Parthipan has traversed mediums and continents\, working as a dancer\, filmmaker\, and interdisciplinary artist in London\, Sydney\, Paris\, South Africa\, Switzerland and Dublin. \nExhibition Launch: Saturday 29 March 2025 5:00pm – 7:00pm \nArtist Talk: Saturday 29 March 4:00pm – 5:00pm with Jiva Parthipan\, Zanny Begg and Martin del Amo \nExhibition Dates: 29 March – 22 June 2025 \nFIND OUT MORE HERE: Jiva Parthipan: Pakiboy² A collaboration with Zanny Begg | Campbelltown Arts Centre
URL:https://www.indianlink.com.au/whats-on/pakiboy%c2%b2-by-jiva-parthipan/
LOCATION:Campbelltown Arts Centre\, 1 Art Gallery Rd\, Campbelltown\, Sydney\, New South Wales\, 2560\, Australia
ATTACH;FMTTYPE=image/png:https://p9dzm74w.tinifycdn.com/wp-content/uploads/2025/04/PAKIBOY.png
GEO:-34.07271;150.8089672
X-APPLE-STRUCTURED-LOCATION;VALUE=URI;X-ADDRESS=Campbelltown Arts Centre 1 Art Gallery Rd Campbelltown Sydney New South Wales 2560 Australia;X-APPLE-RADIUS=500;X-TITLE=1 Art Gallery Rd\, Campbelltown:geo:150.8089672,-34.07271
END:VEVENT
BEGIN:VEVENT
DTSTART;TZID=Australia/Sydney:20250606T093000
DTEND;TZID=Australia/Sydney:20250606T153000
DTSTAMP:20260426T010313
CREATED:20250520T071508Z
LAST-MODIFIED:20250520T071508Z
UID:10008313-1749202200-1749223800@www.indianlink.com.au
SUMMARY:Culture vs Consent
DESCRIPTION:  \nOur full day training explores the intersection of consent and cultural practices\, examining how cultural norms\, traditions\, and beliefs influence understanding and communication around consent. \n\nThe training is intended to assist frontline workers supporting CALD clients experiencing DFSV.\nIt equips professionals with the skills and knowledge to navigate consent-related discussions with cultural sensitivity and awareness.\nWe’ll understand and navigate consent within diverse cultural contexts using a culturally sensitive approach.\n\nJoin us for an engaging discussion on the intersection of culture and consent and be a part of a thought-provoking session. \nSee you there! \nGET TICKETS HERE: Culture vs Consent Tickets\, Fri 06/06/2025 at 9:30 am | Eventbrite
URL:https://www.indianlink.com.au/whats-on/culture-vs-consent/
LOCATION:PHIVE\, 5 Parramatta Square\, Parramatta Square 5\, Parramatta\, NSW\, 2150\, Australia
ATTACH;FMTTYPE=image/jpeg:https://p9dzm74w.tinifycdn.com/wp-content/uploads/2025/05/cULTURE.jpg
GEO:-33.8156117;151.0042195
X-APPLE-STRUCTURED-LOCATION;VALUE=URI;X-ADDRESS=PHIVE 5 Parramatta Square Parramatta Square 5 Parramatta NSW 2150 Australia;X-APPLE-RADIUS=500;X-TITLE=Parramatta Square 5:geo:151.0042195,-33.8156117
END:VEVENT
BEGIN:VEVENT
DTSTART;TZID=Australia/Sydney:20250606T180000
DTEND;TZID=Australia/Sydney:20250606T193000
DTSTAMP:20260426T010313
CREATED:20250603T042420Z
LAST-MODIFIED:20250603T042420Z
UID:10008337-1749232800-1749238200@www.indianlink.com.au
SUMMARY:Gulabi Gang - Sydney Film Festival
DESCRIPTION:  \n\nThis award-winning doc follows a vigilante collective of women in rural Uttar Pradesh who\, dressed in pink saris\, fight against both the casual and extreme violence women face.\n\n\n\nUnflinching\, Nishtha Jain trains her camera on urgent scenes. When a local woman is set on fire\, the villagers offer only excuses. Sampat Pal Devi – the righteously fierce founder and leader of the 270\,000-strong Gulabi Gang – investigates what really happened. Here\, audiences follow as Jain’s camera becomes a witness\, collecting evidence that Pal is able to use against the perpetrators. If Jain’s work can be understood as an attempt to both deploy and problematise the camera’s gaze\, then Gulabi Gang is the most scorching and vital incarnation of that mission. At the 61st edition of India’s prestigious National Film Awards\, it took out Best Film on Social Issues as well as Best Non-Feature Film Editing. \nLimited seats are available for patrons requiring access for wheelchairs\, low vision and hearing loop. Please contact our ticketing team directly on 1300 733 733 or tickets@sff.org.au to complete your booking. \n\n\n\n\n\n\n\n“I doubt you will see a more important film this year. Gulabi Gang is an ideology\, a searing exercise in awareness\, which is why you must make this your mandatory watch”\nRahul Desai\, Mumbai Mirror\n\n\n\n\n\n\n\n\n\n\nGet tickets here: Gulabi Gang – Sydney Film Festival
URL:https://www.indianlink.com.au/whats-on/gulabi-gang-sydney-film-festival/
LOCATION:Event Cinemas George Street\, 505/525 George St\, Sydney\, NSW\, 2000\, Australia
ATTACH;FMTTYPE=image/png:https://p9dzm74w.tinifycdn.com/wp-content/uploads/2025/06/Gulabi-gang.png
GEO:-33.8751239;151.2060487
X-APPLE-STRUCTURED-LOCATION;VALUE=URI;X-ADDRESS=Event Cinemas George Street 505/525 George St Sydney NSW 2000 Australia;X-APPLE-RADIUS=500;X-TITLE=505/525 George St:geo:151.2060487,-33.8751239
END:VEVENT
BEGIN:VEVENT
DTSTART;TZID=Australia/Sydney:20250606T193000
DTEND;TZID=Australia/Sydney:20250606T213000
DTSTAMP:20260426T010313
CREATED:20250526T063131Z
LAST-MODIFIED:20250526T063131Z
UID:10008326-1749238200-1749245400@www.indianlink.com.au
SUMMARY:Gurleen Pannu – A Solo Stand-Up Comedy Show Live In Sydney
DESCRIPTION:  \nGurleen Live’ is a stand-up comedy show\, which will be your one-way ticket into the Pannu-Verse.  \nHer friendly attitude\, observational humour\, and personal anecdotes will get you in a fit of breathless laughter. Life is full of stories\, and Pannu picks the best\, presenting them in a manner which reeks of humor and hilarity. \nBeing the centre of attention was always her favourite hobby\, and her stories bloom from analysing and observing her surroundings. \nOne may never know\, kya pata agla anecdote aapke baare main ho? \nGET TICKETS HERE:Gurleen Pannu – A Solo Stand-Up Comedy Show Live In Sydney – DryTickets.com.au
URL:https://www.indianlink.com.au/whats-on/gurleen-pannu-a-solo-stand-up-comedy-show-live-in-sydney/
LOCATION:The Concourse Lounge\, Victoria Avenue\, Chatswood\, NSW\, 2067\, Australia
ATTACH;FMTTYPE=image/jpeg:https://p9dzm74w.tinifycdn.com/wp-content/uploads/2025/05/1460-gurleen-pannu-a-solo-stand-up-comedy-show-live-in-sydney-1744618525.jpg
GEO:-33.7958721;151.1840871
X-APPLE-STRUCTURED-LOCATION;VALUE=URI;X-ADDRESS=The Concourse Lounge Victoria Avenue Chatswood NSW 2067 Australia;X-APPLE-RADIUS=500;X-TITLE=Victoria Avenue:geo:151.1840871,-33.7958721
END:VEVENT
END:VCALENDAR