BEGIN:VCALENDAR
VERSION:2.0
PRODID:-//Indian Link - ECPv6.15.20//NONSGML v1.0//EN
CALSCALE:GREGORIAN
METHOD:PUBLISH
X-WR-CALNAME:Indian Link
X-ORIGINAL-URL:https://www.indianlink.com.au
X-WR-CALDESC:Events for Indian Link
REFRESH-INTERVAL;VALUE=DURATION:PT1H
X-Robots-Tag:noindex
X-PUBLISHED-TTL:PT1H
BEGIN:VTIMEZONE
TZID:Australia/Sydney
BEGIN:STANDARD
TZOFFSETFROM:+1100
TZOFFSETTO:+1000
TZNAME:AEST
DTSTART:20240406T160000
END:STANDARD
BEGIN:DAYLIGHT
TZOFFSETFROM:+1000
TZOFFSETTO:+1100
TZNAME:AEDT
DTSTART:20241005T160000
END:DAYLIGHT
BEGIN:STANDARD
TZOFFSETFROM:+1100
TZOFFSETTO:+1000
TZNAME:AEST
DTSTART:20250405T160000
END:STANDARD
BEGIN:DAYLIGHT
TZOFFSETFROM:+1000
TZOFFSETTO:+1100
TZNAME:AEDT
DTSTART:20251004T160000
END:DAYLIGHT
BEGIN:STANDARD
TZOFFSETFROM:+1100
TZOFFSETTO:+1000
TZNAME:AEST
DTSTART:20260404T160000
END:STANDARD
BEGIN:DAYLIGHT
TZOFFSETFROM:+1000
TZOFFSETTO:+1100
TZNAME:AEDT
DTSTART:20261003T160000
END:DAYLIGHT
END:VTIMEZONE
BEGIN:VEVENT
DTSTART;VALUE=DATE:20250228
DTEND;VALUE=DATE:20251124
DTSTAMP:20260426T133751
CREATED:20251027T071608Z
LAST-MODIFIED:20251027T071608Z
UID:10008685-1740700800-1763942399@www.indianlink.com.au
SUMMARY:Touching the Divine - Love and Devotion in Asian Art
DESCRIPTION:  \nTouching the Divine: Love and Devotion in Asian Art explores aspects of love and devotion expressed through art created in sacred contexts across Asia. \nFeaturing works of art from the AGSA collection this exhibition presents the divine and worldly aspects of devotion expressed through a wide diversity of media created in the context of Buddhism\, Hinduism\, and Islam. \nGET TICKETS HERE: https://ozasia.adelaidefestivalcentre.com.au/whats-on/touching-the-divine
URL:https://www.indianlink.com.au/whats-on/touching-the-divine-love-and-devotion-in-asian-art/
LOCATION:Art Gallery of South Australia\, North Terrace\, Adelaide\, South Australia\, 5000\, Australia
ATTACH;FMTTYPE=image/jpeg:https://p9dzm74w.tinifycdn.com/wp-content/uploads/2025/10/Love-and-Devotion.jpg
GEO:-34.9211946;138.6053204
X-APPLE-STRUCTURED-LOCATION;VALUE=URI;X-ADDRESS=Art Gallery of South Australia North Terrace Adelaide South Australia 5000 Australia;X-APPLE-RADIUS=500;X-TITLE=North Terrace:geo:138.6053204,-34.9211946
END:VEVENT
BEGIN:VEVENT
DTSTART;TZID=Australia/Sydney:20250426T000000
DTEND;TZID=Australia/Sydney:20250427T235900
DTSTAMP:20260426T133751
CREATED:20241014T070513Z
LAST-MODIFIED:20250402T002740Z
UID:10002200-1745625600-1745798340@www.indianlink.com.au
SUMMARY:AKHIL AUSTRALIA MARATHI SAMMELAN -2025
DESCRIPTION:  \nThe rich culture\, arts and drama of the Maharashtrian community are celebrated and enjoyed in an All Australia Marathi convention every three years. Akhil Australia Marathi Sammelan 2025 will take place in Sydney from 25th to 27th April. Their mission is to sustain\, nurture and promote Marathi culture and its heritage within the migrant community and pass this legacy to the future generations enabling them to maintain their root connections with Marathi language\, history\, art and cuisine. \nGET TICKETS HERE: Ticket Booking – AKHIL AUSTRALIA MARATHI SAMMELAN (aams2025.org.au)
URL:https://www.indianlink.com.au/whats-on/akhil-australia-marathi-sammelan-2025-2/
LOCATION:Penrith Valley Regional Sports Centre\, Herbert St\, Cambridge Park\, Herbert St\, Cambridge Park\, Sydney\, NSW\, 2750\, Australia
CATEGORIES:Community,Happening in Sydney
ATTACH;FMTTYPE=image/jpeg:https://p9dzm74w.tinifycdn.com/wp-content/uploads/2024/10/AAMS-25-to-27-April-2025-e1743553636235.jpeg
GEO:-33.7539445;150.7330188
X-APPLE-STRUCTURED-LOCATION;VALUE=URI;X-ADDRESS=Penrith Valley Regional Sports Centre Herbert St Cambridge Park Herbert St Cambridge Park Sydney NSW 2750 Australia;X-APPLE-RADIUS=500;X-TITLE=Herbert St\, Cambridge Park:geo:150.7330188,-33.7539445
END:VEVENT
BEGIN:VEVENT
DTSTART;TZID=Australia/Sydney:20250427T173000
DTEND;TZID=Australia/Sydney:20250427T183000
DTSTAMP:20260426T133751
CREATED:20250402T145304Z
LAST-MODIFIED:20250402T145304Z
UID:10006243-1745775000-1745778600@www.indianlink.com.au
SUMMARY:
DESCRIPTION:  \n  \nThe great Australia takeover. \nCrikey mate\, looks like the kangaroos have some competition Down Under as they anxiously await a flavourful makeover. \nRAW Comedy SA Winner/National Runner-up\, Delhi Buoy\, is set to bring his hilarious show as he plans the great Australian takeover using a strategy he is calling – the 7-Eleven Attack!
URL:https://www.indianlink.com.au/whats-on/176802/2025-04-27/
LOCATION:Brewmanity\, 50 Tope Street\, South Melbourne\, Melbourne\, VIC\, 3205\, Australia
CATEGORIES:Comedy
ATTACH;FMTTYPE=image/jpeg:https://p9dzm74w.tinifycdn.com/wp-content/uploads/2025/04/carouselcrop-hero-6.jpg
ORGANIZER;CN="Melbourne International Comedy Festival":MAILTO:customerservice@comedyfestival.com.au
GEO:-37.8305483;144.9629367
X-APPLE-STRUCTURED-LOCATION;VALUE=URI;X-ADDRESS=Brewmanity 50 Tope Street South Melbourne Melbourne VIC 3205 Australia;X-APPLE-RADIUS=500;X-TITLE=50 Tope Street\, South Melbourne:geo:144.9629367,-37.8305483
END:VEVENT
BEGIN:VEVENT
DTSTART;TZID=Australia/Sydney:20250427T183000
DTEND;TZID=Australia/Sydney:20250427T213000
DTSTAMP:20260426T133751
CREATED:20250331T015702Z
LAST-MODIFIED:20250401T233615Z
UID:10003084-1745778600-1745789400@www.indianlink.com.au
SUMMARY:Nish Kumar in Nish\, Don’t Kill My Vibe - Perth
DESCRIPTION:  \nFollowing a UK election – with the country in turmoil – there’s only one comedian who can kill the mood even further… \nNish Kumar – one of The Guardian and The Telegraph’s 50 Best Comedians of the 21st Century – brings his brand new politically-charged stand-up show\, Nish\, Don’t Kill My Vibe\, to Australia and New Zealand following a sell-out UK tour. \nExpect jokes about climate collapse\, income inequality and the emotional sensation of being a British Indian man who didn’t vote for a British Indian Prime Minister.  Sweet\, sweet vibe killing. \nAs seen and heard on The Mash Report\, Taskmaster\, Pod Save the UK\, Live at the Apollo\, Hold the Front Page and your favourite tabloid newspaper. \nGET TICKETS HERE: Nish Kumar In Nish\, Don’t Kill My Vibe
URL:https://www.indianlink.com.au/whats-on/nish-kumar-in-nish-dont-kill-my-vibe-3/
LOCATION:The Rechabite\, 22 William St\, Northbridge\, Perth\, WA\, Australia
CATEGORIES:Comedy,Happening in Perth
ATTACH;FMTTYPE=image/png:https://p9dzm74w.tinifycdn.com/wp-content/uploads/2025/03/Nish-K-1.png
GEO:-31.9534408;115.8573322
X-APPLE-STRUCTURED-LOCATION;VALUE=URI;X-ADDRESS=The Rechabite 22 William St Northbridge Perth WA Australia;X-APPLE-RADIUS=500;X-TITLE=22 William St\, Northbridge:geo:115.8573322,-31.9534408
END:VEVENT
BEGIN:VEVENT
DTSTART;TZID=Australia/Sydney:20250427T193000
DTEND;TZID=Australia/Sydney:20250427T210000
DTSTAMP:20260426T133751
CREATED:20250210T021246Z
LAST-MODIFIED:20250401T235948Z
UID:10002523-1745782200-1745787600@www.indianlink.com.au
SUMMARY:An Evening with Jameela Jamil - Brisbane
DESCRIPTION:  \nJameela Jamil is bringing her unique perspective and fearless activism to Australia for a one-of-a-kind tour. Fans can expect an evening filled with candid\, bold\, and rebellious conversations as Jameela dives into the topics that shape modern life. Known for her humor\, passion\, and honesty\, Jameela will discuss everything from fame and success to love\, kindness\, and the power of being authentic. \nAs a passionate advocate for mental health and social justice\, Jameela will also share insights from her work with I Weigh\, the movement she founded in 2018\, which covers issues such as mental health\, climate justice\, and representation for marginalized communities. Reintroduced as Move For Your Mind\, the initiative aims to challenge toxic fitness culture and promote well-being with a focus on equity. This tour offers a rare chance to engage in spirited discussions with one of the most compelling voices of our time. \nDon’t miss out on the opportunity to hear Jameela’s bold thoughts on how we can change the world for the better. \nGET TICKETS HERE: Jameela Jamil – QTIX – Creative Ticketing
URL:https://www.indianlink.com.au/whats-on/an-evening-with-jameela-jamil/
LOCATION:Concert Hall\, QPAC\, Corner of Melbourne St and Grey St\, South Brisbane\, Brisbane\, QLD\, 4101\, Australia
CATEGORIES:Happening in Brisbane
ATTACH;FMTTYPE=image/png:https://p9dzm74w.tinifycdn.com/wp-content/uploads/2025/02/Jameela-Jamil.png
GEO:-27.4739518;153.0183984
X-APPLE-STRUCTURED-LOCATION;VALUE=URI;X-ADDRESS=Concert Hall QPAC Corner of Melbourne St and Grey St South Brisbane Brisbane QLD 4101 Australia;X-APPLE-RADIUS=500;X-TITLE=Corner of Melbourne St and Grey St\, South Brisbane:geo:153.0183984,-27.4739518
END:VEVENT
END:VCALENDAR