BEGIN:VCALENDAR
VERSION:2.0
PRODID:-//Indian Link - ECPv6.15.20//NONSGML v1.0//EN
CALSCALE:GREGORIAN
METHOD:PUBLISH
X-WR-CALNAME:Indian Link
X-ORIGINAL-URL:https://www.indianlink.com.au
X-WR-CALDESC:Events for Indian Link
REFRESH-INTERVAL;VALUE=DURATION:PT1H
X-Robots-Tag:noindex
X-PUBLISHED-TTL:PT1H
BEGIN:VTIMEZONE
TZID:Australia/Sydney
BEGIN:STANDARD
TZOFFSETFROM:+1100
TZOFFSETTO:+1000
TZNAME:AEST
DTSTART:20240406T160000
END:STANDARD
BEGIN:DAYLIGHT
TZOFFSETFROM:+1000
TZOFFSETTO:+1100
TZNAME:AEDT
DTSTART:20241005T160000
END:DAYLIGHT
BEGIN:STANDARD
TZOFFSETFROM:+1100
TZOFFSETTO:+1000
TZNAME:AEST
DTSTART:20250405T160000
END:STANDARD
BEGIN:DAYLIGHT
TZOFFSETFROM:+1000
TZOFFSETTO:+1100
TZNAME:AEDT
DTSTART:20251004T160000
END:DAYLIGHT
BEGIN:STANDARD
TZOFFSETFROM:+1100
TZOFFSETTO:+1000
TZNAME:AEST
DTSTART:20260404T160000
END:STANDARD
BEGIN:DAYLIGHT
TZOFFSETFROM:+1000
TZOFFSETTO:+1100
TZNAME:AEDT
DTSTART:20261003T160000
END:DAYLIGHT
END:VTIMEZONE
BEGIN:VEVENT
DTSTART;VALUE=DATE:20250218
DTEND;VALUE=DATE:20250414
DTSTAMP:20260426T134415
CREATED:20250217T114514Z
LAST-MODIFIED:20250228T122008Z
UID:10002528-1739836800-1744588799@www.indianlink.com.au
SUMMARY:Rithika Merchant - Triennial (QAGOMA)
DESCRIPTION:  \nSeventy artists\, collectives and projects from more than 30 countries feature in the eleventh chapter of the flagship Queensland Art Gallery | Gallery of Modern Art (QAGOMA) exhibition series\, the Asia Pacific Triennial of Contemporary Art. \nRithika Merchant:  \nMeet Triennial artist Rithika Merchant. \nFrom Mumbai\, India\, Merchant crafts vivid worlds where mythology\, science\, and speculative fiction intertwine. Her work brims with creatures and symbols that form her personal visual vocabulary. \nFor the Triennial\, her latest series\, ‘Terraformation’ 2022–23\, envisions beings venturing beyond Earth\, reshaping new planets into habitable realms. The fantasy softly veils the reality of our own threatened world\, where the eventual need to seek survival elsewhere in the universe seems as impossible as living harmoniously together in our present. \nShe has us wondering… in imagining far-off possibilities\, perhaps we can reimagine our own world\, here in the present? \nStep into Merchant’s otherworldly watercolours at QAG\, and let your imagination take flight. \nP.S. 🚀 Little dreamers can help shape new worlds in ‘If the Seeds Chose Where to Grow’ 2024\, an enchanting interactive at GOMA’s Children’s Art Centre. \nThe Triennial is free entry. \nFIND OUT MORE HERE: Queensland Art Gallery | Gallery of Modern Art
URL:https://www.indianlink.com.au/whats-on/rithika-merchant-triennial-qagoma/
LOCATION:Queensland Art Gallery\, Stanley Pl\, South Brisbane\, Brisbane\, QLD\, 4101\, Australia
ATTACH;FMTTYPE=image/png:https://p9dzm74w.tinifycdn.com/wp-content/uploads/2025/02/rITHIKA-MERCHANT.png
GEO:-27.4713307;153.0169509
X-APPLE-STRUCTURED-LOCATION;VALUE=URI;X-ADDRESS=Queensland Art Gallery Stanley Pl South Brisbane Brisbane QLD 4101 Australia;X-APPLE-RADIUS=500;X-TITLE=Stanley Pl\, South Brisbane:geo:153.0169509,-27.4713307
END:VEVENT
BEGIN:VEVENT
DTSTART;VALUE=DATE:20250228
DTEND;VALUE=DATE:20251124
DTSTAMP:20260426T134415
CREATED:20251027T071608Z
LAST-MODIFIED:20251027T071608Z
UID:10008685-1740700800-1763942399@www.indianlink.com.au
SUMMARY:Touching the Divine - Love and Devotion in Asian Art
DESCRIPTION:  \nTouching the Divine: Love and Devotion in Asian Art explores aspects of love and devotion expressed through art created in sacred contexts across Asia. \nFeaturing works of art from the AGSA collection this exhibition presents the divine and worldly aspects of devotion expressed through a wide diversity of media created in the context of Buddhism\, Hinduism\, and Islam. \nGET TICKETS HERE: https://ozasia.adelaidefestivalcentre.com.au/whats-on/touching-the-divine
URL:https://www.indianlink.com.au/whats-on/touching-the-divine-love-and-devotion-in-asian-art/
LOCATION:Art Gallery of South Australia\, North Terrace\, Adelaide\, South Australia\, 5000\, Australia
ATTACH;FMTTYPE=image/jpeg:https://p9dzm74w.tinifycdn.com/wp-content/uploads/2025/10/Love-and-Devotion.jpg
GEO:-34.9211946;138.6053204
X-APPLE-STRUCTURED-LOCATION;VALUE=URI;X-ADDRESS=Art Gallery of South Australia North Terrace Adelaide South Australia 5000 Australia;X-APPLE-RADIUS=500;X-TITLE=North Terrace:geo:138.6053204,-34.9211946
END:VEVENT
BEGIN:VEVENT
DTSTART;TZID=Australia/Sydney:20250404T080000
DTEND;TZID=Australia/Sydney:20250418T170000
DTSTAMP:20260426T134415
CREATED:20250402T052959Z
LAST-MODIFIED:20250402T054918Z
UID:10003144-1743753600-1744995600@www.indianlink.com.au
SUMMARY:Aaqib Merchant & Kashyap Swaroop at Melb Int'l Comedy Festival
DESCRIPTION:  \nTWO PALATE CLENCHERS \nAaqib Merchant (RAW Comedy Grand Finalist 2024) and Kashyap Swaroop (Comedy Central India) love uncomfortable silences that lead to unexpected releases of laughter – no matter how pregnant a pause\, they always deliver! \nThe young practitioners of the dark (comedic) arts have under their belts a combined 16 years of experience in joke-telling – from petty politics to prostrate exams and romance to racism\, these two caped crusaders of irreverent comedy bring their tightest stories\, one-liners and sketches to Melbourne in their second outing together after a sold out series of shows in 2024. \nSEE THEM AT MULTIPLE EVENTS AT : The Collection Bar\, Speakeasy Theatre\, The Vault Theatre  or at Brewmanity
URL:https://www.indianlink.com.au/whats-on/aaqib-merchant-kashyap-swaroop-at-micf/
LOCATION:the collection bar
ATTACH;FMTTYPE=image/jpeg:https://p9dzm74w.tinifycdn.com/wp-content/uploads/2025/04/Aaqib-and-Kashyap2.jpg
END:VEVENT
BEGIN:VEVENT
DTSTART;TZID=Australia/Sydney:20250406T100000
DTEND;TZID=Australia/Sydney:20250406T210000
DTSTAMP:20260426T134415
CREATED:20250325T232543Z
LAST-MODIFIED:20250325T232543Z
UID:10003063-1743933600-1743973200@www.indianlink.com.au
SUMMARY:Multicultural Eid festival and fair (AMANAH-MEFF)
DESCRIPTION:The Multicultural Eid Festival and Fair (AMANAH-MEFF) returns on Sunday\, April 6\, bringing a full day of celebration\, culture\, and family fun at Fairfield Showground\, Prairiewood (10 AM – 9 PM). \nEnjoy free entry and parking\, plus exciting activities like camel rides\, rock climbing\, arts & crafts\, Palestinian rock painting\, and special senior activities. Kids can meet their favorite characters\, and thrill-seekers can grab half-price ride coupons (10 AM – 12:30 PM). \nThe day ends with a spectacular fireworks display at 7:30 PM!
URL:https://www.indianlink.com.au/whats-on/multicultural-eid-festival-and-fair-amanah-meff/
LOCATION:Fairfield Showground\, 443 Smithfield Road\, Prairiewood\, Sydney\, NSW\, 2176\, Australia
CATEGORIES:Happening in Sydney
ATTACH;FMTTYPE=image/png:https://p9dzm74w.tinifycdn.com/wp-content/uploads/2025/03/amanah-meff-event-e1742945015392.png
GEO:-33.8683455;150.9070182
X-APPLE-STRUCTURED-LOCATION;VALUE=URI;X-ADDRESS=Fairfield Showground 443 Smithfield Road Prairiewood Sydney NSW 2176 Australia;X-APPLE-RADIUS=500;X-TITLE=443 Smithfield Road\, Prairiewood:geo:150.9070182,-33.8683455
END:VEVENT
BEGIN:VEVENT
DTSTART;TZID=Australia/Sydney:20250406T100000
DTEND;TZID=Australia/Sydney:20250406T220000
DTSTAMP:20260426T134415
CREATED:20250331T011439Z
LAST-MODIFIED:20250331T011439Z
UID:10003069-1743933600-1743976800@www.indianlink.com.au
SUMMARY:Nepal Festival 2025 - Brisbane
DESCRIPTION:  \nWe are excited to announce that Nepal Festival 2025 will be held at King George Square\, Brisbane\, on 6 April 2025\, from 10am to 10pm. \nThis vibrant and family-friendly cultural event is proudly organized by NRNA Queensland and aims to celebrate the rich traditions\, diverse heritage\, and cultural unity of Nepal. The festival will feature a variety of cultural performances\, traditional music and dance\, food stalls\, handicrafts\, and more\, showcasing the beauty and uniqueness of Nepalese culture to the wider community. \nWe warmly invite everyone to join us in this grand celebration and experience the colours\, flavours\, and spirit of Nepal in the heart of Brisbane! \nFIND OUT MORE HERE: Nepal Festival | Brisbane City Council
URL:https://www.indianlink.com.au/whats-on/nepal-festival-2025-brisbane/
LOCATION:King George Square\, 87C Roma St\, Brisbane City\, QLD\, 4000\, Australia
ATTACH;FMTTYPE=image/png:https://p9dzm74w.tinifycdn.com/wp-content/uploads/2025/03/Nepal-Festival.png
GEO:-27.4679861;153.0232175
X-APPLE-STRUCTURED-LOCATION;VALUE=URI;X-ADDRESS=King George Square 87C Roma St Brisbane City QLD 4000 Australia;X-APPLE-RADIUS=500;X-TITLE=87C Roma St:geo:153.0232175,-27.4679861
END:VEVENT
BEGIN:VEVENT
DTSTART;TZID=Australia/Sydney:20250406T130000
DTEND;TZID=Australia/Sydney:20250406T150000
DTSTAMP:20260426T134415
CREATED:20250402T000830Z
LAST-MODIFIED:20250402T000830Z
UID:10003142-1743944400-1743951600@www.indianlink.com.au
SUMMARY:Harman Singh's Mind Programming Session - Melbourne
DESCRIPTION:Harman Singh\, a well-known hypnotist and mind healer\, will be leading a Mind Programming Session in Melbourne on Sunday\, 6 April 2025. The event will take place at Altona City Theatre and explores techniques in hypnosis\, NLP\, and mindfulness to help participants gain better control over thought patterns and behaviours. \n 
URL:https://www.indianlink.com.au/whats-on/harman-singhs-mind-programming-session-melbourne/
LOCATION:Altona City Theatre\, 115 Civic Parade\, Altona\, VIC\, 3018\, Australia
CATEGORIES:Happening in Melbourne
ATTACH;FMTTYPE=image/jpeg:https://p9dzm74w.tinifycdn.com/wp-content/uploads/2025/04/Harman-Singh-Mind-Programming-e1743552444802.jpeg
GEO:-37.863727;144.8310159
X-APPLE-STRUCTURED-LOCATION;VALUE=URI;X-ADDRESS=Altona City Theatre 115 Civic Parade Altona VIC 3018 Australia;X-APPLE-RADIUS=500;X-TITLE=115 Civic Parade:geo:144.8310159,-37.863727
END:VEVENT
BEGIN:VEVENT
DTSTART;TZID=Australia/Sydney:20250406T173000
DTEND;TZID=Australia/Sydney:20250406T183000
DTSTAMP:20260426T134415
CREATED:20250402T145304Z
LAST-MODIFIED:20250402T145304Z
UID:10006234-1743960600-1743964200@www.indianlink.com.au
SUMMARY:
DESCRIPTION:  \n  \nThe great Australia takeover. \nCrikey mate\, looks like the kangaroos have some competition Down Under as they anxiously await a flavourful makeover. \nRAW Comedy SA Winner/National Runner-up\, Delhi Buoy\, is set to bring his hilarious show as he plans the great Australian takeover using a strategy he is calling – the 7-Eleven Attack!
URL:https://www.indianlink.com.au/whats-on/176802/2025-04-06/
LOCATION:Brewmanity\, 50 Tope Street\, South Melbourne\, Melbourne\, VIC\, 3205\, Australia
CATEGORIES:Comedy
ATTACH;FMTTYPE=image/jpeg:https://p9dzm74w.tinifycdn.com/wp-content/uploads/2025/04/carouselcrop-hero-6.jpg
ORGANIZER;CN="Melbourne International Comedy Festival":MAILTO:customerservice@comedyfestival.com.au
GEO:-37.8305483;144.9629367
X-APPLE-STRUCTURED-LOCATION;VALUE=URI;X-ADDRESS=Brewmanity 50 Tope Street South Melbourne Melbourne VIC 3205 Australia;X-APPLE-RADIUS=500;X-TITLE=50 Tope Street\, South Melbourne:geo:144.9629367,-37.8305483
END:VEVENT
END:VCALENDAR