BEGIN:VCALENDAR
VERSION:2.0
PRODID:-//Indian Link - ECPv6.15.20//NONSGML v1.0//EN
CALSCALE:GREGORIAN
METHOD:PUBLISH
X-WR-CALNAME:Indian Link
X-ORIGINAL-URL:https://www.indianlink.com.au
X-WR-CALDESC:Events for Indian Link
REFRESH-INTERVAL;VALUE=DURATION:PT1H
X-Robots-Tag:noindex
X-PUBLISHED-TTL:PT1H
BEGIN:VTIMEZONE
TZID:Australia/Sydney
BEGIN:STANDARD
TZOFFSETFROM:+1100
TZOFFSETTO:+1000
TZNAME:AEST
DTSTART:20240406T160000
END:STANDARD
BEGIN:DAYLIGHT
TZOFFSETFROM:+1000
TZOFFSETTO:+1100
TZNAME:AEDT
DTSTART:20241005T160000
END:DAYLIGHT
BEGIN:STANDARD
TZOFFSETFROM:+1100
TZOFFSETTO:+1000
TZNAME:AEST
DTSTART:20250405T160000
END:STANDARD
BEGIN:DAYLIGHT
TZOFFSETFROM:+1000
TZOFFSETTO:+1100
TZNAME:AEDT
DTSTART:20251004T160000
END:DAYLIGHT
BEGIN:STANDARD
TZOFFSETFROM:+1100
TZOFFSETTO:+1000
TZNAME:AEST
DTSTART:20260404T160000
END:STANDARD
BEGIN:DAYLIGHT
TZOFFSETFROM:+1000
TZOFFSETTO:+1100
TZNAME:AEDT
DTSTART:20261003T160000
END:DAYLIGHT
END:VTIMEZONE
BEGIN:VEVENT
DTSTART;TZID=Australia/Sydney:20250821T080000
DTEND;TZID=Australia/Sydney:20250821T170000
DTSTAMP:20260426T031914
CREATED:20250821T022123Z
LAST-MODIFIED:20250821T022123Z
UID:10008472-1755763200-1755795600@www.indianlink.com.au
SUMMARY:An Exploration of Sitar By Ravi - Sydney Fringe Festival
DESCRIPTION:Hear the sitar like never before. Every night is unique\, with live collaborations\, including surprise guest artists from the audience. Expect an interactive\, genre-defying experience that breaks all the rules.\nDo you want to hear local Aussie talent and discover new artists to follow?\nDo you like hearing creative covers of songs by artists like Taylor Swift\, Coldplay\, John Mayer\, One Direction\, Alicia Keys\, etc.?\nAre you an aspiring artist who has always wanted to collaborate with a sitarist in front of a small and encouraging crowd? \nIf your answer is yes to any of the above\, this may be the show for you! \nGet your tickets here: https://sydneyfringe.com/events/an-exploration-of-sitar-by-ravi/
URL:https://www.indianlink.com.au/whats-on/an-exploration-of-sitar-by-ravi-sydney-fringe-festival/2025-08-21/
LOCATION:Erskineville Town Hall\, Emerging Artist Share House\, Erskineville\, NSW\, 2043
ATTACH;FMTTYPE=image/png:https://p9dzm74w.tinifycdn.com/wp-content/uploads/2025/08/An-Exploration-of-Sitar-by-Ravi.png
GEO:-33.9023649;151.1854757
X-APPLE-STRUCTURED-LOCATION;VALUE=URI;X-ADDRESS=Erskineville Town Hall Emerging Artist Share House Erskineville NSW 2043;X-APPLE-RADIUS=500;X-TITLE=Emerging Artist Share House:geo:151.1854757,-33.9023649
END:VEVENT
END:VCALENDAR