BEGIN:VCALENDAR
VERSION:2.0
PRODID:-//Indian Link - ECPv6.15.20//NONSGML v1.0//EN
CALSCALE:GREGORIAN
METHOD:PUBLISH
X-ORIGINAL-URL:https://www.indianlink.com.au
X-WR-CALDESC:Events for Indian Link
REFRESH-INTERVAL;VALUE=DURATION:PT1H
X-Robots-Tag:noindex
X-PUBLISHED-TTL:PT1H
BEGIN:VTIMEZONE
TZID:Australia/Sydney
BEGIN:STANDARD
TZOFFSETFROM:+1100
TZOFFSETTO:+1000
TZNAME:AEST
DTSTART:20240406T160000
END:STANDARD
BEGIN:DAYLIGHT
TZOFFSETFROM:+1000
TZOFFSETTO:+1100
TZNAME:AEDT
DTSTART:20241005T160000
END:DAYLIGHT
BEGIN:STANDARD
TZOFFSETFROM:+1100
TZOFFSETTO:+1000
TZNAME:AEST
DTSTART:20250405T160000
END:STANDARD
BEGIN:DAYLIGHT
TZOFFSETFROM:+1000
TZOFFSETTO:+1100
TZNAME:AEDT
DTSTART:20251004T160000
END:DAYLIGHT
BEGIN:STANDARD
TZOFFSETFROM:+1100
TZOFFSETTO:+1000
TZNAME:AEST
DTSTART:20260404T160000
END:STANDARD
BEGIN:DAYLIGHT
TZOFFSETFROM:+1000
TZOFFSETTO:+1100
TZNAME:AEDT
DTSTART:20261003T160000
END:DAYLIGHT
END:VTIMEZONE
BEGIN:VEVENT
DTSTART;TZID=Australia/Sydney:20250720T190000
DTEND;TZID=Australia/Sydney:20250720T210000
DTSTAMP:20260423T160216
CREATED:20250718T061506Z
LAST-MODIFIED:20250718T061506Z
UID:10008399-1753038000-1753045200@www.indianlink.com.au
SUMMARY:Phasee Toh Hasee - Ankita Shrivastav Live in Adelaide 2025
DESCRIPTION:  \nAnkita Shrivastav is all set to light up Adelaide with her much-anticipated comedy special\, Phasee Toh Hasee – Live! Known for her sharp humor\, unfiltered punchlines\, and bold take on everyday life\, Ankita has built a massive fanbase with her quick wit and hilariously relatable stories. Get ready for an evening full of laughter on Sunday\, 20th July 2025 at 7:00 PM at Woodville Town Hall. \nThe Phasee Toh Hasee live stand-up show in Adelaide brings a refreshing perspective to relationships\, social quirks\, and personal mishaps — all wrapped in Ankita’s signature style of storytelling and satire. If you’re in search of a comedy night that promises nonstop entertainment and clever punchlines\, this is the event for you. With her vibrant stage presence and fearless delivery\, Ankita Shrivastav Live in Adelaide is sure to be a crowd favorite. Don’t miss your chance to catch one of India’s boldest comedic voices live on stage – come laugh\, relate\, and enjoy a night to remember! \nGET TICKETS HERE: Phasee Toh Hasee – Ankita Shrivastav Live in Adelaide 2025 – Premier Tickets
URL:https://www.indianlink.com.au/whats-on/phasee-toh-hasee-ankita-shrivastav-live-in-adelaide-2025/
LOCATION:Woodville Town Hall\, 76 Woodville Road\, #74\, Woodville South\, SA\, 5011\, Australia
ATTACH;FMTTYPE=image/jpeg:https://p9dzm74w.tinifycdn.com/wp-content/uploads/2025/07/Ankita-Shrivastav-1.jpg
GEO:-34.8783149;138.5377556
X-APPLE-STRUCTURED-LOCATION;VALUE=URI;X-ADDRESS=Woodville Town Hall 76 Woodville Road #74 Woodville South SA 5011 Australia;X-APPLE-RADIUS=500;X-TITLE=76 Woodville Road\, #74:geo:138.5377556,-34.8783149
END:VEVENT
END:VCALENDAR