BEGIN:VCALENDAR
VERSION:2.0
PRODID:-//Indian Link - ECPv6.15.20//NONSGML v1.0//EN
CALSCALE:GREGORIAN
METHOD:PUBLISH
X-WR-CALNAME:Indian Link
X-ORIGINAL-URL:https://www.indianlink.com.au
X-WR-CALDESC:Events for Indian Link
REFRESH-INTERVAL;VALUE=DURATION:PT1H
X-Robots-Tag:noindex
X-PUBLISHED-TTL:PT1H
BEGIN:VTIMEZONE
TZID:Australia/Sydney
BEGIN:STANDARD
TZOFFSETFROM:+1100
TZOFFSETTO:+1000
TZNAME:AEST
DTSTART:20240406T160000
END:STANDARD
BEGIN:DAYLIGHT
TZOFFSETFROM:+1000
TZOFFSETTO:+1100
TZNAME:AEDT
DTSTART:20241005T160000
END:DAYLIGHT
BEGIN:STANDARD
TZOFFSETFROM:+1100
TZOFFSETTO:+1000
TZNAME:AEST
DTSTART:20250405T160000
END:STANDARD
BEGIN:DAYLIGHT
TZOFFSETFROM:+1000
TZOFFSETTO:+1100
TZNAME:AEDT
DTSTART:20251004T160000
END:DAYLIGHT
BEGIN:STANDARD
TZOFFSETFROM:+1100
TZOFFSETTO:+1000
TZNAME:AEST
DTSTART:20260404T160000
END:STANDARD
BEGIN:DAYLIGHT
TZOFFSETFROM:+1000
TZOFFSETTO:+1100
TZNAME:AEDT
DTSTART:20261003T160000
END:DAYLIGHT
END:VTIMEZONE
BEGIN:VEVENT
DTSTART;TZID=Australia/Sydney:20250705T183000
DTEND;TZID=Australia/Sydney:20250705T203000
DTSTAMP:20260423T170250
CREATED:20250704T014919Z
LAST-MODIFIED:20250704T014919Z
UID:10008364-1751740200-1751747400@www.indianlink.com.au
SUMMARY:Raas Garba 2025 with Kairavi Buch Live in Perth
DESCRIPTION:  \nKairavi Buch is undoubtedly a shining star in Gujarat’s vibrant cultural scene\, particularly during the auspicious occasion of Navratri. As the queen of Garba\, her mesmerizing performances have become synonymous with the spirit and essence of this traditional festival. Her ability to blend traditional Gujarati classics with contemporary music not only keeps the tradition alive but also attracts younger generations to embrace their cultural roots. In essence\, Kairavi Buch is not just a singer; she is a cultural ambassador\, preserving traditions while also ushering them into the modern era. Her passion\, talent\, and dedication have truly made her the voice of traditional Garba and we are proud to bring the melodious singer to Perth. \nKairavi\, dubbed as the queen of garba enjoys a mass following. her Performances ate broadcasted live by colors TV and she performs at Various festivals across the world. Her ability to fuse old age gujarati ‘Classics With modern contemporary music is magical\, with the vision ‘Of Warming Up Young gujaratis to regional music. Kairavi has been performing for the indian diaspora in the US\, Australia\, New Zealand\, Canada & UK..Kairavi also runs a youtube channel titled ‘Folk Studio by Kairavi Buch’ which has turned into a mass sensation. \nGET TICKETS HERE: Raas Garba 2025 with Kairavi Buch Live in Perth – Premier Tickets
URL:https://www.indianlink.com.au/whats-on/raas-garba-2025-with-kairavi-buch-live-in-perth/
LOCATION:Willetton Stadium\, Ground Floor/58 Burrendah Blvd\, Willetton\, Perth\, WA\, 6155\, Australia
ATTACH;FMTTYPE=image/png:https://p9dzm74w.tinifycdn.com/wp-content/uploads/2025/07/Kairavi-Buch.png
GEO:-32.0551631;115.8801326
X-APPLE-STRUCTURED-LOCATION;VALUE=URI;X-ADDRESS=Willetton Stadium Ground Floor/58 Burrendah Blvd Willetton Perth WA 6155 Australia;X-APPLE-RADIUS=500;X-TITLE=Ground Floor/58 Burrendah Blvd\, Willetton:geo:115.8801326,-32.0551631
END:VEVENT
END:VCALENDAR