BEGIN:VCALENDAR
VERSION:2.0
PRODID:-//Indian Link - ECPv6.15.20//NONSGML v1.0//EN
CALSCALE:GREGORIAN
METHOD:PUBLISH
X-WR-CALNAME:Indian Link
X-ORIGINAL-URL:https://www.indianlink.com.au
X-WR-CALDESC:Events for Indian Link
REFRESH-INTERVAL;VALUE=DURATION:PT1H
X-Robots-Tag:noindex
X-PUBLISHED-TTL:PT1H
BEGIN:VTIMEZONE
TZID:Australia/Sydney
BEGIN:STANDARD
TZOFFSETFROM:+1100
TZOFFSETTO:+1000
TZNAME:AEST
DTSTART:20250405T160000
END:STANDARD
BEGIN:DAYLIGHT
TZOFFSETFROM:+1000
TZOFFSETTO:+1100
TZNAME:AEDT
DTSTART:20251004T160000
END:DAYLIGHT
BEGIN:STANDARD
TZOFFSETFROM:+1100
TZOFFSETTO:+1000
TZNAME:AEST
DTSTART:20260404T160000
END:STANDARD
BEGIN:DAYLIGHT
TZOFFSETFROM:+1000
TZOFFSETTO:+1100
TZNAME:AEDT
DTSTART:20261003T160000
END:DAYLIGHT
BEGIN:STANDARD
TZOFFSETFROM:+1100
TZOFFSETTO:+1000
TZNAME:AEST
DTSTART:20270403T160000
END:STANDARD
BEGIN:DAYLIGHT
TZOFFSETFROM:+1000
TZOFFSETTO:+1100
TZNAME:AEDT
DTSTART:20271002T160000
END:DAYLIGHT
END:VTIMEZONE
BEGIN:VEVENT
DTSTART;TZID=Australia/Sydney:20260303T110000
DTEND;TZID=Australia/Sydney:20260303T190000
DTSTAMP:20260423T111445
CREATED:20260220T000322Z
LAST-MODIFIED:20260220T000322Z
UID:10008846-1772535600-1772564400@www.indianlink.com.au
SUMMARY:Holi Hai!
DESCRIPTION:  \nFind your Rhythm Grounded in Tradition and Shared Energy. 🎶✨ \nFrom interactive drumming to henna art\, turban styling\, and traditional Powder Play\, there’s fun and excitement for everyone. Bring your friends and family and immerse yourself in the vibrant spirit of Holi! \n🎵 Holi Hai! Digital Experience \nStep into the rhythm of Holi with our digital dhol drumming experience! Play solo or challenge a friend\, keep the beat and have fun! 🥁💃 \n📅 Date & Time: Always On\n📍 Location: Innovation Plaza\, Village Green\, and Interchange Pavilion \n💫 Henna & Turban Tying \nEnjoy intricate henna designs and personalised turban styling from skilled cultural artisans. Express yourself and take home a beautiful piece of Holi tradition! 🌺🖌️ \n📅 Date & Time: Tuesday\, 3 March\, 11 AM – 2 PM\n📍 Location: Village Green\, near Yoho Loco \n🌈 Colour Throwing Festival \nCelebrate Holi in full colour! Join us for vibrant Powder Play\, we recommend wearing clothes you don’t mind ending up colourful!🎭🎉 \n📅 Date & Time: Tuesday\, 3 March\, 4 PM – 7 PM\n📍 Location: Innovation Plaza\, near BrewDog \nAll of our Holi Hai experiences are free\, first in best dressed. We look forward to hosting you! \nFIND MORE HERE: South Eveleigh
URL:https://www.indianlink.com.au/whats-on/holi-hai/
LOCATION:Village Green\, 21 Campbell Street\, Blacktown\, Sydney\, NSW\, 2148\, Australia
ATTACH;FMTTYPE=image/png:https://p9dzm74w.tinifycdn.com/wp-content/uploads/2026/02/Torrsha-Instagram-designs-Instagram-Post-45-8.png
GEO:-33.7716445;150.9088781
X-APPLE-STRUCTURED-LOCATION;VALUE=URI;X-ADDRESS=Village Green 21 Campbell Street Blacktown Sydney NSW 2148 Australia;X-APPLE-RADIUS=500;X-TITLE=21 Campbell Street\, Blacktown:geo:150.9088781,-33.7716445
END:VEVENT
BEGIN:VEVENT
DTSTART;TZID=Australia/Sydney:20260207T163000
DTEND;TZID=Australia/Sydney:20260207T190000
DTSTAMP:20260423T111445
CREATED:20260115T050435Z
LAST-MODIFIED:20260115T050435Z
UID:10008746-1770481800-1770490800@www.indianlink.com.au
SUMMARY:World Cancer Day 2026
DESCRIPTION:  \nJoin Pink Sari Inc and SGL Charitable Organisation Inc and share the excitement by participating in a simple choreographed group dance and hear from inspiring speakers. Please use the link below to watch the video and learn the dance moves. \nClick here to access dance \n‘Anybody Can Dance – All are Welcome’ \nEnquiries:\nAnoop 0416 299 693\nShantha 0422 082 608\nPari 0421 500 919 \nGET MORE INFO HERE: World Cancer Day 2026
URL:https://www.indianlink.com.au/whats-on/world-cancer-day-2026/
LOCATION:Village Green\, 21 Campbell Street\, Blacktown\, Sydney\, NSW\, 2148\, Australia
ATTACH;FMTTYPE=image/jpeg:https://p9dzm74w.tinifycdn.com/wp-content/uploads/2026/01/World-Cancer-Day.jpeg
GEO:-33.7716445;150.9088781
X-APPLE-STRUCTURED-LOCATION;VALUE=URI;X-ADDRESS=Village Green 21 Campbell Street Blacktown Sydney NSW 2148 Australia;X-APPLE-RADIUS=500;X-TITLE=21 Campbell Street\, Blacktown:geo:150.9088781,-33.7716445
END:VEVENT
END:VCALENDAR