BEGIN:VCALENDAR
VERSION:2.0
PRODID:-//Indian Link - ECPv6.15.20//NONSGML v1.0//EN
CALSCALE:GREGORIAN
METHOD:PUBLISH
X-WR-CALNAME:Indian Link
X-ORIGINAL-URL:https://www.indianlink.com.au
X-WR-CALDESC:Events for Indian Link
REFRESH-INTERVAL;VALUE=DURATION:PT1H
X-Robots-Tag:noindex
X-PUBLISHED-TTL:PT1H
BEGIN:VTIMEZONE
TZID:Australia/Sydney
BEGIN:STANDARD
TZOFFSETFROM:+1100
TZOFFSETTO:+1000
TZNAME:AEST
DTSTART:20240406T160000
END:STANDARD
BEGIN:DAYLIGHT
TZOFFSETFROM:+1000
TZOFFSETTO:+1100
TZNAME:AEDT
DTSTART:20241005T160000
END:DAYLIGHT
BEGIN:STANDARD
TZOFFSETFROM:+1100
TZOFFSETTO:+1000
TZNAME:AEST
DTSTART:20250405T160000
END:STANDARD
BEGIN:DAYLIGHT
TZOFFSETFROM:+1000
TZOFFSETTO:+1100
TZNAME:AEDT
DTSTART:20251004T160000
END:DAYLIGHT
BEGIN:STANDARD
TZOFFSETFROM:+1100
TZOFFSETTO:+1000
TZNAME:AEST
DTSTART:20260404T160000
END:STANDARD
BEGIN:DAYLIGHT
TZOFFSETFROM:+1000
TZOFFSETTO:+1100
TZNAME:AEDT
DTSTART:20261003T160000
END:DAYLIGHT
END:VTIMEZONE
BEGIN:VEVENT
DTSTART;TZID=Australia/Sydney:20250215T170000
DTEND;TZID=Australia/Sydney:20250215T203000
DTSTAMP:20260423T183115
CREATED:20250128T235556Z
LAST-MODIFIED:20250128T235556Z
UID:10002478-1739638800-1739651400@www.indianlink.com.au
SUMMARY:The Natyanjali Dance Festival
DESCRIPTION:  \nThe Natyanjali Dance Festival is a vibrant celebration of classical Indian dance where performers pay homage to Lord Shiva through mesmerizing performances.  \nWelcome to The Natyanjali Dance Festival!\nCome join us for a mesmerizing celebration of dance and culture at our annual event! Enjoy stunning performances by talented dancers showcasing the beauty and grace of Indian classical dance forms. \nImmerse yourself in the rhythmic movements\, colorful costumes\, and soulful expressions that will transport you to a world of artistic wonder. Whether you are a dance enthusiast or simply appreciate artistic performances\, this festival is sure to captivate your senses. \nDon’t miss this opportunity to witness a blend of tradition and creativity on stage. Join us for an evening filled with energy\, entertainment\, and inspiration. Let the magic of dance unfold before your eyes at The Natyanjali Dance Festival! \n  \nGET TICKETS HERE: The Natyanjali Dance Festival Tickets\, Sat 15/02/2025 at 5:00 pm | Eventbrite
URL:https://www.indianlink.com.au/whats-on/the-natyanjali-dance-festival/
LOCATION:Truganina Community Centre\, Everton Road\, Truganina\, VIC\, 3029\, Australia
ATTACH;FMTTYPE=image/png:https://p9dzm74w.tinifycdn.com/wp-content/uploads/2025/01/Dance-festival.png
GEO:-37.819138;144.7214689
X-APPLE-STRUCTURED-LOCATION;VALUE=URI;X-ADDRESS=Truganina Community Centre Everton Road Truganina VIC 3029 Australia;X-APPLE-RADIUS=500;X-TITLE=Everton Road:geo:144.7214689,-37.819138
END:VEVENT
END:VCALENDAR