BEGIN:VCALENDAR
VERSION:2.0
PRODID:-//Indian Link - ECPv6.15.20//NONSGML v1.0//EN
CALSCALE:GREGORIAN
METHOD:PUBLISH
X-WR-CALNAME:Indian Link
X-ORIGINAL-URL:https://www.indianlink.com.au
X-WR-CALDESC:Events for Indian Link
REFRESH-INTERVAL;VALUE=DURATION:PT1H
X-Robots-Tag:noindex
X-PUBLISHED-TTL:PT1H
BEGIN:VTIMEZONE
TZID:Australia/Sydney
BEGIN:STANDARD
TZOFFSETFROM:+1100
TZOFFSETTO:+1000
TZNAME:AEST
DTSTART:20230401T160000
END:STANDARD
BEGIN:DAYLIGHT
TZOFFSETFROM:+1000
TZOFFSETTO:+1100
TZNAME:AEDT
DTSTART:20230930T160000
END:DAYLIGHT
BEGIN:STANDARD
TZOFFSETFROM:+1100
TZOFFSETTO:+1000
TZNAME:AEST
DTSTART:20240406T160000
END:STANDARD
BEGIN:DAYLIGHT
TZOFFSETFROM:+1000
TZOFFSETTO:+1100
TZNAME:AEDT
DTSTART:20241005T160000
END:DAYLIGHT
BEGIN:STANDARD
TZOFFSETFROM:+1100
TZOFFSETTO:+1000
TZNAME:AEST
DTSTART:20250405T160000
END:STANDARD
BEGIN:DAYLIGHT
TZOFFSETFROM:+1000
TZOFFSETTO:+1100
TZNAME:AEDT
DTSTART:20251004T160000
END:DAYLIGHT
END:VTIMEZONE
BEGIN:VEVENT
DTSTART;TZID=Australia/Sydney:20241213T210000
DTEND;TZID=Australia/Sydney:20241213T233000
DTSTAMP:20260423T170252
CREATED:20241111T070440Z
LAST-MODIFIED:20241111T070440Z
UID:10002226-1734123600-1734132600@www.indianlink.com.au
SUMMARY:Nijjar Live In Melbourne 2024
DESCRIPTION:  \nNijjar is the rising star of Punjabi music world \, who has shot to fame in the USA with his unique blend of traditional Punjabi music and modern hip-hop sounds. He first gained widespread recognition with his hit song “Tension”\, which showcased his dynamic vocals and infectious beats. Nijjar’s ability to seamlessly blend traditional Punjabi music with contemporary sounds has earned him a very loyal fanbase! His hits are – Taare\, Tension\, Velly. His music is a celebration of Punjabi culture and a testament to the power of music to bring people together! \nGET TICKETS HERE: Nijjar Live In Melbourne – DryTickets.com.au
URL:https://www.indianlink.com.au/whats-on/nijjar-live-in-melbourne-2024/
LOCATION:TraK lounge Bar\, 445 Toorak Rd\, Toorak\, VIC\, 3142\, Australia
ATTACH;FMTTYPE=image/png:https://p9dzm74w.tinifycdn.com/wp-content/uploads/2024/11/Nijjar.png
GEO:-37.840708;145.0077887
X-APPLE-STRUCTURED-LOCATION;VALUE=URI;X-ADDRESS=TraK lounge Bar 445 Toorak Rd Toorak VIC 3142 Australia;X-APPLE-RADIUS=500;X-TITLE=445 Toorak Rd:geo:145.0077887,-37.840708
END:VEVENT
END:VCALENDAR