BEGIN:VCALENDAR
VERSION:2.0
PRODID:-//Indian Link - ECPv6.15.20//NONSGML v1.0//EN
CALSCALE:GREGORIAN
METHOD:PUBLISH
X-ORIGINAL-URL:https://www.indianlink.com.au
X-WR-CALDESC:Events for Indian Link
REFRESH-INTERVAL;VALUE=DURATION:PT1H
X-Robots-Tag:noindex
X-PUBLISHED-TTL:PT1H
BEGIN:VTIMEZONE
TZID:Australia/Sydney
BEGIN:STANDARD
TZOFFSETFROM:+1100
TZOFFSETTO:+1000
TZNAME:AEST
DTSTART:20240406T160000
END:STANDARD
BEGIN:DAYLIGHT
TZOFFSETFROM:+1000
TZOFFSETTO:+1100
TZNAME:AEDT
DTSTART:20241005T160000
END:DAYLIGHT
BEGIN:STANDARD
TZOFFSETFROM:+1100
TZOFFSETTO:+1000
TZNAME:AEST
DTSTART:20250405T160000
END:STANDARD
BEGIN:DAYLIGHT
TZOFFSETFROM:+1000
TZOFFSETTO:+1100
TZNAME:AEDT
DTSTART:20251004T160000
END:DAYLIGHT
BEGIN:STANDARD
TZOFFSETFROM:+1100
TZOFFSETTO:+1000
TZNAME:AEST
DTSTART:20260404T160000
END:STANDARD
BEGIN:DAYLIGHT
TZOFFSETFROM:+1000
TZOFFSETTO:+1100
TZNAME:AEDT
DTSTART:20261003T160000
END:DAYLIGHT
END:VTIMEZONE
BEGIN:VEVENT
DTSTART;TZID=Australia/Sydney:20250113T100000
DTEND;TZID=Australia/Sydney:20250113T120000
DTSTAMP:20260423T141017
CREATED:20250106T062045Z
LAST-MODIFIED:20250106T062045Z
UID:10002440-1736762400-1736769600@www.indianlink.com.au
SUMMARY:Art Workshop - Pulli Kolam with Rupa Parthasarathy
DESCRIPTION:  \nJoin local artist Rupa Parthasarathy in this casual local creative workshop. Learn about and create a traditional style Tamil artwork called Pulli Kollam. \nActivities are suitable for all ages. Family attendance is encouraged\, parents and caregivers and siblings big and small can get creative together at a skill level tailored to each individual. \nGET TICKETS HERE: Art Workshop – Pulli Kolam with Rupa Parthasarathy Tickets\, Mon\, Jan 13\, 2025 at 10:00 AM | Eventbrite
URL:https://www.indianlink.com.au/whats-on/art-workshop-pulli-kolam-with-rupa-parthasarathy-2/
LOCATION:Toongabbie Community Centre\, 244 Targo Road\, Toongabbie\, NSW\, 2146\, Australia
ATTACH;FMTTYPE=image/png:https://p9dzm74w.tinifycdn.com/wp-content/uploads/2025/01/Kolam.png
GEO:-33.7894752;150.9503252
X-APPLE-STRUCTURED-LOCATION;VALUE=URI;X-ADDRESS=Toongabbie Community Centre 244 Targo Road Toongabbie NSW 2146 Australia;X-APPLE-RADIUS=500;X-TITLE=244 Targo Road:geo:150.9503252,-33.7894752
END:VEVENT
END:VCALENDAR