BEGIN:VCALENDAR
VERSION:2.0
PRODID:-//Indian Link - ECPv6.15.20//NONSGML v1.0//EN
CALSCALE:GREGORIAN
METHOD:PUBLISH
X-WR-CALNAME:Indian Link
X-ORIGINAL-URL:https://www.indianlink.com.au
X-WR-CALDESC:Events for Indian Link
REFRESH-INTERVAL;VALUE=DURATION:PT1H
X-Robots-Tag:noindex
X-PUBLISHED-TTL:PT1H
BEGIN:VTIMEZONE
TZID:Australia/Sydney
BEGIN:STANDARD
TZOFFSETFROM:+1100
TZOFFSETTO:+1000
TZNAME:AEST
DTSTART:20240406T160000
END:STANDARD
BEGIN:DAYLIGHT
TZOFFSETFROM:+1000
TZOFFSETTO:+1100
TZNAME:AEDT
DTSTART:20241005T160000
END:DAYLIGHT
BEGIN:STANDARD
TZOFFSETFROM:+1100
TZOFFSETTO:+1000
TZNAME:AEST
DTSTART:20250405T160000
END:STANDARD
BEGIN:DAYLIGHT
TZOFFSETFROM:+1000
TZOFFSETTO:+1100
TZNAME:AEDT
DTSTART:20251004T160000
END:DAYLIGHT
BEGIN:STANDARD
TZOFFSETFROM:+1100
TZOFFSETTO:+1000
TZNAME:AEST
DTSTART:20260404T160000
END:STANDARD
BEGIN:DAYLIGHT
TZOFFSETFROM:+1000
TZOFFSETTO:+1100
TZNAME:AEDT
DTSTART:20261003T160000
END:DAYLIGHT
END:VTIMEZONE
BEGIN:VEVENT
DTSTART;TZID=Australia/Sydney:20250323T193000
DTEND;TZID=Australia/Sydney:20250323T210000
DTSTAMP:20260423T022925
CREATED:20241203T015818Z
LAST-MODIFIED:20241203T015818Z
UID:10002413-1742758200-1742763600@www.indianlink.com.au
SUMMARY:Nazeem Hussain - You Paid For This
DESCRIPTION:  \nAge Restrictions: 15+ \n\n“This is the official bio for my brand new show You Paid for This. Not to be confused with any of the fakes ones out there. I had to write this bio myself\, which really threw my morning plans. I thought coming up with the title was the hard part\, but writing a 150 word biography about a comedy show I haven’t performed yet is really hard. It’s called You Paid for This\, and yes\, I’m aware you likely haven’t actually paid yet. It’s what we call in the biz “presumptive selling”. A bold\, but risky move. The show does what the title suggests\, presuming you buy a ticket. I can’t promise much beyond an hour of jokes\, sponsored by you. You haven’t paid yet\, but we both know it’s only a matter of time. See you there! \nMy Live Nation members can secure tickets first during the pre-sale beginning Thursday 14 November\, 10am. To access presale tickets through the Live Nation presale\, register with My Live Nation. Registration is free. When presale starts\, log in to your account and click BUY TICKETS. No presale code needed. \nGET TICKETS HERE: Nazeem Hussain – You Paid for This
URL:https://www.indianlink.com.au/whats-on/nazeem-hussain-you-paid-for-this-4/
LOCATION:The Street Theatre\, Childers Street 15\, Canberra\, ACT\, 2601\, Australia
ATTACH;FMTTYPE=image/jpeg:https://p9dzm74w.tinifycdn.com/wp-content/uploads/2024/12/Nazeem-Hussain-2.jpg
GEO:-35.2784696;149.1236972
X-APPLE-STRUCTURED-LOCATION;VALUE=URI;X-ADDRESS=The Street Theatre Childers Street 15 Canberra ACT 2601 Australia;X-APPLE-RADIUS=500;X-TITLE=Childers Street 15:geo:149.1236972,-35.2784696
END:VEVENT
END:VCALENDAR