BEGIN:VCALENDAR
VERSION:2.0
PRODID:-//Indian Link - ECPv6.15.20//NONSGML v1.0//EN
CALSCALE:GREGORIAN
METHOD:PUBLISH
X-WR-CALNAME:Indian Link
X-ORIGINAL-URL:https://www.indianlink.com.au
X-WR-CALDESC:Events for Indian Link
REFRESH-INTERVAL;VALUE=DURATION:PT1H
X-Robots-Tag:noindex
X-PUBLISHED-TTL:PT1H
BEGIN:VTIMEZONE
TZID:Australia/Sydney
BEGIN:STANDARD
TZOFFSETFROM:+1100
TZOFFSETTO:+1000
TZNAME:AEST
DTSTART:20240406T160000
END:STANDARD
BEGIN:DAYLIGHT
TZOFFSETFROM:+1000
TZOFFSETTO:+1100
TZNAME:AEDT
DTSTART:20241005T160000
END:DAYLIGHT
BEGIN:STANDARD
TZOFFSETFROM:+1100
TZOFFSETTO:+1000
TZNAME:AEST
DTSTART:20250405T160000
END:STANDARD
BEGIN:DAYLIGHT
TZOFFSETFROM:+1000
TZOFFSETTO:+1100
TZNAME:AEDT
DTSTART:20251004T160000
END:DAYLIGHT
BEGIN:STANDARD
TZOFFSETFROM:+1100
TZOFFSETTO:+1000
TZNAME:AEST
DTSTART:20260404T160000
END:STANDARD
BEGIN:DAYLIGHT
TZOFFSETFROM:+1000
TZOFFSETTO:+1100
TZNAME:AEDT
DTSTART:20261003T160000
END:DAYLIGHT
END:VTIMEZONE
BEGIN:VEVENT
DTSTART;TZID=Australia/Sydney:20250905T170000
DTEND;TZID=Australia/Sydney:20250905T180000
DTSTAMP:20260423T104510
CREATED:20250826T043138Z
LAST-MODIFIED:20250826T043811Z
UID:10008532-1757091600-1757095200@www.indianlink.com.au
SUMMARY:Teeyan Sydney Dian 2025 - Kaur B
DESCRIPTION:Get ready for an unforgettable celebration of culture\, music\, and dance with the sensational Kaur B \nPresented by: Fix Sound Studios\nIn association with Nabha Productions & Aria productions \nget your tickets here : Teeyan Sydney Dian 2025 – Kaur B – DryTickets.com.au
URL:https://www.indianlink.com.au/whats-on/teeyan-sydney-dian-2025-kaur-b/
LOCATION:The Sapphire Function Centre  7 Station Road Auburn  NSW 2144\, The Sapphire Function Centre 7 Station Road\, Sydney\, NSW\, 2144\, Australia
ATTACH;FMTTYPE=image/png:https://p9dzm74w.tinifycdn.com/wp-content/uploads/2025/08/Capture-8.png
GEO:-33.8494108;151.0352735
X-APPLE-STRUCTURED-LOCATION;VALUE=URI;X-ADDRESS=The Sapphire Function Centre  7 Station Road Auburn  NSW 2144 The Sapphire Function Centre 7 Station Road Sydney NSW 2144 Australia;X-APPLE-RADIUS=500;X-TITLE=The Sapphire Function Centre 7 Station Road:geo:151.0352735,-33.8494108
END:VEVENT
END:VCALENDAR