BEGIN:VCALENDAR
VERSION:2.0
PRODID:-//Indian Link - ECPv6.15.20//NONSGML v1.0//EN
CALSCALE:GREGORIAN
METHOD:PUBLISH
X-WR-CALNAME:Indian Link
X-ORIGINAL-URL:https://www.indianlink.com.au
X-WR-CALDESC:Events for Indian Link
REFRESH-INTERVAL;VALUE=DURATION:PT1H
X-Robots-Tag:noindex
X-PUBLISHED-TTL:PT1H
BEGIN:VTIMEZONE
TZID:Australia/Sydney
BEGIN:STANDARD
TZOFFSETFROM:+1100
TZOFFSETTO:+1000
TZNAME:AEST
DTSTART:20240406T160000
END:STANDARD
BEGIN:DAYLIGHT
TZOFFSETFROM:+1000
TZOFFSETTO:+1100
TZNAME:AEDT
DTSTART:20241005T160000
END:DAYLIGHT
BEGIN:STANDARD
TZOFFSETFROM:+1100
TZOFFSETTO:+1000
TZNAME:AEST
DTSTART:20250405T160000
END:STANDARD
BEGIN:DAYLIGHT
TZOFFSETFROM:+1000
TZOFFSETTO:+1100
TZNAME:AEDT
DTSTART:20251004T160000
END:DAYLIGHT
BEGIN:STANDARD
TZOFFSETFROM:+1100
TZOFFSETTO:+1000
TZNAME:AEST
DTSTART:20260404T160000
END:STANDARD
BEGIN:DAYLIGHT
TZOFFSETFROM:+1000
TZOFFSETTO:+1100
TZNAME:AEDT
DTSTART:20261003T160000
END:DAYLIGHT
END:VTIMEZONE
BEGIN:VEVENT
DTSTART;TZID=Australia/Sydney:20251030T113000
DTEND;TZID=Australia/Sydney:20251030T130000
DTSTAMP:20260423T155821
CREATED:20251027T072242Z
LAST-MODIFIED:20251027T072242Z
UID:10008686-1761823800-1761829200@www.indianlink.com.au
SUMMARY:Two Blood - OzAsia
DESCRIPTION:  \nA Tagalaka woman and Cantonese man embark on a forbidden love affair forged in the flames of a burning country. \nCenturies later\, their remains are discovered in a forever embrace\, setting into motion a sprawling exploration of belonging that pierces the core of our identity. \nCreated by visionary artists S. Shakthidharan\, Daniel Riley and Jasmin Sheppard\, who has woven her own family history through the work\, Two Blood sees Australian Dance Theatre continue to break new ground with an interdisciplinary ceremony that blends film\, music\, and movement across borders\, cultures and time. \nRevelling in our multiplicity\, Two Blood is an intensely physical work that crashes through the narratives that have shaped our nation. \n\n\n\n\n\n\nAustralian Dance Theatre\, Australia’s oldest dance company\, is one of the finest dance companies in the world. \n\n\n— Broadway WorldGET TICKETS HERE: https://ozasia.adelaidefestivalcentre.com.au/whats-on/two-blood/schools
URL:https://www.indianlink.com.au/whats-on/two-blood-ozasia/
LOCATION:The Odeon Theatre\, 57a Queen St\, Norwood\, Adelaide\, SA\, 5067\, Australia
ATTACH;FMTTYPE=image/jpeg:https://p9dzm74w.tinifycdn.com/wp-content/uploads/2025/10/Shakthidharan.jpg
GEO:-34.921309;138.6385091
X-APPLE-STRUCTURED-LOCATION;VALUE=URI;X-ADDRESS=The Odeon Theatre 57a Queen St Norwood Adelaide SA 5067 Australia;X-APPLE-RADIUS=500;X-TITLE=57a Queen St\, Norwood:geo:138.6385091,-34.921309
END:VEVENT
END:VCALENDAR