BEGIN:VCALENDAR
VERSION:2.0
PRODID:-//Indian Link - ECPv6.15.20//NONSGML v1.0//EN
CALSCALE:GREGORIAN
METHOD:PUBLISH
X-ORIGINAL-URL:https://www.indianlink.com.au
X-WR-CALDESC:Events for Indian Link
REFRESH-INTERVAL;VALUE=DURATION:PT1H
X-Robots-Tag:noindex
X-PUBLISHED-TTL:PT1H
BEGIN:VTIMEZONE
TZID:Australia/Sydney
BEGIN:STANDARD
TZOFFSETFROM:+1100
TZOFFSETTO:+1000
TZNAME:AEST
DTSTART:20240406T160000
END:STANDARD
BEGIN:DAYLIGHT
TZOFFSETFROM:+1000
TZOFFSETTO:+1100
TZNAME:AEDT
DTSTART:20241005T160000
END:DAYLIGHT
BEGIN:STANDARD
TZOFFSETFROM:+1100
TZOFFSETTO:+1000
TZNAME:AEST
DTSTART:20250405T160000
END:STANDARD
BEGIN:DAYLIGHT
TZOFFSETFROM:+1000
TZOFFSETTO:+1100
TZNAME:AEDT
DTSTART:20251004T160000
END:DAYLIGHT
BEGIN:STANDARD
TZOFFSETFROM:+1100
TZOFFSETTO:+1000
TZNAME:AEST
DTSTART:20260404T160000
END:STANDARD
BEGIN:DAYLIGHT
TZOFFSETFROM:+1000
TZOFFSETTO:+1100
TZNAME:AEDT
DTSTART:20261003T160000
END:DAYLIGHT
END:VTIMEZONE
BEGIN:VEVENT
DTSTART;TZID=Australia/Sydney:20250913T180000
DTEND;TZID=Australia/Sydney:20250919T000000
DTSTAMP:20260423T141346
CREATED:20250911T052021Z
LAST-MODIFIED:20250911T052021Z
UID:10008594-1757786400-1758240000@www.indianlink.com.au
SUMMARY:From Civil War to Citizenship - Melbourne Fringe Festival
DESCRIPTION:From the battlefields of Sri Lanka to the comedy stages of Australia\, Nadun Hetti delivers an unforgettable hour of bold\, darkly funny storytelling. Once a teenager fleeing civil war\, Nadun is now one of Australia’s fastest-rising comedy stars and a RAW Comedy National Finalist. \nIn this sharp and unapologetically honest show\, he unpacks his journey—growing up amid conflict\, navigating life down under\, and the hilariously painful process of earning Australian citizenship. Nadun’s quick wit and fearless punchlines touch on war\, migration\, mental health\, and the quirks of Aussie life\, offering laughter that cuts close to the bone. \nWith a rotating lineup of diverse support acts and rave reviews from Chortle and Fringe Feed\, this is comedy that challenges stereotypes while keeping you in stitches. Catch Nadun before he becomes a household name or before immigration catches him!
URL:https://www.indianlink.com.au/whats-on/from-civil-war-to-citizenship-melbourne-fringe-festival/
LOCATION:The Motley Bauhaus – The Cellar\, Carlton\, 118 Elgin St\, Carlton\, Melbourne\, Victoria\, 3053\, Australia
CATEGORIES:Comedy,Happening in Melbourne
ATTACH;FMTTYPE=image/jpeg:https://p9dzm74w.tinifycdn.com/wp-content/uploads/2025/09/Featured-August-sept.jpg
GEO:-37.7973368;144.970849
X-APPLE-STRUCTURED-LOCATION;VALUE=URI;X-ADDRESS=The Motley Bauhaus – The Cellar Carlton 118 Elgin St Carlton Melbourne Victoria 3053 Australia;X-APPLE-RADIUS=500;X-TITLE=118 Elgin St\, Carlton:geo:144.970849,-37.7973368
END:VEVENT
END:VCALENDAR