BEGIN:VCALENDAR
VERSION:2.0
PRODID:-//Indian Link - ECPv6.15.20//NONSGML v1.0//EN
CALSCALE:GREGORIAN
METHOD:PUBLISH
X-WR-CALNAME:Indian Link
X-ORIGINAL-URL:https://www.indianlink.com.au
X-WR-CALDESC:Events for Indian Link
REFRESH-INTERVAL;VALUE=DURATION:PT1H
X-Robots-Tag:noindex
X-PUBLISHED-TTL:PT1H
BEGIN:VTIMEZONE
TZID:Australia/Sydney
BEGIN:STANDARD
TZOFFSETFROM:+1100
TZOFFSETTO:+1000
TZNAME:AEST
DTSTART:20240406T160000
END:STANDARD
BEGIN:DAYLIGHT
TZOFFSETFROM:+1000
TZOFFSETTO:+1100
TZNAME:AEDT
DTSTART:20241005T160000
END:DAYLIGHT
BEGIN:STANDARD
TZOFFSETFROM:+1100
TZOFFSETTO:+1000
TZNAME:AEST
DTSTART:20250405T160000
END:STANDARD
BEGIN:DAYLIGHT
TZOFFSETFROM:+1000
TZOFFSETTO:+1100
TZNAME:AEDT
DTSTART:20251004T160000
END:DAYLIGHT
BEGIN:STANDARD
TZOFFSETFROM:+1100
TZOFFSETTO:+1000
TZNAME:AEST
DTSTART:20260404T160000
END:STANDARD
BEGIN:DAYLIGHT
TZOFFSETFROM:+1000
TZOFFSETTO:+1100
TZNAME:AEDT
DTSTART:20261003T160000
END:DAYLIGHT
END:VTIMEZONE
BEGIN:VEVENT
DTSTART;TZID=Australia/Sydney:20250310T141500
DTEND;TZID=Australia/Sydney:20250310T151500
DTSTAMP:20260423T081956
CREATED:20250228T123130Z
LAST-MODIFIED:20250228T123130Z
UID:10003012-1741616100-1741619700@www.indianlink.com.au
SUMMARY:Why English? - Layers beneath the language! - Adelaide Fringe Festival
DESCRIPTION:  \nA woman finds it hard to find work as an actor\, since she can’t speak the languages of her own land – India. \nWas this not normal? She starts feeling like a stranger in her own home. The infamous colonial hangover creating chaos worldwide! \nWitness a journey of revelations using beautiful scenography\, the spoken word and physical action. \nInspired by personal experiences and interactions\, Vibhinna invites the audience to experience the nuances of linguistic diversity and its role in our interconnected world. A light hearted show with a powerful undertone! \nWorld Premiere – Edinburgh Fringe 2023 \nGET TICKETS HERE: Why English? – Layers beneath the language! | Adelaide Fringe
URL:https://www.indianlink.com.au/whats-on/why-english-layers-beneath-the-language-adelaide-fringe-festival/2025-03-10/
LOCATION:The Lark at Gluttony – Rymill Park\, Rymill Park / Murlawirrapurka\, Cnr East Tce & Rundle Rd\,\, Adelaide\, SA\, 5000\, Australia
ATTACH;FMTTYPE=image/png:https://p9dzm74w.tinifycdn.com/wp-content/uploads/2025/02/wHY-eNG.png
GEO:-34.9238889;138.6141667
X-APPLE-STRUCTURED-LOCATION;VALUE=URI;X-ADDRESS=The Lark at Gluttony – Rymill Park Rymill Park / Murlawirrapurka Cnr East Tce & Rundle Rd Adelaide SA 5000 Australia;X-APPLE-RADIUS=500;X-TITLE=Rymill Park / Murlawirrapurka\, Cnr East Tce & Rundle Rd\,:geo:138.6141667,-34.9238889
END:VEVENT
BEGIN:VEVENT
DTSTART;TZID=Australia/Sydney:20250309T141500
DTEND;TZID=Australia/Sydney:20250309T151500
DTSTAMP:20260423T081956
CREATED:20250228T123130Z
LAST-MODIFIED:20250228T123130Z
UID:10003011-1741529700-1741533300@www.indianlink.com.au
SUMMARY:Why English? - Layers beneath the language! - Adelaide Fringe Festival
DESCRIPTION:  \nA woman finds it hard to find work as an actor\, since she can’t speak the languages of her own land – India. \nWas this not normal? She starts feeling like a stranger in her own home. The infamous colonial hangover creating chaos worldwide! \nWitness a journey of revelations using beautiful scenography\, the spoken word and physical action. \nInspired by personal experiences and interactions\, Vibhinna invites the audience to experience the nuances of linguistic diversity and its role in our interconnected world. A light hearted show with a powerful undertone! \nWorld Premiere – Edinburgh Fringe 2023 \nGET TICKETS HERE: Why English? – Layers beneath the language! | Adelaide Fringe
URL:https://www.indianlink.com.au/whats-on/why-english-layers-beneath-the-language-adelaide-fringe-festival/2025-03-09/
LOCATION:The Lark at Gluttony – Rymill Park\, Rymill Park / Murlawirrapurka\, Cnr East Tce & Rundle Rd\,\, Adelaide\, SA\, 5000\, Australia
ATTACH;FMTTYPE=image/png:https://p9dzm74w.tinifycdn.com/wp-content/uploads/2025/02/wHY-eNG.png
GEO:-34.9238889;138.6141667
X-APPLE-STRUCTURED-LOCATION;VALUE=URI;X-ADDRESS=The Lark at Gluttony – Rymill Park Rymill Park / Murlawirrapurka Cnr East Tce & Rundle Rd Adelaide SA 5000 Australia;X-APPLE-RADIUS=500;X-TITLE=Rymill Park / Murlawirrapurka\, Cnr East Tce & Rundle Rd\,:geo:138.6141667,-34.9238889
END:VEVENT
BEGIN:VEVENT
DTSTART;TZID=Australia/Sydney:20250308T141500
DTEND;TZID=Australia/Sydney:20250308T151500
DTSTAMP:20260423T081956
CREATED:20250228T123130Z
LAST-MODIFIED:20250228T123130Z
UID:10003010-1741443300-1741446900@www.indianlink.com.au
SUMMARY:Why English? - Layers beneath the language! - Adelaide Fringe Festival
DESCRIPTION:  \nA woman finds it hard to find work as an actor\, since she can’t speak the languages of her own land – India. \nWas this not normal? She starts feeling like a stranger in her own home. The infamous colonial hangover creating chaos worldwide! \nWitness a journey of revelations using beautiful scenography\, the spoken word and physical action. \nInspired by personal experiences and interactions\, Vibhinna invites the audience to experience the nuances of linguistic diversity and its role in our interconnected world. A light hearted show with a powerful undertone! \nWorld Premiere – Edinburgh Fringe 2023 \nGET TICKETS HERE: Why English? – Layers beneath the language! | Adelaide Fringe
URL:https://www.indianlink.com.au/whats-on/why-english-layers-beneath-the-language-adelaide-fringe-festival/2025-03-08/
LOCATION:The Lark at Gluttony – Rymill Park\, Rymill Park / Murlawirrapurka\, Cnr East Tce & Rundle Rd\,\, Adelaide\, SA\, 5000\, Australia
ATTACH;FMTTYPE=image/png:https://p9dzm74w.tinifycdn.com/wp-content/uploads/2025/02/wHY-eNG.png
GEO:-34.9238889;138.6141667
X-APPLE-STRUCTURED-LOCATION;VALUE=URI;X-ADDRESS=The Lark at Gluttony – Rymill Park Rymill Park / Murlawirrapurka Cnr East Tce & Rundle Rd Adelaide SA 5000 Australia;X-APPLE-RADIUS=500;X-TITLE=Rymill Park / Murlawirrapurka\, Cnr East Tce & Rundle Rd\,:geo:138.6141667,-34.9238889
END:VEVENT
BEGIN:VEVENT
DTSTART;TZID=Australia/Sydney:20250302T141500
DTEND;TZID=Australia/Sydney:20250302T151500
DTSTAMP:20260423T081956
CREATED:20250228T123130Z
LAST-MODIFIED:20250228T123130Z
UID:10003009-1740924900-1740928500@www.indianlink.com.au
SUMMARY:Why English? - Layers beneath the language! - Adelaide Fringe Festival
DESCRIPTION:  \nA woman finds it hard to find work as an actor\, since she can’t speak the languages of her own land – India. \nWas this not normal? She starts feeling like a stranger in her own home. The infamous colonial hangover creating chaos worldwide! \nWitness a journey of revelations using beautiful scenography\, the spoken word and physical action. \nInspired by personal experiences and interactions\, Vibhinna invites the audience to experience the nuances of linguistic diversity and its role in our interconnected world. A light hearted show with a powerful undertone! \nWorld Premiere – Edinburgh Fringe 2023 \nGET TICKETS HERE: Why English? – Layers beneath the language! | Adelaide Fringe
URL:https://www.indianlink.com.au/whats-on/why-english-layers-beneath-the-language-adelaide-fringe-festival/2025-03-02/
LOCATION:The Lark at Gluttony – Rymill Park\, Rymill Park / Murlawirrapurka\, Cnr East Tce & Rundle Rd\,\, Adelaide\, SA\, 5000\, Australia
ATTACH;FMTTYPE=image/png:https://p9dzm74w.tinifycdn.com/wp-content/uploads/2025/02/wHY-eNG.png
GEO:-34.9238889;138.6141667
X-APPLE-STRUCTURED-LOCATION;VALUE=URI;X-ADDRESS=The Lark at Gluttony – Rymill Park Rymill Park / Murlawirrapurka Cnr East Tce & Rundle Rd Adelaide SA 5000 Australia;X-APPLE-RADIUS=500;X-TITLE=Rymill Park / Murlawirrapurka\, Cnr East Tce & Rundle Rd\,:geo:138.6141667,-34.9238889
END:VEVENT
BEGIN:VEVENT
DTSTART;TZID=Australia/Sydney:20250301T141500
DTEND;TZID=Australia/Sydney:20250301T151500
DTSTAMP:20260423T081956
CREATED:20250228T123130Z
LAST-MODIFIED:20250228T123130Z
UID:10003008-1740838500-1740842100@www.indianlink.com.au
SUMMARY:Why English? - Layers beneath the language! - Adelaide Fringe Festival
DESCRIPTION:  \nA woman finds it hard to find work as an actor\, since she can’t speak the languages of her own land – India. \nWas this not normal? She starts feeling like a stranger in her own home. The infamous colonial hangover creating chaos worldwide! \nWitness a journey of revelations using beautiful scenography\, the spoken word and physical action. \nInspired by personal experiences and interactions\, Vibhinna invites the audience to experience the nuances of linguistic diversity and its role in our interconnected world. A light hearted show with a powerful undertone! \nWorld Premiere – Edinburgh Fringe 2023 \nGET TICKETS HERE: Why English? – Layers beneath the language! | Adelaide Fringe
URL:https://www.indianlink.com.au/whats-on/why-english-layers-beneath-the-language-adelaide-fringe-festival/2025-03-01/
LOCATION:The Lark at Gluttony – Rymill Park\, Rymill Park / Murlawirrapurka\, Cnr East Tce & Rundle Rd\,\, Adelaide\, SA\, 5000\, Australia
ATTACH;FMTTYPE=image/png:https://p9dzm74w.tinifycdn.com/wp-content/uploads/2025/02/wHY-eNG.png
GEO:-34.9238889;138.6141667
X-APPLE-STRUCTURED-LOCATION;VALUE=URI;X-ADDRESS=The Lark at Gluttony – Rymill Park Rymill Park / Murlawirrapurka Cnr East Tce & Rundle Rd Adelaide SA 5000 Australia;X-APPLE-RADIUS=500;X-TITLE=Rymill Park / Murlawirrapurka\, Cnr East Tce & Rundle Rd\,:geo:138.6141667,-34.9238889
END:VEVENT
END:VCALENDAR