BEGIN:VCALENDAR
VERSION:2.0
PRODID:-//Indian Link - ECPv6.15.20//NONSGML v1.0//EN
CALSCALE:GREGORIAN
METHOD:PUBLISH
X-ORIGINAL-URL:https://www.indianlink.com.au
X-WR-CALDESC:Events for Indian Link
REFRESH-INTERVAL;VALUE=DURATION:PT1H
X-Robots-Tag:noindex
X-PUBLISHED-TTL:PT1H
BEGIN:VTIMEZONE
TZID:Australia/Sydney
BEGIN:STANDARD
TZOFFSETFROM:+1100
TZOFFSETTO:+1000
TZNAME:AEST
DTSTART:20240406T160000
END:STANDARD
BEGIN:DAYLIGHT
TZOFFSETFROM:+1000
TZOFFSETTO:+1100
TZNAME:AEDT
DTSTART:20241005T160000
END:DAYLIGHT
BEGIN:STANDARD
TZOFFSETFROM:+1100
TZOFFSETTO:+1000
TZNAME:AEST
DTSTART:20250405T160000
END:STANDARD
BEGIN:DAYLIGHT
TZOFFSETFROM:+1000
TZOFFSETTO:+1100
TZNAME:AEDT
DTSTART:20251004T160000
END:DAYLIGHT
BEGIN:STANDARD
TZOFFSETFROM:+1100
TZOFFSETTO:+1000
TZNAME:AEST
DTSTART:20260404T160000
END:STANDARD
BEGIN:DAYLIGHT
TZOFFSETFROM:+1000
TZOFFSETTO:+1100
TZNAME:AEDT
DTSTART:20261003T160000
END:DAYLIGHT
END:VTIMEZONE
BEGIN:VEVENT
DTSTART;TZID=Australia/Sydney:20250222T200000
DTEND;TZID=Australia/Sydney:20250222T210000
DTSTAMP:20260423T103018
CREATED:20250203T234359Z
LAST-MODIFIED:20250203T234359Z
UID:10002499-1740254400-1740258000@www.indianlink.com.au
SUMMARY:Elsewhere in India
DESCRIPTION:  \nA visionary audiovisual electronica performance set in a future where global cultures are on the brink of extinction. The narrative centers on Meenakshi\, a cultural cyborg designed to preserve Indian heritage and foster harmony through traditional Indian performing arts. An amalgamation of 3D video games\, AI-generated art\, motion-captured dance\, and an anthology of futuristic stories from India set in 2079 AD\, intertwining heritage\, science\, and society through the lens of emerging Indian electro-classical dance music. \nMurthovic and Thiruda are pioneering Indian transmedia artists with a shared passion for pushing the boundaries of digital storytelling and cultural preservation\, they have collaborated on numerous projects that blend cutting-edge technology with traditional Indian aesthetics and narratives. \nFEATURING SPECIAL GUEST ARTIST – PARVYN\nPunjabi- Australian singer Parvyn is well known for her work in Bollywood-inspired psychedelic rock band\, The Bombay Royale. Parvyn is now enjoying success as a solo singer/performer. Parvyn is also the daughter of world-renowned Sikh devotional singer Dya Singh \nSupported by the Consulate General of India and the Swami Vivekananda Cultural Centre. \nGET TICKETS HERE: https://adelaidefringe.com.au/fringetix/elsewhere-in-india-af2025
URL:https://www.indianlink.com.au/whats-on/elsewhere-in-india/2025-02-22/2/
LOCATION:The Lab at ILA\, 63 Light Square\, Adelaide\, SA\, 5000\, Australia
ATTACH;FMTTYPE=image/png:https://p9dzm74w.tinifycdn.com/wp-content/uploads/2025/02/Elsewhere-in-India.png
GEO:-34.9255846;138.5926622
X-APPLE-STRUCTURED-LOCATION;VALUE=URI;X-ADDRESS=The Lab at ILA 63 Light Square Adelaide SA 5000 Australia;X-APPLE-RADIUS=500;X-TITLE=63 Light Square:geo:138.5926622,-34.9255846
END:VEVENT
BEGIN:VEVENT
DTSTART;TZID=Australia/Sydney:20250222T180000
DTEND;TZID=Australia/Sydney:20250222T190000
DTSTAMP:20260423T103018
CREATED:20250203T234359Z
LAST-MODIFIED:20250203T234359Z
UID:10002498-1740247200-1740250800@www.indianlink.com.au
SUMMARY:Elsewhere in India
DESCRIPTION:  \nA visionary audiovisual electronica performance set in a future where global cultures are on the brink of extinction. The narrative centers on Meenakshi\, a cultural cyborg designed to preserve Indian heritage and foster harmony through traditional Indian performing arts. An amalgamation of 3D video games\, AI-generated art\, motion-captured dance\, and an anthology of futuristic stories from India set in 2079 AD\, intertwining heritage\, science\, and society through the lens of emerging Indian electro-classical dance music. \nMurthovic and Thiruda are pioneering Indian transmedia artists with a shared passion for pushing the boundaries of digital storytelling and cultural preservation\, they have collaborated on numerous projects that blend cutting-edge technology with traditional Indian aesthetics and narratives. \nFEATURING SPECIAL GUEST ARTIST – PARVYN\nPunjabi- Australian singer Parvyn is well known for her work in Bollywood-inspired psychedelic rock band\, The Bombay Royale. Parvyn is now enjoying success as a solo singer/performer. Parvyn is also the daughter of world-renowned Sikh devotional singer Dya Singh \nSupported by the Consulate General of India and the Swami Vivekananda Cultural Centre. \nGET TICKETS HERE: https://adelaidefringe.com.au/fringetix/elsewhere-in-india-af2025
URL:https://www.indianlink.com.au/whats-on/elsewhere-in-india/2025-02-22/1/
LOCATION:The Lab at ILA\, 63 Light Square\, Adelaide\, SA\, 5000\, Australia
ATTACH;FMTTYPE=image/png:https://p9dzm74w.tinifycdn.com/wp-content/uploads/2025/02/Elsewhere-in-India.png
GEO:-34.9255846;138.5926622
X-APPLE-STRUCTURED-LOCATION;VALUE=URI;X-ADDRESS=The Lab at ILA 63 Light Square Adelaide SA 5000 Australia;X-APPLE-RADIUS=500;X-TITLE=63 Light Square:geo:138.5926622,-34.9255846
END:VEVENT
BEGIN:VEVENT
DTSTART;TZID=Australia/Sydney:20250221T200000
DTEND;TZID=Australia/Sydney:20250221T210000
DTSTAMP:20260423T103018
CREATED:20250203T234359Z
LAST-MODIFIED:20250203T234359Z
UID:10002497-1740168000-1740171600@www.indianlink.com.au
SUMMARY:Elsewhere in India
DESCRIPTION:  \nA visionary audiovisual electronica performance set in a future where global cultures are on the brink of extinction. The narrative centers on Meenakshi\, a cultural cyborg designed to preserve Indian heritage and foster harmony through traditional Indian performing arts. An amalgamation of 3D video games\, AI-generated art\, motion-captured dance\, and an anthology of futuristic stories from India set in 2079 AD\, intertwining heritage\, science\, and society through the lens of emerging Indian electro-classical dance music. \nMurthovic and Thiruda are pioneering Indian transmedia artists with a shared passion for pushing the boundaries of digital storytelling and cultural preservation\, they have collaborated on numerous projects that blend cutting-edge technology with traditional Indian aesthetics and narratives. \nFEATURING SPECIAL GUEST ARTIST – PARVYN\nPunjabi- Australian singer Parvyn is well known for her work in Bollywood-inspired psychedelic rock band\, The Bombay Royale. Parvyn is now enjoying success as a solo singer/performer. Parvyn is also the daughter of world-renowned Sikh devotional singer Dya Singh \nSupported by the Consulate General of India and the Swami Vivekananda Cultural Centre. \nGET TICKETS HERE: https://adelaidefringe.com.au/fringetix/elsewhere-in-india-af2025
URL:https://www.indianlink.com.au/whats-on/elsewhere-in-india/2025-02-21/2/
LOCATION:The Lab at ILA\, 63 Light Square\, Adelaide\, SA\, 5000\, Australia
ATTACH;FMTTYPE=image/png:https://p9dzm74w.tinifycdn.com/wp-content/uploads/2025/02/Elsewhere-in-India.png
GEO:-34.9255846;138.5926622
X-APPLE-STRUCTURED-LOCATION;VALUE=URI;X-ADDRESS=The Lab at ILA 63 Light Square Adelaide SA 5000 Australia;X-APPLE-RADIUS=500;X-TITLE=63 Light Square:geo:138.5926622,-34.9255846
END:VEVENT
BEGIN:VEVENT
DTSTART;TZID=Australia/Sydney:20250221T180000
DTEND;TZID=Australia/Sydney:20250221T190000
DTSTAMP:20260423T103018
CREATED:20250203T234359Z
LAST-MODIFIED:20250203T234359Z
UID:10002496-1740160800-1740164400@www.indianlink.com.au
SUMMARY:Elsewhere in India
DESCRIPTION:  \nA visionary audiovisual electronica performance set in a future where global cultures are on the brink of extinction. The narrative centers on Meenakshi\, a cultural cyborg designed to preserve Indian heritage and foster harmony through traditional Indian performing arts. An amalgamation of 3D video games\, AI-generated art\, motion-captured dance\, and an anthology of futuristic stories from India set in 2079 AD\, intertwining heritage\, science\, and society through the lens of emerging Indian electro-classical dance music. \nMurthovic and Thiruda are pioneering Indian transmedia artists with a shared passion for pushing the boundaries of digital storytelling and cultural preservation\, they have collaborated on numerous projects that blend cutting-edge technology with traditional Indian aesthetics and narratives. \nFEATURING SPECIAL GUEST ARTIST – PARVYN\nPunjabi- Australian singer Parvyn is well known for her work in Bollywood-inspired psychedelic rock band\, The Bombay Royale. Parvyn is now enjoying success as a solo singer/performer. Parvyn is also the daughter of world-renowned Sikh devotional singer Dya Singh \nSupported by the Consulate General of India and the Swami Vivekananda Cultural Centre. \nGET TICKETS HERE: https://adelaidefringe.com.au/fringetix/elsewhere-in-india-af2025
URL:https://www.indianlink.com.au/whats-on/elsewhere-in-india/2025-02-21/1/
LOCATION:The Lab at ILA\, 63 Light Square\, Adelaide\, SA\, 5000\, Australia
ATTACH;FMTTYPE=image/png:https://p9dzm74w.tinifycdn.com/wp-content/uploads/2025/02/Elsewhere-in-India.png
GEO:-34.9255846;138.5926622
X-APPLE-STRUCTURED-LOCATION;VALUE=URI;X-ADDRESS=The Lab at ILA 63 Light Square Adelaide SA 5000 Australia;X-APPLE-RADIUS=500;X-TITLE=63 Light Square:geo:138.5926622,-34.9255846
END:VEVENT
BEGIN:VEVENT
DTSTART;TZID=Australia/Sydney:20250220T190000
DTEND;TZID=Australia/Sydney:20250220T200000
DTSTAMP:20260423T103018
CREATED:20250203T234359Z
LAST-MODIFIED:20250203T234359Z
UID:10002495-1740078000-1740081600@www.indianlink.com.au
SUMMARY:Elsewhere in India
DESCRIPTION:  \nA visionary audiovisual electronica performance set in a future where global cultures are on the brink of extinction. The narrative centers on Meenakshi\, a cultural cyborg designed to preserve Indian heritage and foster harmony through traditional Indian performing arts. An amalgamation of 3D video games\, AI-generated art\, motion-captured dance\, and an anthology of futuristic stories from India set in 2079 AD\, intertwining heritage\, science\, and society through the lens of emerging Indian electro-classical dance music. \nMurthovic and Thiruda are pioneering Indian transmedia artists with a shared passion for pushing the boundaries of digital storytelling and cultural preservation\, they have collaborated on numerous projects that blend cutting-edge technology with traditional Indian aesthetics and narratives. \nFEATURING SPECIAL GUEST ARTIST – PARVYN\nPunjabi- Australian singer Parvyn is well known for her work in Bollywood-inspired psychedelic rock band\, The Bombay Royale. Parvyn is now enjoying success as a solo singer/performer. Parvyn is also the daughter of world-renowned Sikh devotional singer Dya Singh \nSupported by the Consulate General of India and the Swami Vivekananda Cultural Centre. \nGET TICKETS HERE: https://adelaidefringe.com.au/fringetix/elsewhere-in-india-af2025
URL:https://www.indianlink.com.au/whats-on/elsewhere-in-india/2025-02-20/
LOCATION:The Lab at ILA\, 63 Light Square\, Adelaide\, SA\, 5000\, Australia
ATTACH;FMTTYPE=image/png:https://p9dzm74w.tinifycdn.com/wp-content/uploads/2025/02/Elsewhere-in-India.png
GEO:-34.9255846;138.5926622
X-APPLE-STRUCTURED-LOCATION;VALUE=URI;X-ADDRESS=The Lab at ILA 63 Light Square Adelaide SA 5000 Australia;X-APPLE-RADIUS=500;X-TITLE=63 Light Square:geo:138.5926622,-34.9255846
END:VEVENT
END:VCALENDAR