BEGIN:VCALENDAR
VERSION:2.0
PRODID:-//Indian Link - ECPv6.15.20//NONSGML v1.0//EN
CALSCALE:GREGORIAN
METHOD:PUBLISH
X-WR-CALNAME:Indian Link
X-ORIGINAL-URL:https://www.indianlink.com.au
X-WR-CALDESC:Events for Indian Link
REFRESH-INTERVAL;VALUE=DURATION:PT1H
X-Robots-Tag:noindex
X-PUBLISHED-TTL:PT1H
BEGIN:VTIMEZONE
TZID:Australia/Sydney
BEGIN:STANDARD
TZOFFSETFROM:+1100
TZOFFSETTO:+1000
TZNAME:AEST
DTSTART:20240406T160000
END:STANDARD
BEGIN:DAYLIGHT
TZOFFSETFROM:+1000
TZOFFSETTO:+1100
TZNAME:AEDT
DTSTART:20241005T160000
END:DAYLIGHT
BEGIN:STANDARD
TZOFFSETFROM:+1100
TZOFFSETTO:+1000
TZNAME:AEST
DTSTART:20250405T160000
END:STANDARD
BEGIN:DAYLIGHT
TZOFFSETFROM:+1000
TZOFFSETTO:+1100
TZNAME:AEDT
DTSTART:20251004T160000
END:DAYLIGHT
BEGIN:STANDARD
TZOFFSETFROM:+1100
TZOFFSETTO:+1000
TZNAME:AEST
DTSTART:20260404T160000
END:STANDARD
BEGIN:DAYLIGHT
TZOFFSETFROM:+1000
TZOFFSETTO:+1100
TZNAME:AEDT
DTSTART:20261003T160000
END:DAYLIGHT
END:VTIMEZONE
BEGIN:VEVENT
DTSTART;TZID=Australia/Sydney:20250524T183000
DTEND;TZID=Australia/Sydney:20250524T210000
DTSTAMP:20260423T090431
CREATED:20250209T235652Z
LAST-MODIFIED:20250209T235652Z
UID:10002521-1748111400-1748120400@www.indianlink.com.au
SUMMARY:Australian Anglo-Indian Melbourne Rangers Club - 45th anniversary Gala
DESCRIPTION:  \nThe Australian Anglo-Indian Melbourne Rangers Club is turning 45 this year. Take part in congratulating the AAIMRC on this special milestone at a Gala Dinner Dance at The Grand on Princes Reception Centre\, Mulgrave\, a spectacular venue where celebrations turn into a lifetime of memories. Don’t miss this special celebration on 24th May! \nGET TICKETS HERE: Register or arrange tickets to all our social events here
URL:https://www.indianlink.com.au/whats-on/australian-anglo-indian-melbourne-rangers-club-45th-anniversary-gala/
LOCATION:The Grand On Princes Reception Centre\, 225 1 Princes Highway Service Road\, Mulgrave\, Melbourne\, VIC\, 3175\, Australia
ATTACH;FMTTYPE=image/jpeg:https://p9dzm74w.tinifycdn.com/wp-content/uploads/2025/02/476484331_1008081664679927_1099042703904259483_n.jpg
GEO:-37.9845204;145.2141909
X-APPLE-STRUCTURED-LOCATION;VALUE=URI;X-ADDRESS=The Grand On Princes Reception Centre 225 1 Princes Highway Service Road Mulgrave Melbourne VIC 3175 Australia;X-APPLE-RADIUS=500;X-TITLE=225 1 Princes Highway Service Road\, Mulgrave:geo:145.2141909,-37.9845204
END:VEVENT
END:VCALENDAR