BEGIN:VCALENDAR
VERSION:2.0
PRODID:-//Indian Link - ECPv6.15.20//NONSGML v1.0//EN
CALSCALE:GREGORIAN
METHOD:PUBLISH
X-ORIGINAL-URL:https://www.indianlink.com.au
X-WR-CALDESC:Events for Indian Link
REFRESH-INTERVAL;VALUE=DURATION:PT1H
X-Robots-Tag:noindex
X-PUBLISHED-TTL:PT1H
BEGIN:VTIMEZONE
TZID:Australia/Sydney
BEGIN:STANDARD
TZOFFSETFROM:+1100
TZOFFSETTO:+1000
TZNAME:AEST
DTSTART:20240406T160000
END:STANDARD
BEGIN:DAYLIGHT
TZOFFSETFROM:+1000
TZOFFSETTO:+1100
TZNAME:AEDT
DTSTART:20241005T160000
END:DAYLIGHT
BEGIN:STANDARD
TZOFFSETFROM:+1100
TZOFFSETTO:+1000
TZNAME:AEST
DTSTART:20250405T160000
END:STANDARD
BEGIN:DAYLIGHT
TZOFFSETFROM:+1000
TZOFFSETTO:+1100
TZNAME:AEDT
DTSTART:20251004T160000
END:DAYLIGHT
BEGIN:STANDARD
TZOFFSETFROM:+1100
TZOFFSETTO:+1000
TZNAME:AEST
DTSTART:20260404T160000
END:STANDARD
BEGIN:DAYLIGHT
TZOFFSETFROM:+1000
TZOFFSETTO:+1100
TZNAME:AEDT
DTSTART:20261003T160000
END:DAYLIGHT
END:VTIMEZONE
BEGIN:VEVENT
DTSTART;TZID=Australia/Sydney:20250810T190000
DTEND;TZID=Australia/Sydney:20250810T201000
DTSTAMP:20260426T013624
CREATED:20250804T050535Z
LAST-MODIFIED:20250804T050535Z
UID:10008426-1754852400-1754856600@www.indianlink.com.au
SUMMARY:Suhani Shah - Spellbound
DESCRIPTION:  \nLet go of logic and let Suhani take over.\nSuhani Shah is the world’s most subscribed mentalist\, with over four million YouTube subscribers and two million Instagram followers. Suhani has been performing on stage since she was just seven years old and in the following two decades has presented over 5\,000 performances. A certified superstar in the magic industry\, she regularly tours to packed stadiums and has wowed some of the biggest names in entertainment and sport with her skills. \nAfter sell-out runs at the Edinburgh Fringe\, RISING festival and the Adelaide Fringe\, Suhani is bringing her smash-hit show Spellbound to Sydney for the first time. On her most recent trip to Australia she blew the country’s mind when she revealed Georgie Tunny’s secret crush and Waleed Aly’s phone passcode live on The Project. \nWith her charm\, incredible knowledge of human behaviour and unparalleled skills in mind reading\, Suhani will have the audiences on their feet. \nGET TICKETS HERE: https://strutnfret.com/shows/suhani-shah-spellbound/ 
URL:https://www.indianlink.com.au/whats-on/suhani-shah-spellbound/2025-08-10/
LOCATION:The Grand Electric\, 199 Cleveland Street Surry Hills\, Sydney\, NSW\, 2016\, Australia
ATTACH;FMTTYPE=image/png:https://p9dzm74w.tinifycdn.com/wp-content/uploads/2025/08/Suhani-Shah.png
GEO:-33.8894601;151.2033687
X-APPLE-STRUCTURED-LOCATION;VALUE=URI;X-ADDRESS=The Grand Electric 199 Cleveland Street Surry Hills Sydney NSW 2016 Australia;X-APPLE-RADIUS=500;X-TITLE=199 Cleveland Street Surry Hills:geo:151.2033687,-33.8894601
END:VEVENT
BEGIN:VEVENT
DTSTART;TZID=Australia/Sydney:20250809T190000
DTEND;TZID=Australia/Sydney:20250809T201000
DTSTAMP:20260426T013624
CREATED:20250804T050535Z
LAST-MODIFIED:20250804T050535Z
UID:10008425-1754766000-1754770200@www.indianlink.com.au
SUMMARY:Suhani Shah - Spellbound
DESCRIPTION:  \nLet go of logic and let Suhani take over.\nSuhani Shah is the world’s most subscribed mentalist\, with over four million YouTube subscribers and two million Instagram followers. Suhani has been performing on stage since she was just seven years old and in the following two decades has presented over 5\,000 performances. A certified superstar in the magic industry\, she regularly tours to packed stadiums and has wowed some of the biggest names in entertainment and sport with her skills. \nAfter sell-out runs at the Edinburgh Fringe\, RISING festival and the Adelaide Fringe\, Suhani is bringing her smash-hit show Spellbound to Sydney for the first time. On her most recent trip to Australia she blew the country’s mind when she revealed Georgie Tunny’s secret crush and Waleed Aly’s phone passcode live on The Project. \nWith her charm\, incredible knowledge of human behaviour and unparalleled skills in mind reading\, Suhani will have the audiences on their feet. \nGET TICKETS HERE: https://strutnfret.com/shows/suhani-shah-spellbound/ 
URL:https://www.indianlink.com.au/whats-on/suhani-shah-spellbound/2025-08-09/
LOCATION:The Grand Electric\, 199 Cleveland Street Surry Hills\, Sydney\, NSW\, 2016\, Australia
ATTACH;FMTTYPE=image/png:https://p9dzm74w.tinifycdn.com/wp-content/uploads/2025/08/Suhani-Shah.png
GEO:-33.8894601;151.2033687
X-APPLE-STRUCTURED-LOCATION;VALUE=URI;X-ADDRESS=The Grand Electric 199 Cleveland Street Surry Hills Sydney NSW 2016 Australia;X-APPLE-RADIUS=500;X-TITLE=199 Cleveland Street Surry Hills:geo:151.2033687,-33.8894601
END:VEVENT
BEGIN:VEVENT
DTSTART;TZID=Australia/Sydney:20250808T190000
DTEND;TZID=Australia/Sydney:20250808T201000
DTSTAMP:20260426T013624
CREATED:20250804T050535Z
LAST-MODIFIED:20250804T050535Z
UID:10008424-1754679600-1754683800@www.indianlink.com.au
SUMMARY:Suhani Shah - Spellbound
DESCRIPTION:  \nLet go of logic and let Suhani take over.\nSuhani Shah is the world’s most subscribed mentalist\, with over four million YouTube subscribers and two million Instagram followers. Suhani has been performing on stage since she was just seven years old and in the following two decades has presented over 5\,000 performances. A certified superstar in the magic industry\, she regularly tours to packed stadiums and has wowed some of the biggest names in entertainment and sport with her skills. \nAfter sell-out runs at the Edinburgh Fringe\, RISING festival and the Adelaide Fringe\, Suhani is bringing her smash-hit show Spellbound to Sydney for the first time. On her most recent trip to Australia she blew the country’s mind when she revealed Georgie Tunny’s secret crush and Waleed Aly’s phone passcode live on The Project. \nWith her charm\, incredible knowledge of human behaviour and unparalleled skills in mind reading\, Suhani will have the audiences on their feet. \nGET TICKETS HERE: https://strutnfret.com/shows/suhani-shah-spellbound/ 
URL:https://www.indianlink.com.au/whats-on/suhani-shah-spellbound/2025-08-08/
LOCATION:The Grand Electric\, 199 Cleveland Street Surry Hills\, Sydney\, NSW\, 2016\, Australia
ATTACH;FMTTYPE=image/png:https://p9dzm74w.tinifycdn.com/wp-content/uploads/2025/08/Suhani-Shah.png
GEO:-33.8894601;151.2033687
X-APPLE-STRUCTURED-LOCATION;VALUE=URI;X-ADDRESS=The Grand Electric 199 Cleveland Street Surry Hills Sydney NSW 2016 Australia;X-APPLE-RADIUS=500;X-TITLE=199 Cleveland Street Surry Hills:geo:151.2033687,-33.8894601
END:VEVENT
BEGIN:VEVENT
DTSTART;TZID=Australia/Sydney:20250807T190000
DTEND;TZID=Australia/Sydney:20250807T201000
DTSTAMP:20260426T013624
CREATED:20250804T050535Z
LAST-MODIFIED:20250804T050535Z
UID:10008423-1754593200-1754597400@www.indianlink.com.au
SUMMARY:Suhani Shah - Spellbound
DESCRIPTION:  \nLet go of logic and let Suhani take over.\nSuhani Shah is the world’s most subscribed mentalist\, with over four million YouTube subscribers and two million Instagram followers. Suhani has been performing on stage since she was just seven years old and in the following two decades has presented over 5\,000 performances. A certified superstar in the magic industry\, she regularly tours to packed stadiums and has wowed some of the biggest names in entertainment and sport with her skills. \nAfter sell-out runs at the Edinburgh Fringe\, RISING festival and the Adelaide Fringe\, Suhani is bringing her smash-hit show Spellbound to Sydney for the first time. On her most recent trip to Australia she blew the country’s mind when she revealed Georgie Tunny’s secret crush and Waleed Aly’s phone passcode live on The Project. \nWith her charm\, incredible knowledge of human behaviour and unparalleled skills in mind reading\, Suhani will have the audiences on their feet. \nGET TICKETS HERE: https://strutnfret.com/shows/suhani-shah-spellbound/ 
URL:https://www.indianlink.com.au/whats-on/suhani-shah-spellbound/2025-08-07/
LOCATION:The Grand Electric\, 199 Cleveland Street Surry Hills\, Sydney\, NSW\, 2016\, Australia
ATTACH;FMTTYPE=image/png:https://p9dzm74w.tinifycdn.com/wp-content/uploads/2025/08/Suhani-Shah.png
GEO:-33.8894601;151.2033687
X-APPLE-STRUCTURED-LOCATION;VALUE=URI;X-ADDRESS=The Grand Electric 199 Cleveland Street Surry Hills Sydney NSW 2016 Australia;X-APPLE-RADIUS=500;X-TITLE=199 Cleveland Street Surry Hills:geo:151.2033687,-33.8894601
END:VEVENT
END:VCALENDAR