BEGIN:VCALENDAR
VERSION:2.0
PRODID:-//Indian Link - ECPv6.15.20//NONSGML v1.0//EN
CALSCALE:GREGORIAN
METHOD:PUBLISH
X-ORIGINAL-URL:https://www.indianlink.com.au
X-WR-CALDESC:Events for Indian Link
REFRESH-INTERVAL;VALUE=DURATION:PT1H
X-Robots-Tag:noindex
X-PUBLISHED-TTL:PT1H
BEGIN:VTIMEZONE
TZID:Australia/Sydney
BEGIN:STANDARD
TZOFFSETFROM:+1100
TZOFFSETTO:+1000
TZNAME:AEST
DTSTART:20240406T160000
END:STANDARD
BEGIN:DAYLIGHT
TZOFFSETFROM:+1000
TZOFFSETTO:+1100
TZNAME:AEDT
DTSTART:20241005T160000
END:DAYLIGHT
BEGIN:STANDARD
TZOFFSETFROM:+1100
TZOFFSETTO:+1000
TZNAME:AEST
DTSTART:20250405T160000
END:STANDARD
BEGIN:DAYLIGHT
TZOFFSETFROM:+1000
TZOFFSETTO:+1100
TZNAME:AEDT
DTSTART:20251004T160000
END:DAYLIGHT
BEGIN:STANDARD
TZOFFSETFROM:+1100
TZOFFSETTO:+1000
TZNAME:AEST
DTSTART:20260404T160000
END:STANDARD
BEGIN:DAYLIGHT
TZOFFSETFROM:+1000
TZOFFSETTO:+1100
TZNAME:AEDT
DTSTART:20261003T160000
END:DAYLIGHT
END:VTIMEZONE
BEGIN:VEVENT
DTSTART;TZID=Australia/Sydney:20250906T183000
DTEND;TZID=Australia/Sydney:20250906T223000
DTSTAMP:20260426T101620
CREATED:20250708T065904Z
LAST-MODIFIED:20250708T065904Z
UID:10008366-1757183400-1757197800@www.indianlink.com.au
SUMMARY:Tenader Katha - A Bengali Horror Drama
DESCRIPTION:  \nWhere Horror Meets Hilarity… \nTenader Katha is a theatrical thrill ride where horror meets hilarity on stage. A spine-tingling drama laced with sharp comedy and unexpected twists\, this Bengali horror play is unlike anything you’ve seen before. \nWritten by local playwrights and performed by a vibrant cast of multicultural volunteers\, every detail—from the eerie props to the hand-crafted costumes—has been created by the community\, for the community. \nDirected by a local talent from Actomania\, Tenader Katha is performed in Bengali\, with live English narration and scene-by-scene brochures so everyone can follow the fear… and the fun. \nThis is not just a play—it’s the result of four months of rehearsal\, cultural storytelling and shared passion. \nJoin us at Drum Theatre for a night of ghostly laughter\, cultural connection and theatrical magic. \nPresented by Actomania\, bringing multicultural stories to life at the Drum Theatre for over four years. \nDuration: 4 hours\, includes 20 minute interval. \nGET TICKETS HERE: Tenader Katha – A Bengali Horror Drama | Drum
URL:https://www.indianlink.com.au/whats-on/tenader-katha-a-bengali-horror-drama/
LOCATION:The Drum\, Drum Theatre Corner Lonsdale and Walker streets\, Dandenong\, Melbourne\, Victoria\, 3175\, Australia
ATTACH;FMTTYPE=image/png:https://p9dzm74w.tinifycdn.com/wp-content/uploads/2025/07/Teander-Katha.png
GEO:-37.9877251;145.2147628
X-APPLE-STRUCTURED-LOCATION;VALUE=URI;X-ADDRESS=The Drum Drum Theatre Corner Lonsdale and Walker streets Dandenong Melbourne Victoria 3175 Australia;X-APPLE-RADIUS=500;X-TITLE=Drum Theatre Corner Lonsdale and Walker streets\, Dandenong:geo:145.2147628,-37.9877251
END:VEVENT
END:VCALENDAR