BEGIN:VCALENDAR
VERSION:2.0
PRODID:-//Indian Link - ECPv6.15.20//NONSGML v1.0//EN
CALSCALE:GREGORIAN
METHOD:PUBLISH
X-WR-CALNAME:Indian Link
X-ORIGINAL-URL:https://www.indianlink.com.au
X-WR-CALDESC:Events for Indian Link
REFRESH-INTERVAL;VALUE=DURATION:PT1H
X-Robots-Tag:noindex
X-PUBLISHED-TTL:PT1H
BEGIN:VTIMEZONE
TZID:Australia/Sydney
BEGIN:STANDARD
TZOFFSETFROM:+1100
TZOFFSETTO:+1000
TZNAME:AEST
DTSTART:20240406T160000
END:STANDARD
BEGIN:DAYLIGHT
TZOFFSETFROM:+1000
TZOFFSETTO:+1100
TZNAME:AEDT
DTSTART:20241005T160000
END:DAYLIGHT
BEGIN:STANDARD
TZOFFSETFROM:+1100
TZOFFSETTO:+1000
TZNAME:AEST
DTSTART:20250405T160000
END:STANDARD
BEGIN:DAYLIGHT
TZOFFSETFROM:+1000
TZOFFSETTO:+1100
TZNAME:AEDT
DTSTART:20251004T160000
END:DAYLIGHT
BEGIN:STANDARD
TZOFFSETFROM:+1100
TZOFFSETTO:+1000
TZNAME:AEST
DTSTART:20260404T160000
END:STANDARD
BEGIN:DAYLIGHT
TZOFFSETFROM:+1000
TZOFFSETTO:+1100
TZNAME:AEDT
DTSTART:20261003T160000
END:DAYLIGHT
END:VTIMEZONE
BEGIN:VEVENT
DTSTART;TZID=Australia/Sydney:20250830T190000
DTEND;TZID=Australia/Sydney:20250830T190000
DTSTAMP:20260423T042058
CREATED:20250827T015915Z
LAST-MODIFIED:20250827T015915Z
UID:10008553-1756580400-1756580400@www.indianlink.com.au
SUMMARY:Manik’s Day Out – by Manik Mahna in Sydney
DESCRIPTION:Manik Mahna is a stand-up comedian from Delhi\, widely regarded as one of India’s most beloved and distinctive comedic voices. With his sharp wit\, relatable storytelling\, and unique delivery\, Manik has garnered a massive following in India. His YouTube video Classmates has become one of the most popular stand-up videos and is loved worldwide. Known for his observational humour and ability to connect with audiences\, Manik’s performances offer an authentic and refreshing take on the quirks of modern culture. \n\n\n\n\n\n\n\n\n\n\n\nGet your tickets here: https://madeinindiamagazine.com.au/maniks-day-out-by-manik-mahna-in-sydney/
URL:https://www.indianlink.com.au/whats-on/maniks-day-out-by-manik-mahna-in-sydney/
LOCATION:The Comedy Store\, The Entertainment Quarter\, 122 Lang Rd\, Moore Park\, Sydney\, NSW\, 2021\, Australia
ATTACH;FMTTYPE=image/png:https://p9dzm74w.tinifycdn.com/wp-content/uploads/2025/08/Maniks-Day-Out.png
GEO:-33.8947746;151.2270446
X-APPLE-STRUCTURED-LOCATION;VALUE=URI;X-ADDRESS=The Comedy Store The Entertainment Quarter 122 Lang Rd Moore Park Sydney NSW 2021 Australia;X-APPLE-RADIUS=500;X-TITLE=The Entertainment Quarter\, 122 Lang Rd\, Moore Park:geo:151.2270446,-33.8947746
END:VEVENT
BEGIN:VEVENT
DTSTART;TZID=Australia/Sydney:20250426T184500
DTEND;TZID=Australia/Sydney:20250426T194500
DTSTAMP:20260423T042058
CREATED:20250324T003610Z
LAST-MODIFIED:20250324T003610Z
UID:10003057-1745693100-1745696700@www.indianlink.com.au
SUMMARY:Brown Women Comedy - Sydney (Moore Park)
DESCRIPTION:  \nLaugh your heart out to an award-winning bold & besharam (shameless) line-up of Indian & South Asian Australian comedians living in Australia. No topic is too taboo. These women won’t be holding back. Your parents probably won’t approve as you trauma bond watching these women turn family expectations & life into comedy gold. With over 3000 people attending in 2024 and sold out shows across Melbourne\, Sydney & Adelaide – you won’t want to miss this one. \nFeaturing Daizy Maan\, Kru Harale\, Niv Prakasam & Ramya Ramapriya. \nDaizy’s Maan’s hilarious secret TikTok channel calling out sexism in Punjabi music and…well…Punjabi men\, has garnered over 25 million views. She’s decided to turn her sassy yet pendu (or ‘bogan’) Punjabi existence into stand-up\, asking “is this offensive when I say it in English?” every two minutes. Described as “a sharp storyteller who speaks with laid-back confidence”\, Daizy once had a real day job leading startup programs for universities and is now “self-employed”\, at least according to the last census. \nWith her quirky take on life\, Ramya Ramapriyablends sharp societal observations with humour. Featured on Comicstaan and Amazon Prime\, she co-wrote Netflix’s Guns and Gulaabs. Known for her hilarious IG skits. Born in Mysore but brought up all over India\, she’s ready to shake things up down under. \nNiv Prakasam won the reality TV show Queens of Comedy that aired on the TLC channel in 2017 kick starting her comedy career. She appeared on the Netflix show Ladies Up in 2020. She has toured the country with her material. Her first YouTube video garnered 5.7M views and with 82\,000 subscribers she’s just getting started. \nDescribed as both “sharp” and “anxious” by the Sydney Morning Herald\, a RAW Comedy National Finalist in 2022\, Guneet Kaur’s deadpan observations and hilarious takes on the complexities of her identity will leave you in stitches. \nMade possible thanks to support from the City of Melbourne\, Australian Government via Centre for Australia- India Relations.  \nVisit brownwomencomedy.com for more info & extra guest comedians. \nGET TICKETS HERE: BROWN WOMEN COMEDY @ THE COMEDY STORE – SYDNEY COMEDY FESTIVAL
URL:https://www.indianlink.com.au/whats-on/brown-women-comedy-sydney-moore-park/
LOCATION:The Comedy Store\, The Entertainment Quarter\, 122 Lang Rd\, Moore Park\, Sydney\, NSW\, 2021\, Australia
ATTACH;FMTTYPE=image/png:https://p9dzm74w.tinifycdn.com/wp-content/uploads/2025/03/Brown-Women-Comedy.png
GEO:-33.8947746;151.2270446
X-APPLE-STRUCTURED-LOCATION;VALUE=URI;X-ADDRESS=The Comedy Store The Entertainment Quarter 122 Lang Rd Moore Park Sydney NSW 2021 Australia;X-APPLE-RADIUS=500;X-TITLE=The Entertainment Quarter\, 122 Lang Rd\, Moore Park:geo:151.2270446,-33.8947746
END:VEVENT
END:VCALENDAR