BEGIN:VCALENDAR
VERSION:2.0
PRODID:-//Indian Link - ECPv6.15.20//NONSGML v1.0//EN
CALSCALE:GREGORIAN
METHOD:PUBLISH
X-WR-CALNAME:Indian Link
X-ORIGINAL-URL:https://www.indianlink.com.au
X-WR-CALDESC:Events for Indian Link
REFRESH-INTERVAL;VALUE=DURATION:PT1H
X-Robots-Tag:noindex
X-PUBLISHED-TTL:PT1H
BEGIN:VTIMEZONE
TZID:Australia/Sydney
BEGIN:STANDARD
TZOFFSETFROM:+1100
TZOFFSETTO:+1000
TZNAME:AEST
DTSTART:20240406T160000
END:STANDARD
BEGIN:DAYLIGHT
TZOFFSETFROM:+1000
TZOFFSETTO:+1100
TZNAME:AEDT
DTSTART:20241005T160000
END:DAYLIGHT
BEGIN:STANDARD
TZOFFSETFROM:+1100
TZOFFSETTO:+1000
TZNAME:AEST
DTSTART:20250405T160000
END:STANDARD
BEGIN:DAYLIGHT
TZOFFSETFROM:+1000
TZOFFSETTO:+1100
TZNAME:AEDT
DTSTART:20251004T160000
END:DAYLIGHT
BEGIN:STANDARD
TZOFFSETFROM:+1100
TZOFFSETTO:+1000
TZNAME:AEST
DTSTART:20260404T160000
END:STANDARD
BEGIN:DAYLIGHT
TZOFFSETFROM:+1000
TZOFFSETTO:+1100
TZNAME:AEDT
DTSTART:20261003T160000
END:DAYLIGHT
END:VTIMEZONE
BEGIN:VEVENT
DTSTART;TZID=Australia/Sydney:20250323T155000
DTEND;TZID=Australia/Sydney:20250323T165000
DTSTAMP:20260423T021700
CREATED:20250228T121343Z
LAST-MODIFIED:20250228T122218Z
UID:10003007-1742745000-1742748600@www.indianlink.com.au
SUMMARY:How Now Brown Rao - Adelaide Fringe Festival
DESCRIPTION:  \nRao is an astronomer-turned-comedian and is increasingly unsure whether he made the right decisions. He ended up working at a prestigious university\, and it was not as glamorous as he had hoped. \nJoin a brown guy trying to get by and laugh at a reluctant academic trying to navigate a world of parking fines and rent rises. All he wants is to cling to the inner child who plays on the swing. Instead\, he sends an upsetting amount of emails and does too much math (yuck). \nCome\, come. It will be a load of fun\, and you will even learn a little bit of astronomy along the way \nGET TICKETS HERE: How Now Brown Rao | Adelaide Fringe
URL:https://www.indianlink.com.au/whats-on/how-now-brown-rao/2025-03-23/
LOCATION:The Chapel  at The Courtyard of Curiosities at the Migration Museum\, Migration Museum\, 82 Kintore Ave\, Adelaide\, SA\, 5000\, Australia
ATTACH;FMTTYPE=image/png:https://p9dzm74w.tinifycdn.com/wp-content/uploads/2025/02/Brown-Rao.png
GEO:-34.9197336;138.6022379
X-APPLE-STRUCTURED-LOCATION;VALUE=URI;X-ADDRESS=The Chapel  at The Courtyard of Curiosities at the Migration Museum Migration Museum 82 Kintore Ave Adelaide SA 5000 Australia;X-APPLE-RADIUS=500;X-TITLE=Migration Museum\, 82 Kintore Ave:geo:138.6022379,-34.9197336
END:VEVENT
BEGIN:VEVENT
DTSTART;TZID=Australia/Sydney:20250322T155000
DTEND;TZID=Australia/Sydney:20250322T165000
DTSTAMP:20260423T021700
CREATED:20250228T121343Z
LAST-MODIFIED:20250228T122218Z
UID:10003006-1742658600-1742662200@www.indianlink.com.au
SUMMARY:How Now Brown Rao - Adelaide Fringe Festival
DESCRIPTION:  \nRao is an astronomer-turned-comedian and is increasingly unsure whether he made the right decisions. He ended up working at a prestigious university\, and it was not as glamorous as he had hoped. \nJoin a brown guy trying to get by and laugh at a reluctant academic trying to navigate a world of parking fines and rent rises. All he wants is to cling to the inner child who plays on the swing. Instead\, he sends an upsetting amount of emails and does too much math (yuck). \nCome\, come. It will be a load of fun\, and you will even learn a little bit of astronomy along the way \nGET TICKETS HERE: How Now Brown Rao | Adelaide Fringe
URL:https://www.indianlink.com.au/whats-on/how-now-brown-rao/2025-03-22/
LOCATION:The Chapel  at The Courtyard of Curiosities at the Migration Museum\, Migration Museum\, 82 Kintore Ave\, Adelaide\, SA\, 5000\, Australia
ATTACH;FMTTYPE=image/png:https://p9dzm74w.tinifycdn.com/wp-content/uploads/2025/02/Brown-Rao.png
GEO:-34.9197336;138.6022379
X-APPLE-STRUCTURED-LOCATION;VALUE=URI;X-ADDRESS=The Chapel  at The Courtyard of Curiosities at the Migration Museum Migration Museum 82 Kintore Ave Adelaide SA 5000 Australia;X-APPLE-RADIUS=500;X-TITLE=Migration Museum\, 82 Kintore Ave:geo:138.6022379,-34.9197336
END:VEVENT
END:VCALENDAR