BEGIN:VCALENDAR
VERSION:2.0
PRODID:-//Indian Link - ECPv6.15.20//NONSGML v1.0//EN
CALSCALE:GREGORIAN
METHOD:PUBLISH
X-WR-CALNAME:Indian Link
X-ORIGINAL-URL:https://www.indianlink.com.au
X-WR-CALDESC:Events for Indian Link
REFRESH-INTERVAL;VALUE=DURATION:PT1H
X-Robots-Tag:noindex
X-PUBLISHED-TTL:PT1H
BEGIN:VTIMEZONE
TZID:Australia/Sydney
BEGIN:STANDARD
TZOFFSETFROM:+1100
TZOFFSETTO:+1000
TZNAME:AEST
DTSTART:20240406T160000
END:STANDARD
BEGIN:DAYLIGHT
TZOFFSETFROM:+1000
TZOFFSETTO:+1100
TZNAME:AEDT
DTSTART:20241005T160000
END:DAYLIGHT
BEGIN:STANDARD
TZOFFSETFROM:+1100
TZOFFSETTO:+1000
TZNAME:AEST
DTSTART:20250405T160000
END:STANDARD
BEGIN:DAYLIGHT
TZOFFSETFROM:+1000
TZOFFSETTO:+1100
TZNAME:AEDT
DTSTART:20251004T160000
END:DAYLIGHT
BEGIN:STANDARD
TZOFFSETFROM:+1100
TZOFFSETTO:+1000
TZNAME:AEST
DTSTART:20260404T160000
END:STANDARD
BEGIN:DAYLIGHT
TZOFFSETFROM:+1000
TZOFFSETTO:+1100
TZNAME:AEDT
DTSTART:20261003T160000
END:DAYLIGHT
BEGIN:STANDARD
TZOFFSETFROM:+1100
TZOFFSETTO:+1000
TZNAME:AEST
DTSTART:20270403T160000
END:STANDARD
BEGIN:DAYLIGHT
TZOFFSETFROM:+1000
TZOFFSETTO:+1100
TZNAME:AEDT
DTSTART:20271002T160000
END:DAYLIGHT
END:VTIMEZONE
BEGIN:VEVENT
DTSTART;TZID=Australia/Sydney:20260222T170000
DTEND;TZID=Australia/Sydney:20260222T203000
DTSTAMP:20260426T031103
CREATED:20260203T001725Z
LAST-MODIFIED:20260203T001725Z
UID:10008762-1771779600-1771792200@www.indianlink.com.au
SUMMARY:The BhuMeJha Project: A connection across lands. A symposium of cultures.
DESCRIPTION:  \nNot just a performance. An expression. An expression that reflects upon a bond that\ntranscends time and goes beyond land. The BhuMeJha Project is an ongoing pursuit for\nconnection between the ancient cultures of Gondwanaland. \nEscape into nature this February for an immersive evening of ceremony and culture\, song and dance\, storytelling and ritual. An evening that will see celebrated songman and ceremonial leader Daniel Wilfred from Ngukurr (Arnhem Land) interact with dancers\, musicians and elders from Noongar Boodjar (Perth)\, India and Malaysia. Come along for an immersive experience that invokes the energy of a flowing river – Mother Ganga\, The Derbarl Yerrigan. \nA space of healing\, peace and harmony. \nWe welcome you to The BhuMeJha Tribe. \nKaya. Hari Om. \nExperience details:  \n5pm Arrive and Align (preshow experience)\n6.30pm Into the Silence (performance experience)\n7.30pm Reflect and Rejoice (celebration of culture) \nTicket Details:  \nTicket Price: AUD$ 59\nBuy 5 tickets to this performance and receive 1 additional free ticket. Contact\nboxoffice@perthfestival.com.au if you would like to make use of this offer. \nFor more info:  \nBhuMeJha 2024 @ Art Sanctuary Foundation \nResearching Gondwana \nChitAmbara Website \nGET TICKETS HERE: https://www.perthfestival.com.au/program/season-2026/the-bhumejha-project 
URL:https://www.indianlink.com.au/whats-on/the-bhumejha-project-a-connection-across-lands-a-symposium-of-cultures/2026-02-22/
LOCATION:The Art Sanctuary – Kelmscott\, 1 Cockram Rd\, Kelmscott\, WA\, 6111\, Australia
ATTACH;FMTTYPE=image/jpeg:https://p9dzm74w.tinifycdn.com/wp-content/uploads/2026/02/The-Bhumejha-project.jpg
GEO:-32.0997489;116.016775
X-APPLE-STRUCTURED-LOCATION;VALUE=URI;X-ADDRESS=The Art Sanctuary – Kelmscott 1 Cockram Rd Kelmscott WA 6111 Australia;X-APPLE-RADIUS=500;X-TITLE=1 Cockram Rd:geo:116.016775,-32.0997489
END:VEVENT
BEGIN:VEVENT
DTSTART;TZID=Australia/Sydney:20260221T170000
DTEND;TZID=Australia/Sydney:20260221T203000
DTSTAMP:20260426T031103
CREATED:20260203T001725Z
LAST-MODIFIED:20260203T001725Z
UID:10008761-1771693200-1771705800@www.indianlink.com.au
SUMMARY:The BhuMeJha Project: A connection across lands. A symposium of cultures.
DESCRIPTION:  \nNot just a performance. An expression. An expression that reflects upon a bond that\ntranscends time and goes beyond land. The BhuMeJha Project is an ongoing pursuit for\nconnection between the ancient cultures of Gondwanaland. \nEscape into nature this February for an immersive evening of ceremony and culture\, song and dance\, storytelling and ritual. An evening that will see celebrated songman and ceremonial leader Daniel Wilfred from Ngukurr (Arnhem Land) interact with dancers\, musicians and elders from Noongar Boodjar (Perth)\, India and Malaysia. Come along for an immersive experience that invokes the energy of a flowing river – Mother Ganga\, The Derbarl Yerrigan. \nA space of healing\, peace and harmony. \nWe welcome you to The BhuMeJha Tribe. \nKaya. Hari Om. \nExperience details:  \n5pm Arrive and Align (preshow experience)\n6.30pm Into the Silence (performance experience)\n7.30pm Reflect and Rejoice (celebration of culture) \nTicket Details:  \nTicket Price: AUD$ 59\nBuy 5 tickets to this performance and receive 1 additional free ticket. Contact\nboxoffice@perthfestival.com.au if you would like to make use of this offer. \nFor more info:  \nBhuMeJha 2024 @ Art Sanctuary Foundation \nResearching Gondwana \nChitAmbara Website \nGET TICKETS HERE: https://www.perthfestival.com.au/program/season-2026/the-bhumejha-project 
URL:https://www.indianlink.com.au/whats-on/the-bhumejha-project-a-connection-across-lands-a-symposium-of-cultures/2026-02-21/
LOCATION:The Art Sanctuary – Kelmscott\, 1 Cockram Rd\, Kelmscott\, WA\, 6111\, Australia
ATTACH;FMTTYPE=image/jpeg:https://p9dzm74w.tinifycdn.com/wp-content/uploads/2026/02/The-Bhumejha-project.jpg
GEO:-32.0997489;116.016775
X-APPLE-STRUCTURED-LOCATION;VALUE=URI;X-ADDRESS=The Art Sanctuary – Kelmscott 1 Cockram Rd Kelmscott WA 6111 Australia;X-APPLE-RADIUS=500;X-TITLE=1 Cockram Rd:geo:116.016775,-32.0997489
END:VEVENT
BEGIN:VEVENT
DTSTART;TZID=Australia/Sydney:20251102T103000
DTEND;TZID=Australia/Sydney:20251102T140000
DTSTAMP:20260426T031103
CREATED:20250807T030120Z
LAST-MODIFIED:20250807T030120Z
UID:10008433-1762079400-1762092000@www.indianlink.com.au
SUMMARY:Homa Therapy
DESCRIPTION:Experience the transformative power of Homa Therapy (Agnihotra) – an ancient Vedic fire ritual that purifies the environment and promotes holistic well-being. Conducted with sacred mantras and a healing fire in a copper pyramid\, this practice is believed to reduce pollution\, restore balance to nature\, and support physical and mental health. \nIn this immersive session\, The Art Sanctuary invites you to: \n\n\nHeal the body and mind through Gayatri Mantra meditation and fire therapy \n\n\nEnhance personal well-being in a tranquil space for reflection and rejuvenation \n\n\nSupport environmental healing with proven benefits to air\, water\, and soil quality \n\n\nFrom stress relief and de-addiction to ecological restoration and spiritual upliftment — this is your invitation to connect with ancient wisdom and modern sustainability in harmony.
URL:https://www.indianlink.com.au/whats-on/homa-therapy/2025-11-02/
LOCATION:The Art Sanctuary – Kelmscott\, 1 Cockram Rd\, Kelmscott\, WA\, 6111\, Australia
CATEGORIES:Happening in Perth
ATTACH;FMTTYPE=image/jpeg:https://p9dzm74w.tinifycdn.com/wp-content/uploads/2025/08/Homa-Therapy.jpg
GEO:-32.0997489;116.016775
X-APPLE-STRUCTURED-LOCATION;VALUE=URI;X-ADDRESS=The Art Sanctuary – Kelmscott 1 Cockram Rd Kelmscott WA 6111 Australia;X-APPLE-RADIUS=500;X-TITLE=1 Cockram Rd:geo:116.016775,-32.0997489
END:VEVENT
BEGIN:VEVENT
DTSTART;TZID=Australia/Sydney:20251005T103000
DTEND;TZID=Australia/Sydney:20251005T140000
DTSTAMP:20260426T031103
CREATED:20250807T030120Z
LAST-MODIFIED:20250807T030120Z
UID:10008432-1759660200-1759672800@www.indianlink.com.au
SUMMARY:Homa Therapy
DESCRIPTION:Experience the transformative power of Homa Therapy (Agnihotra) – an ancient Vedic fire ritual that purifies the environment and promotes holistic well-being. Conducted with sacred mantras and a healing fire in a copper pyramid\, this practice is believed to reduce pollution\, restore balance to nature\, and support physical and mental health. \nIn this immersive session\, The Art Sanctuary invites you to: \n\n\nHeal the body and mind through Gayatri Mantra meditation and fire therapy \n\n\nEnhance personal well-being in a tranquil space for reflection and rejuvenation \n\n\nSupport environmental healing with proven benefits to air\, water\, and soil quality \n\n\nFrom stress relief and de-addiction to ecological restoration and spiritual upliftment — this is your invitation to connect with ancient wisdom and modern sustainability in harmony.
URL:https://www.indianlink.com.au/whats-on/homa-therapy/2025-10-05/
LOCATION:The Art Sanctuary – Kelmscott\, 1 Cockram Rd\, Kelmscott\, WA\, 6111\, Australia
CATEGORIES:Happening in Perth
ATTACH;FMTTYPE=image/jpeg:https://p9dzm74w.tinifycdn.com/wp-content/uploads/2025/08/Homa-Therapy.jpg
GEO:-32.0997489;116.016775
X-APPLE-STRUCTURED-LOCATION;VALUE=URI;X-ADDRESS=The Art Sanctuary – Kelmscott 1 Cockram Rd Kelmscott WA 6111 Australia;X-APPLE-RADIUS=500;X-TITLE=1 Cockram Rd:geo:116.016775,-32.0997489
END:VEVENT
BEGIN:VEVENT
DTSTART;TZID=Australia/Sydney:20250907T103000
DTEND;TZID=Australia/Sydney:20250907T140000
DTSTAMP:20260426T031103
CREATED:20250807T030120Z
LAST-MODIFIED:20250807T030120Z
UID:10008431-1757241000-1757253600@www.indianlink.com.au
SUMMARY:Homa Therapy
DESCRIPTION:Experience the transformative power of Homa Therapy (Agnihotra) – an ancient Vedic fire ritual that purifies the environment and promotes holistic well-being. Conducted with sacred mantras and a healing fire in a copper pyramid\, this practice is believed to reduce pollution\, restore balance to nature\, and support physical and mental health. \nIn this immersive session\, The Art Sanctuary invites you to: \n\n\nHeal the body and mind through Gayatri Mantra meditation and fire therapy \n\n\nEnhance personal well-being in a tranquil space for reflection and rejuvenation \n\n\nSupport environmental healing with proven benefits to air\, water\, and soil quality \n\n\nFrom stress relief and de-addiction to ecological restoration and spiritual upliftment — this is your invitation to connect with ancient wisdom and modern sustainability in harmony.
URL:https://www.indianlink.com.au/whats-on/homa-therapy/2025-09-07/
LOCATION:The Art Sanctuary – Kelmscott\, 1 Cockram Rd\, Kelmscott\, WA\, 6111\, Australia
CATEGORIES:Happening in Perth
ATTACH;FMTTYPE=image/jpeg:https://p9dzm74w.tinifycdn.com/wp-content/uploads/2025/08/Homa-Therapy.jpg
GEO:-32.0997489;116.016775
X-APPLE-STRUCTURED-LOCATION;VALUE=URI;X-ADDRESS=The Art Sanctuary – Kelmscott 1 Cockram Rd Kelmscott WA 6111 Australia;X-APPLE-RADIUS=500;X-TITLE=1 Cockram Rd:geo:116.016775,-32.0997489
END:VEVENT
BEGIN:VEVENT
DTSTART;TZID=Australia/Sydney:20250810T103000
DTEND;TZID=Australia/Sydney:20250810T140000
DTSTAMP:20260426T031103
CREATED:20250807T030120Z
LAST-MODIFIED:20250807T030120Z
UID:10008430-1754821800-1754834400@www.indianlink.com.au
SUMMARY:Homa Therapy
DESCRIPTION:Experience the transformative power of Homa Therapy (Agnihotra) – an ancient Vedic fire ritual that purifies the environment and promotes holistic well-being. Conducted with sacred mantras and a healing fire in a copper pyramid\, this practice is believed to reduce pollution\, restore balance to nature\, and support physical and mental health. \nIn this immersive session\, The Art Sanctuary invites you to: \n\n\nHeal the body and mind through Gayatri Mantra meditation and fire therapy \n\n\nEnhance personal well-being in a tranquil space for reflection and rejuvenation \n\n\nSupport environmental healing with proven benefits to air\, water\, and soil quality \n\n\nFrom stress relief and de-addiction to ecological restoration and spiritual upliftment — this is your invitation to connect with ancient wisdom and modern sustainability in harmony.
URL:https://www.indianlink.com.au/whats-on/homa-therapy/2025-08-10/
LOCATION:The Art Sanctuary – Kelmscott\, 1 Cockram Rd\, Kelmscott\, WA\, 6111\, Australia
CATEGORIES:Happening in Perth
ATTACH;FMTTYPE=image/jpeg:https://p9dzm74w.tinifycdn.com/wp-content/uploads/2025/08/Homa-Therapy.jpg
GEO:-32.0997489;116.016775
X-APPLE-STRUCTURED-LOCATION;VALUE=URI;X-ADDRESS=The Art Sanctuary – Kelmscott 1 Cockram Rd Kelmscott WA 6111 Australia;X-APPLE-RADIUS=500;X-TITLE=1 Cockram Rd:geo:116.016775,-32.0997489
END:VEVENT
END:VCALENDAR