BEGIN:VCALENDAR
VERSION:2.0
PRODID:-//Indian Link - ECPv6.15.20//NONSGML v1.0//EN
CALSCALE:GREGORIAN
METHOD:PUBLISH
X-WR-CALNAME:Indian Link
X-ORIGINAL-URL:https://www.indianlink.com.au
X-WR-CALDESC:Events for Indian Link
REFRESH-INTERVAL;VALUE=DURATION:PT1H
X-Robots-Tag:noindex
X-PUBLISHED-TTL:PT1H
BEGIN:VTIMEZONE
TZID:Australia/Sydney
BEGIN:STANDARD
TZOFFSETFROM:+1100
TZOFFSETTO:+1000
TZNAME:AEST
DTSTART:20240406T160000
END:STANDARD
BEGIN:DAYLIGHT
TZOFFSETFROM:+1000
TZOFFSETTO:+1100
TZNAME:AEDT
DTSTART:20241005T160000
END:DAYLIGHT
BEGIN:STANDARD
TZOFFSETFROM:+1100
TZOFFSETTO:+1000
TZNAME:AEST
DTSTART:20250405T160000
END:STANDARD
BEGIN:DAYLIGHT
TZOFFSETFROM:+1000
TZOFFSETTO:+1100
TZNAME:AEDT
DTSTART:20251004T160000
END:DAYLIGHT
BEGIN:STANDARD
TZOFFSETFROM:+1100
TZOFFSETTO:+1000
TZNAME:AEST
DTSTART:20260404T160000
END:STANDARD
BEGIN:DAYLIGHT
TZOFFSETFROM:+1000
TZOFFSETTO:+1100
TZNAME:AEDT
DTSTART:20261003T160000
END:DAYLIGHT
END:VTIMEZONE
BEGIN:VEVENT
DTSTART;TZID=Australia/Sydney:20251006T183000
DTEND;TZID=Australia/Sydney:20251006T200000
DTSTAMP:20260423T084733
CREATED:20250827T004946Z
LAST-MODIFIED:20250827T004946Z
UID:10008543-1759775400-1759780800@www.indianlink.com.au
SUMMARY:Lucky Ali 'Journey Through the Decades' - Sydney
DESCRIPTION:One of India’s most distinctive and beloved singer-songwriters\, Lucky Ali\, is set to return to Australia and New Zealand this October with a brand new concert experience and a Journey Through the Decades Tour. Revered for his soulful voice and timeless melodies\, Lucky Ali will take fans on a nostalgic musical journey spanning his celebrated career\, making stops at Adelaide’s Norwood Concert Hall\, the Sydney Opera House\, Northcote Theatre and Auckland’s Kiri Te Kanawa Theatre. \n“It’s always a joy to share my music with audiences who have embraced it across time and distance. Returning to Australia and New Zealand feels like reconnecting with old friends. Performing at the iconic Sydney Opera House is a dream every artist carries\, and to experience that in such a beautiful country is truly humbling. I’m equally honoured to be part of the BNZ Diwali function in Auckland\, celebrating the spirit and colours of our shared culture. I look forward to creating moments that we can carry in our hearts for years to come.” – Lucky Ali \nLucky Ali\, an Indian actor and singer\, is most renowned for his singing career\, which has connected generations through melody\, memory\, and meaning. Ali’s debut album\, Sunoh\, was an instant success\, establishing him as a prominent figure in the Indian pop scene. In 1996\, he received a Screen Award\, followed by the Channel V Viewers’ Choice Award in 1997\, both for Best Pop Male Vocalist\, for his work on Sunoh. The album remained on the MTV Asia Charts for 60 weeks\, and its song ‘O Sanam’ is considered one of the best Indian pop songs. Lucky went on to release his second album\, Sifar\, third album\, Aks\, both well received by music enthusiasts. \nHis distinctive style\, characterised by his husky voice and ballad-style singing\, and his lyrics explore unique themes such as freedom\, loneliness\, purposelessness\, and wanderings. Lucky’s songs have transcended time\, becoming cultural touchstones for audiences across generations\, evoking nostalgia\, emotion\, and authenticity. \nOutside of music\, he has lent his voice to Hrithik Roshan for the songs ‘Na Tum Jaano Na Hum’ and ‘Ek Pal Ka Jeena’ in the film Kaho Naa Pyaar Hai\, earning him the Filmfare award for Best Male Playback Singer for ‘Na Tum Jaano Na Hum’. Lucky Ali has also appeared in several Hindi films\, including Hamare Tumhare (1979)\, Trikaal (1985)\, Yehi Hai Zindagi (1997)\, Kaante (2002)\, Sur – The Melody of Life (2002)\, and Kasak (2005). \nThis October\, Lucky Ali brings his magic to Australia and New Zealand with the Journey Through the Decades Tour. Beloved tracks like O Sanam\, Na Tum Jano Na Hum\, Gori Teri Aankhen to Ek Pal Ka Jeena and Safarnama will come alive in this intimate series of performances. \nGrab your tickets now for an immersive concert experience that honours the extraordinary musical legacy of Lucky Ali. \nGet your tickets here: https://www.eventfinda.com.au/2025/lucky-ali-journey-through-the-decades-sydney/sydney/circular-quay
URL:https://www.indianlink.com.au/whats-on/lucky-ali-journey-through-the-decades-sydney/
LOCATION:Sydney Opera House\, Bennelong Point\, Sydney\, NSW\, 2000\, Australia
ATTACH;FMTTYPE=image/png:https://p9dzm74w.tinifycdn.com/wp-content/uploads/2025/08/Lucky-Ali.png
GEO:-33.8565361;151.2149964
X-APPLE-STRUCTURED-LOCATION;VALUE=URI;X-ADDRESS=Sydney Opera House Bennelong Point Sydney NSW 2000 Australia;X-APPLE-RADIUS=500;X-TITLE=Bennelong Point:geo:151.2149964,-33.8565361
END:VEVENT
BEGIN:VEVENT
DTSTART;TZID=Australia/Sydney:20250517T140000
DTEND;TZID=Australia/Sydney:20250517T170000
DTSTAMP:20260423T084733
CREATED:20250514T002010Z
LAST-MODIFIED:20250514T002129Z
UID:10008292-1747490400-1747501200@www.indianlink.com.au
SUMMARY:Shanul Sharma performs in Rossini in Paris
DESCRIPTION:Join Sydney Philharmonia Choirs for a special one-off concert celebrating Gioachino Rossini’s fascinating Parisian years\, with two works from vastly different phases of his career. \nExperience the dramatic sweep of Guillaume Tell (1829)\, known for its iconic overture made famous by The Lone Ranger\, alongside the rarely performed Petite messe solennelle (1864) – Rossini’s joyful\, expansive “little” mass\, written towards the end of his life. \nConducted by Brett Weymark OAM\, this uplifting afternoon features a 450-voice Festival Chorus\, the Sydney Philharmonia Orchestra led by violinist Fiona Ziegler\, and stellar soloists including Celeste Lazarenko\, Ashlyn Tymms\, and Opera Australia stars Shanul Sharma and Nathan Lay. \nThe concert also launches a new collaboration between SPC and Opera Australia\, with OA Chorus members joining this spectacular celebration. \nSaturday May 17\, 2pm – Sydney Opera House Concert HallTickets from $45 ($41 Concession | $30 Under 30s) + booking feeBook now: sydneyphilharmonia.com.au/rossini/ \nFree pre-concert talk at 1.15pm in the Northern Foyer. \nDiscover the “two Rossinis” – the brilliant young opera star and the witty older composer who returned to Paris with renewed joy and creativity.
URL:https://www.indianlink.com.au/whats-on/shanul-sharma-performs-in-sydney-philharmonia-choirs-rossini-in-paris/
LOCATION:Sydney Opera House\, Bennelong Point\, Sydney\, NSW\, 2000\, Australia
CATEGORIES:Classical Music
ATTACH;FMTTYPE=image/jpeg:https://p9dzm74w.tinifycdn.com/wp-content/uploads/2025/05/Rossini-In-Paris-16x9-Hero-e1747181996218.jpg
GEO:-33.8565361;151.2149964
X-APPLE-STRUCTURED-LOCATION;VALUE=URI;X-ADDRESS=Sydney Opera House Bennelong Point Sydney NSW 2000 Australia;X-APPLE-RADIUS=500;X-TITLE=Bennelong Point:geo:151.2149964,-33.8565361
END:VEVENT
END:VCALENDAR